BEGIN:VCALENDAR
VERSION:2.0
PRODID:-//AIA Santa Barbara - ECPv6.15.20//NONSGML v1.0//EN
CALSCALE:GREGORIAN
METHOD:PUBLISH
X-WR-CALNAME:AIA Santa Barbara
X-ORIGINAL-URL:https://aiasb.com
X-WR-CALDESC:Events for AIA Santa Barbara
REFRESH-INTERVAL;VALUE=DURATION:PT1H
X-Robots-Tag:noindex
X-PUBLISHED-TTL:PT1H
BEGIN:VTIMEZONE
TZID:America/Los_Angeles
BEGIN:DAYLIGHT
TZOFFSETFROM:-0800
TZOFFSETTO:-0700
TZNAME:PDT
DTSTART:20240310T100000
END:DAYLIGHT
BEGIN:STANDARD
TZOFFSETFROM:-0700
TZOFFSETTO:-0800
TZNAME:PST
DTSTART:20241103T090000
END:STANDARD
BEGIN:DAYLIGHT
TZOFFSETFROM:-0800
TZOFFSETTO:-0700
TZNAME:PDT
DTSTART:20250309T100000
END:DAYLIGHT
BEGIN:STANDARD
TZOFFSETFROM:-0700
TZOFFSETTO:-0800
TZNAME:PST
DTSTART:20251102T090000
END:STANDARD
BEGIN:DAYLIGHT
TZOFFSETFROM:-0800
TZOFFSETTO:-0700
TZNAME:PDT
DTSTART:20260308T100000
END:DAYLIGHT
BEGIN:STANDARD
TZOFFSETFROM:-0700
TZOFFSETTO:-0800
TZNAME:PST
DTSTART:20261101T090000
END:STANDARD
END:VTIMEZONE
BEGIN:VEVENT
DTSTART;TZID=America/Los_Angeles:20250618T120000
DTEND;TZID=America/Los_Angeles:20250618T130000
DTSTAMP:20260423T231210
CREATED:20250422T183931Z
LAST-MODIFIED:20250422T183931Z
UID:10626-1750248000-1750251600@aiasb.com
SUMMARY:KBKG Lunch & Learn
DESCRIPTION:Energy Policy Act (EPACT) and Architecture\n1 LU \nLunch Provided! No charge for members \nJoin us for a discussion of the section 179D Deduction and how it can benefit architectural firms. We will be discussing the background of this powerful green building deduction as well as the recent changes created by the Inflation Reduction Act of 2022. This will include details about both the expansion and the increased impact of 179D going forward. We will also discuss the alternative qualification path known as the Retrofit Program and what this new path means for Architects\, building owners\, and other designers of buildings. Attendees will also learn who is eligible to receive these benefits\, what is required as part of the qualification calculations\, and which green energy strategies are eligible. \nLEARNING OBJECTIVES: \n\n\n-Overview of the 179D Deduction \n-Overview of the Retrofit Program for 179D \n-The expansion and the increased impact of 179D in future years \n-What the Inflation Reduction Act means for building owners and designers of buildings \n-How to qualify for the bonus rate (up to $5.00 per square foot) vs. the base rate (up to $1.00 per square foot)
URL:https://aiasb.com/event/kbkg/
LOCATION:AIA Santa Barbara\, 229 E Victoria St\, Santa Barbara\, CA\, 93101\, United States
END:VEVENT
END:VCALENDAR