BEGIN:VCALENDAR
VERSION:2.0
PRODID:-//AIA Santa Barbara - ECPv6.15.20//NONSGML v1.0//EN
CALSCALE:GREGORIAN
METHOD:PUBLISH
X-WR-CALNAME:AIA Santa Barbara
X-ORIGINAL-URL:https://aiasb.com
X-WR-CALDESC:Events for AIA Santa Barbara
REFRESH-INTERVAL;VALUE=DURATION:PT1H
X-Robots-Tag:noindex
X-PUBLISHED-TTL:PT1H
BEGIN:VTIMEZONE
TZID:America/Los_Angeles
BEGIN:DAYLIGHT
TZOFFSETFROM:-0800
TZOFFSETTO:-0700
TZNAME:PDT
DTSTART:20240310T100000
END:DAYLIGHT
BEGIN:STANDARD
TZOFFSETFROM:-0700
TZOFFSETTO:-0800
TZNAME:PST
DTSTART:20241103T090000
END:STANDARD
BEGIN:DAYLIGHT
TZOFFSETFROM:-0800
TZOFFSETTO:-0700
TZNAME:PDT
DTSTART:20250309T100000
END:DAYLIGHT
BEGIN:STANDARD
TZOFFSETFROM:-0700
TZOFFSETTO:-0800
TZNAME:PST
DTSTART:20251102T090000
END:STANDARD
BEGIN:DAYLIGHT
TZOFFSETFROM:-0800
TZOFFSETTO:-0700
TZNAME:PDT
DTSTART:20260308T100000
END:DAYLIGHT
BEGIN:STANDARD
TZOFFSETFROM:-0700
TZOFFSETTO:-0800
TZNAME:PST
DTSTART:20261101T090000
END:STANDARD
END:VTIMEZONE
BEGIN:VEVENT
DTSTART;TZID=America/Los_Angeles:20250701T173000
DTEND;TZID=America/Los_Angeles:20250701T184500
DTSTAMP:20260423T204418
CREATED:20250114T202022Z
LAST-MODIFIED:20250508T164723Z
UID:10322-1751391000-1751395500@aiasb.com
SUMMARY:Women in Architecture with Stephanie Campbell
DESCRIPTION:Tuesday\, July 1st @ 5:30 PM\nLocation: La Lieff Winery \nStephanie Campbell\, Project Manager of Projects General Construction\nStephanie is a native of Santa Barbara and a graduate of UCSB. After graduating with a Bachelor of Science degree in Cultural Anthropology and Environmental Studies\, she moved to Vail\, Colorado\, where she designed interior spaces and cabinetry for high-end homes and resorts. Fifteen years later she made her way back to Santa Barbara and brought her talent and experience to Projects. She’ll be sharing about her career path and her experience working in construction.
URL:https://aiasb.com/event/july-women-in-architecture/
LOCATION:CA
END:VEVENT
END:VCALENDAR