BEGIN:VCALENDAR
VERSION:2.0
PRODID:-//AIA Santa Barbara - ECPv6.15.20//NONSGML v1.0//EN
CALSCALE:GREGORIAN
METHOD:PUBLISH
X-WR-CALNAME:AIA Santa Barbara
X-ORIGINAL-URL:https://aiasb.com
X-WR-CALDESC:Events for AIA Santa Barbara
REFRESH-INTERVAL;VALUE=DURATION:PT1H
X-Robots-Tag:noindex
X-PUBLISHED-TTL:PT1H
BEGIN:VTIMEZONE
TZID:America/Los_Angeles
BEGIN:DAYLIGHT
TZOFFSETFROM:-0800
TZOFFSETTO:-0700
TZNAME:PDT
DTSTART:20240310T100000
END:DAYLIGHT
BEGIN:STANDARD
TZOFFSETFROM:-0700
TZOFFSETTO:-0800
TZNAME:PST
DTSTART:20241103T090000
END:STANDARD
BEGIN:DAYLIGHT
TZOFFSETFROM:-0800
TZOFFSETTO:-0700
TZNAME:PDT
DTSTART:20250309T100000
END:DAYLIGHT
BEGIN:STANDARD
TZOFFSETFROM:-0700
TZOFFSETTO:-0800
TZNAME:PST
DTSTART:20251102T090000
END:STANDARD
BEGIN:DAYLIGHT
TZOFFSETFROM:-0800
TZOFFSETTO:-0700
TZNAME:PDT
DTSTART:20260308T100000
END:DAYLIGHT
BEGIN:STANDARD
TZOFFSETFROM:-0700
TZOFFSETTO:-0800
TZNAME:PST
DTSTART:20261101T090000
END:STANDARD
END:VTIMEZONE
BEGIN:VEVENT
DTSTART;TZID=America/Los_Angeles:20250805T173000
DTEND;TZID=America/Los_Angeles:20250805T190000
DTSTAMP:20260423T192821
CREATED:20250114T202050Z
LAST-MODIFIED:20250820T164952Z
UID:10321-1754415000-1754420400@aiasb.com
SUMMARY:Women in Architecture
DESCRIPTION:Join us for a watercolor class at the Sunken Gardens at the Santa Barbara Courthouse for our August WIA gathering with Alexis Stypa\, architectural designer at Harrison Design and founder of Stypa Studio. Alexis is experienced in architectural and landscape watercolors and has led workshops across the world. We will meet at the Sunken Gardens at 5:30pm. We will have extra blankets and supplies but encourage you to bring any personal painting supplies and folding chair to be comfortable. In case of inclement weather\, we will email the registrants with an alternate interior location.
URL:https://aiasb.com/event/women-in-architecture-alexis-stypa/
LOCATION:Santa Barbara Courthouse\, 1100 Anacapa St.\, Santa Barbara\, United States
END:VEVENT
BEGIN:VEVENT
DTSTART;TZID=America/Los_Angeles:20250805T181500
DTEND;TZID=America/Los_Angeles:20250805T201500
DTSTAMP:20260423T192821
CREATED:20250114T205639Z
LAST-MODIFIED:20250612T171439Z
UID:10365-1754417700-1754424900@aiasb.com
SUMMARY:Emerging Professionals ARE Study Prep
DESCRIPTION:Open to all! \nStudy groups occur every 2 weeks.
URL:https://aiasb.com/event/emerging-professionals-are-study-prep-2-2-2-2-2-2/
LOCATION:AIA Santa Barbara\, 229 E Victoria St\, Santa Barbara\, CA\, 93101\, United States
END:VEVENT
END:VCALENDAR