BEGIN:VCALENDAR
VERSION:2.0
PRODID:-//AIA Santa Barbara - ECPv6.15.20//NONSGML v1.0//EN
CALSCALE:GREGORIAN
METHOD:PUBLISH
X-WR-CALNAME:AIA Santa Barbara
X-ORIGINAL-URL:https://aiasb.com
X-WR-CALDESC:Events for AIA Santa Barbara
REFRESH-INTERVAL;VALUE=DURATION:PT1H
X-Robots-Tag:noindex
X-PUBLISHED-TTL:PT1H
BEGIN:VTIMEZONE
TZID:America/Los_Angeles
BEGIN:DAYLIGHT
TZOFFSETFROM:-0800
TZOFFSETTO:-0700
TZNAME:PDT
DTSTART:20240310T100000
END:DAYLIGHT
BEGIN:STANDARD
TZOFFSETFROM:-0700
TZOFFSETTO:-0800
TZNAME:PST
DTSTART:20241103T090000
END:STANDARD
BEGIN:DAYLIGHT
TZOFFSETFROM:-0800
TZOFFSETTO:-0700
TZNAME:PDT
DTSTART:20250309T100000
END:DAYLIGHT
BEGIN:STANDARD
TZOFFSETFROM:-0700
TZOFFSETTO:-0800
TZNAME:PST
DTSTART:20251102T090000
END:STANDARD
BEGIN:DAYLIGHT
TZOFFSETFROM:-0800
TZOFFSETTO:-0700
TZNAME:PDT
DTSTART:20260308T100000
END:DAYLIGHT
BEGIN:STANDARD
TZOFFSETFROM:-0700
TZOFFSETTO:-0800
TZNAME:PST
DTSTART:20261101T090000
END:STANDARD
END:VTIMEZONE
BEGIN:VEVENT
DTSTART;TZID=America/Los_Angeles:20251204T173000
DTEND;TZID=America/Los_Angeles:20251204T203000
DTSTAMP:20260423T133848
CREATED:20251022T180723Z
LAST-MODIFIED:20251124T225247Z
UID:10964-1764869400-1764880200@aiasb.com
SUMMARY:2025 Design Awards Gala
DESCRIPTION:Celebrating the outstanding work of our AIA members.  \nThe annual Design Awards proudly recognize architectural excellence in Santa Barbara. \n\n\nAbout the Awards\nThis is a unique opportunity for your company to establish a presence in Santa Barbara’s architectural community. The awards program features submissions from licensed architects based in Santa Barbara\, as well as from architects outside the area whose projects are located within Santa Barbara County. Honors\, Merits\, and Honorable Mentions will be presented across multiple categories\, including Commercial Buildings\, Single-Family Residential\, Mixed-Use and Multi-Family Residential\, Conservation Projects (Historic Preservation\, Restoration\, Rehabilitation\, or Reconstruction)\, Santa Barbara Style\, Small Projects (Residential Additions\, Remodels\, or ADUs)\, Commercial Interiors\, and Proposed/Unbuilt Projects. \nJurors\nAnnie Chu (FAIA\, NCIDQ\, WELL AP) is a renowned architect\, co-founder of Chu-Gooding\, and lifelong advocate for interior architecture\, celebrated for her refined approach to craft\, color\, and materiality. Over her forty-year career\, she has worked with leading museums\, cultural institutions\, non-profits\, and universities nationwide. Currently\, she serves as an Interior Architect in collaboration with Populous\, for the Los Angeles Convention Center renovation. Known as the “modernist house whisperer\,” she has earned multiple AIA honors for her restoration and design of historic modern residences. A dedicated civic leader and educator\, Annie has served on the Los Angeles Cultural Affairs Commission\, the Mayor’s Design Advisory Panel\, and taught architecture and design for over three decades. She holds degrees from SCI-Arc and Columbia University and was elevated to the AIA College of Fellows in 2016. \nDuncan is a Principal\, Studio Leader\, and Design Director at Gensler with over 30 years of experience creating vibrant\, experience-driven architecture. As a global leader of the firm’s Mixed Use & Retail Centers practice\, his expertise encompasses large-scale retail destinations\, hotels\, entertainment venues\, and urban developments around the world. Based in Gensler’s Los Angeles office\, he fosters a culture of design exploration and collaboration\, while contributing to industry discourse on the evolution of mixed-use and retail environments through his active involvement with the Urban Land Institute and the International Council of Shopping Centers. \nGeorge Proctor is a licensed architect and professor whose experience spans from furniture design to large urban projects\, including building his own home in 2004. Beginning in construction\, he earned dual degrees in Urban Planning and Architecture from Cal Poly and a Master of Architecture in Urban Design from Harvard GSD. An early adopter of CAD and computer graphics\, he later led Cal Poly Pomona’s digital curriculum\, developing courses in Digital Modeling\, Animation\, and Interactive Media. His work blends architecture and entertainment-inspired digital design\, and his leadership includes chairing the 2002 ACADIA Conference\, serving on the founding board of the International Journal of Architectural Computing\, and contributing to award-winning projects through his own practice and civic commissions. \nDetails\nSchedule and Dress Code \n\nGala begins at 5:30. Arrive early for mingling and a no-host bar.\nDress code: Semi-Formal\n\nLocation \n\nThe Gala will be held at El Paseo Restaurant\, 10 El Paseo\, Santa Barbara\, CA\n\nParking \n\nCity Lot 9: 25 E Canon Perdido St\, Santa Barbara\, CA 93101\nStreet parking\n\nTicket Prices for Design Awards 2024:\n\nAIA Member – $140\nNon-member – $170\nAssociate Member – $60\nStudent – $60\n\nTable bundles for Members only \n\nTables of 4 members – $520 (6 tables available)\nTable of 6 members – $780 (1 table available)\nTables of 8 members – $1\,060 (2 tables available)\nTable of 10 members – $1\,340(2 tables available)\nTable of 12 members – $1\,620 (2 tables available)\n\nPurchase tickets and reserve your spot before November 26th! \n***By attending the Design Awards Gala\, you are agreeing to be photographed***
URL:https://aiasb.com/event/design-awards-gala-2-2-2/
LOCATION:El Paseo Resturant\, 10 El Paseo\, Santa Barbara\, CA\, 93101\, United States
CATEGORIES:Major Events
END:VEVENT
END:VCALENDAR