BEGIN:VCALENDAR
VERSION:2.0
PRODID:-//AIA Santa Barbara - ECPv6.15.20//NONSGML v1.0//EN
CALSCALE:GREGORIAN
METHOD:PUBLISH
X-ORIGINAL-URL:https://aiasb.com
X-WR-CALDESC:Events for AIA Santa Barbara
REFRESH-INTERVAL;VALUE=DURATION:PT1H
X-Robots-Tag:noindex
X-PUBLISHED-TTL:PT1H
BEGIN:VTIMEZONE
TZID:America/Los_Angeles
BEGIN:DAYLIGHT
TZOFFSETFROM:-0800
TZOFFSETTO:-0700
TZNAME:PDT
DTSTART:20250309T100000
END:DAYLIGHT
BEGIN:STANDARD
TZOFFSETFROM:-0700
TZOFFSETTO:-0800
TZNAME:PST
DTSTART:20251102T090000
END:STANDARD
BEGIN:DAYLIGHT
TZOFFSETFROM:-0800
TZOFFSETTO:-0700
TZNAME:PDT
DTSTART:20260308T100000
END:DAYLIGHT
BEGIN:STANDARD
TZOFFSETFROM:-0700
TZOFFSETTO:-0800
TZNAME:PST
DTSTART:20261101T090000
END:STANDARD
BEGIN:DAYLIGHT
TZOFFSETFROM:-0800
TZOFFSETTO:-0700
TZNAME:PDT
DTSTART:20270314T100000
END:DAYLIGHT
BEGIN:STANDARD
TZOFFSETFROM:-0700
TZOFFSETTO:-0800
TZNAME:PST
DTSTART:20271107T090000
END:STANDARD
END:VTIMEZONE
BEGIN:VEVENT
DTSTART;TZID=America/Los_Angeles:20260121T120000
DTEND;TZID=America/Los_Angeles:20260121T130000
DTSTAMP:20260423T121551
CREATED:20260107T053925Z
LAST-MODIFIED:20260107T191339Z
UID:11260-1768996800-1769000400@aiasb.com
SUMMARY:Lunch & Learn: Residential Design Meets Technology
DESCRIPTION:1 LU \nLunch Provided! No charge for members \nAbout \nThis seminar provides an overview of incorporating popular technologies\, such as smart thermostats\, motorized shades\, lighting control\, and security systems. In this fast-paced course\, you’ll learn the latest interior technology and how it shapes the experience of spaces you design. You will get inspiration for how you can expand the breadth of your practice by incorporating technology into your designs without needing to be a technology expert. \nLearning Objectives \n\nUnderstand smart technology evolution in the past 50 years\nLearn what interior technology is and how design meets technology\nDiscover interior technology function and benefits relative to: Infrastructure\, Lighting\, Media\, Integration\, and User Interfaces\nExplore top interior technology residential applications\, common misconceptions\, and design considerations
URL:https://aiasb.com/event/lunch-learn-residentialdesign/
LOCATION:Mission Audio Video\, 1910 De La Vina St\, Santa Barbara\, CA\, 93101\, United States
CATEGORIES:Continuing Education,Lunchtime Learning
END:VEVENT
END:VCALENDAR