BEGIN:VCALENDAR
VERSION:2.0
PRODID:-//AIA Santa Barbara - ECPv6.15.20//NONSGML v1.0//EN
CALSCALE:GREGORIAN
METHOD:PUBLISH
X-WR-CALNAME:AIA Santa Barbara
X-ORIGINAL-URL:https://aiasb.com
X-WR-CALDESC:Events for AIA Santa Barbara
REFRESH-INTERVAL;VALUE=DURATION:PT1H
X-Robots-Tag:noindex
X-PUBLISHED-TTL:PT1H
BEGIN:VTIMEZONE
TZID:America/Los_Angeles
BEGIN:DAYLIGHT
TZOFFSETFROM:-0800
TZOFFSETTO:-0700
TZNAME:PDT
DTSTART:20250309T100000
END:DAYLIGHT
BEGIN:STANDARD
TZOFFSETFROM:-0700
TZOFFSETTO:-0800
TZNAME:PST
DTSTART:20251102T090000
END:STANDARD
BEGIN:DAYLIGHT
TZOFFSETFROM:-0800
TZOFFSETTO:-0700
TZNAME:PDT
DTSTART:20260308T100000
END:DAYLIGHT
BEGIN:STANDARD
TZOFFSETFROM:-0700
TZOFFSETTO:-0800
TZNAME:PST
DTSTART:20261101T090000
END:STANDARD
BEGIN:DAYLIGHT
TZOFFSETFROM:-0800
TZOFFSETTO:-0700
TZNAME:PDT
DTSTART:20270314T100000
END:DAYLIGHT
BEGIN:STANDARD
TZOFFSETFROM:-0700
TZOFFSETTO:-0800
TZNAME:PST
DTSTART:20271107T090000
END:STANDARD
END:VTIMEZONE
BEGIN:VEVENT
DTSTART;TZID=America/Los_Angeles:20260205T160000
DTEND;TZID=America/Los_Angeles:20260227T190000
DTSTAMP:20260423T104634
CREATED:20260121T195612Z
LAST-MODIFIED:20260121T195732Z
UID:11311-1770307200-1772218800@aiasb.com
SUMMARY:2025 Design Awards Exhibition
DESCRIPTION:  \nThe American Institute of Architects\, Santa Barbara\, proudly presents the 2025 Design Awards Exhibition at the Faulkner Gallery. \nFaulkner Gallery\n40 E. Anapamu St.\, Santa Barbara \nOpen to the public from February 5 through February 27\, 2026\, the exhibit showcases the most inspiring and innovative architectural work of the year. A public reception will be held on the first Thursday\, February 5\, from 4:00 PM to 7:00 PM\, providing an opportunity to meet the architects and learn about the methodology and creative process behind their projects.
URL:https://aiasb.com/event/faulknerexhibition/
LOCATION:Faulkner Gallery\, 40 E Anapamu St\, Santa Barbara\, CA\, 93101\, United States
CATEGORIES:Major Events
END:VEVENT
BEGIN:VEVENT
DTSTART;TZID=America/Los_Angeles:20260218T120000
DTEND;TZID=America/Los_Angeles:20260218T130000
DTSTAMP:20260423T104634
CREATED:20251222T202136Z
LAST-MODIFIED:20260107T193009Z
UID:11253-1771416000-1771419600@aiasb.com
SUMMARY:Lunch & Learn: Talking with Clients about Electrification
DESCRIPTION:Presented by Dave Intner\, AIA\, Program Manager for the Energy Code Ace\n1 LU \nLunch Provided! No charge for members \nIn this 1-hour session\, we will provide attendees with essential information to foster confidence in answering clients’ questions about the why and how of pursuing an all-electric home. We will compare the Energy Code requirements supporting electrification\, as opposed to a mixed-fuel design\, and which design features support the reliability and affordability of an all-electric home. \nLearning Objectives: \n\nSummarize key facts regarding heat pump technology — as well as other electric technologies — specific to their performance\, affordability\, and impact on California electric grid.\n\n\nCompare the Energy Code requirements for electric and gas appliances.\nDescribe the differences between all-electric designs and mixed-fuel projects in terms Energy Code compliance and likely impact on construction and operation costs.\nIdentify sources of information and how to access them for guidance on incentive programs\, tax credits\, and rebates supporting the deployment of heat pumps\, electric equipment upgrades\, and energy-efficient appliances.\n\nAbout the presenter: \nDave Intner\, with Southern California Edison’s Building Electrification and Codes & Standards team\, is a Licensed Architect\, LEED AP\, and Certified Energy Manager. A graduate of Cal Poly SLO\, Dave provides education and outreach supporting Building Decarbonization and Energy Code Compliance Improvement. He leads several initiatives focusing on zero net carbon design and energy codes. Other roles at SCE have included managing the field engineering group and assisting architects and engineers with design and incentive support as a program specialist in the Savings by Design Program. Prior to SCE\, Dave practiced architecture for 15 years on buildings of just about every type\, including custom residential\, affordable housing\, university buildings\, and cultural facilities. A LEED Accredited Professional for over 20 years\, Dave also guided several early projects through the full LEED certification process. Dave is the current Vice Chair of the AIA California Climate Action Committee\, is a board member of CABEC (the California Building Energy Consultants)\, a past board member of USGBC California and has served on the LEED Energy and Atmosphere Technical Advisory Group (EA-TAG).
URL:https://aiasb.com/event/lunch-learn-kbkg-2/
LOCATION:AIA Santa Barbara\, 229 E Victoria St\, Santa Barbara\, CA\, 93101\, United States
END:VEVENT
END:VCALENDAR