BEGIN:VCALENDAR
VERSION:2.0
PRODID:-//AIA Santa Barbara - ECPv6.15.20//NONSGML v1.0//EN
CALSCALE:GREGORIAN
METHOD:PUBLISH
X-WR-CALNAME:AIA Santa Barbara
X-ORIGINAL-URL:https://aiasb.com
X-WR-CALDESC:Events for AIA Santa Barbara
REFRESH-INTERVAL;VALUE=DURATION:PT1H
X-Robots-Tag:noindex
X-PUBLISHED-TTL:PT1H
BEGIN:VTIMEZONE
TZID:America/Los_Angeles
BEGIN:DAYLIGHT
TZOFFSETFROM:-0800
TZOFFSETTO:-0700
TZNAME:PDT
DTSTART:20190310T100000
END:DAYLIGHT
BEGIN:STANDARD
TZOFFSETFROM:-0700
TZOFFSETTO:-0800
TZNAME:PST
DTSTART:20191103T090000
END:STANDARD
BEGIN:DAYLIGHT
TZOFFSETFROM:-0800
TZOFFSETTO:-0700
TZNAME:PDT
DTSTART:20200308T100000
END:DAYLIGHT
BEGIN:STANDARD
TZOFFSETFROM:-0700
TZOFFSETTO:-0800
TZNAME:PST
DTSTART:20201101T090000
END:STANDARD
BEGIN:DAYLIGHT
TZOFFSETFROM:-0800
TZOFFSETTO:-0700
TZNAME:PDT
DTSTART:20210314T100000
END:DAYLIGHT
BEGIN:STANDARD
TZOFFSETFROM:-0700
TZOFFSETTO:-0800
TZNAME:PST
DTSTART:20211107T090000
END:STANDARD
BEGIN:DAYLIGHT
TZOFFSETFROM:-0800
TZOFFSETTO:-0700
TZNAME:PDT
DTSTART:20220313T100000
END:DAYLIGHT
BEGIN:STANDARD
TZOFFSETFROM:-0700
TZOFFSETTO:-0800
TZNAME:PST
DTSTART:20221106T090000
END:STANDARD
BEGIN:DAYLIGHT
TZOFFSETFROM:-0800
TZOFFSETTO:-0700
TZNAME:PDT
DTSTART:20230312T100000
END:DAYLIGHT
BEGIN:STANDARD
TZOFFSETFROM:-0700
TZOFFSETTO:-0800
TZNAME:PST
DTSTART:20231105T090000
END:STANDARD
BEGIN:DAYLIGHT
TZOFFSETFROM:-0800
TZOFFSETTO:-0700
TZNAME:PDT
DTSTART:20240310T100000
END:DAYLIGHT
BEGIN:STANDARD
TZOFFSETFROM:-0700
TZOFFSETTO:-0800
TZNAME:PST
DTSTART:20241103T090000
END:STANDARD
END:VTIMEZONE
BEGIN:VEVENT
DTSTART;TZID=America/Los_Angeles:20231206T120000
DTEND;TZID=America/Los_Angeles:20231206T130000
DTSTAMP:20260423T191707
CREATED:20221114T184338Z
LAST-MODIFIED:20231030T191639Z
UID:8068-1701864000-1701867600@aiasb.com
SUMMARY:Board Meeting
DESCRIPTION:
URL:https://aiasb.com/event/board-meeting-23/
CATEGORIES:Board Meetings
END:VEVENT
BEGIN:VEVENT
DTSTART;TZID=America/Los_Angeles:20231101T120000
DTEND;TZID=America/Los_Angeles:20231101T130000
DTSTAMP:20260423T191707
CREATED:20221114T183842Z
LAST-MODIFIED:20231030T191619Z
UID:8058-1698840000-1698843600@aiasb.com
SUMMARY:Board Meeting
DESCRIPTION:
URL:https://aiasb.com/event/board-meeting-22/
CATEGORIES:Board Meetings
END:VEVENT
BEGIN:VEVENT
DTSTART;TZID=America/Los_Angeles:20231004T120000
DTEND;TZID=America/Los_Angeles:20231004T130000
DTSTAMP:20260423T191707
CREATED:20221114T183312Z
LAST-MODIFIED:20231030T191700Z
UID:8046-1696420800-1696424400@aiasb.com
SUMMARY:Board Meeting
DESCRIPTION:
URL:https://aiasb.com/event/board-meeting-21/
CATEGORIES:Board Meetings
END:VEVENT
BEGIN:VEVENT
DTSTART;TZID=America/Los_Angeles:20230906T114500
DTEND;TZID=America/Los_Angeles:20230906T130000
DTSTAMP:20260423T191707
CREATED:20221114T182735Z
LAST-MODIFIED:20221114T182735Z
UID:8034-1694000700-1694005200@aiasb.com
SUMMARY:Board Meeting
DESCRIPTION:
URL:https://aiasb.com/event/board-meeting-20/
CATEGORIES:Board Meetings
END:VEVENT
BEGIN:VEVENT
DTSTART;TZID=America/Los_Angeles:20230802T114500
DTEND;TZID=America/Los_Angeles:20230802T130000
DTSTAMP:20260423T191707
CREATED:20221114T182240Z
LAST-MODIFIED:20221114T182240Z
UID:8026-1690976700-1690981200@aiasb.com
SUMMARY:Board Meeting
DESCRIPTION:
URL:https://aiasb.com/event/board-meeting-19/
CATEGORIES:Board Meetings
END:VEVENT
BEGIN:VEVENT
DTSTART;TZID=America/Los_Angeles:20230705T114500
DTEND;TZID=America/Los_Angeles:20230705T130000
DTSTAMP:20260423T191707
CREATED:20221114T181934Z
LAST-MODIFIED:20230110T172444Z
UID:8018-1688557500-1688562000@aiasb.com
SUMMARY:Board Meeting
DESCRIPTION:
URL:https://aiasb.com/event/board-meeting-18/
CATEGORIES:Board Meetings
END:VEVENT
BEGIN:VEVENT
DTSTART;TZID=America/Los_Angeles:20230614T114500
DTEND;TZID=America/Los_Angeles:20230614T130000
DTSTAMP:20260423T191707
CREATED:20221114T181411Z
LAST-MODIFIED:20230523T163810Z
UID:8008-1686743100-1686747600@aiasb.com
SUMMARY:Board Meeting
DESCRIPTION:
URL:https://aiasb.com/event/board-meeting-17/
CATEGORIES:Board Meetings
END:VEVENT
BEGIN:VEVENT
DTSTART;TZID=America/Los_Angeles:20230503T114500
DTEND;TZID=America/Los_Angeles:20230503T130000
DTSTAMP:20260423T191707
CREATED:20221114T180141Z
LAST-MODIFIED:20221114T180141Z
UID:7998-1683114300-1683118800@aiasb.com
SUMMARY:Board Meeting
DESCRIPTION:
URL:https://aiasb.com/event/board-meeting-16/
CATEGORIES:Board Meetings
END:VEVENT
BEGIN:VEVENT
DTSTART;TZID=America/Los_Angeles:20230405T114500
DTEND;TZID=America/Los_Angeles:20230405T130000
DTSTAMP:20260423T191707
CREATED:20221114T174355Z
LAST-MODIFIED:20221114T174355Z
UID:7986-1680695100-1680699600@aiasb.com
SUMMARY:Board Meeting
DESCRIPTION:
URL:https://aiasb.com/event/board-meeting-15/
CATEGORIES:Board Meetings
END:VEVENT
BEGIN:VEVENT
DTSTART;TZID=America/Los_Angeles:20230301T114500
DTEND;TZID=America/Los_Angeles:20230301T130000
DTSTAMP:20260423T191707
CREATED:20221114T173713Z
LAST-MODIFIED:20221114T173713Z
UID:7974-1677671100-1677675600@aiasb.com
SUMMARY:Board Meeting
DESCRIPTION:
URL:https://aiasb.com/event/board-meeting-14/
CATEGORIES:Board Meetings
END:VEVENT
BEGIN:VEVENT
DTSTART;TZID=America/Los_Angeles:20230201T114500
DTEND;TZID=America/Los_Angeles:20230201T130000
DTSTAMP:20260423T191707
CREATED:20221114T173017Z
LAST-MODIFIED:20221114T173017Z
UID:7964-1675251900-1675256400@aiasb.com
SUMMARY:Board Meeting
DESCRIPTION:
URL:https://aiasb.com/event/board-meeting-13/
CATEGORIES:Board Meetings
END:VEVENT
BEGIN:VEVENT
DTSTART;TZID=America/Los_Angeles:20230104T114500
DTEND;TZID=America/Los_Angeles:20230104T130000
DTSTAMP:20260423T191707
CREATED:20221114T172012Z
LAST-MODIFIED:20221114T172012Z
UID:7952-1672832700-1672837200@aiasb.com
SUMMARY:Board Meeting
DESCRIPTION:
URL:https://aiasb.com/event/board-meeting-7/
CATEGORIES:Board Meetings
END:VEVENT
BEGIN:VEVENT
DTSTART;TZID=America/Los_Angeles:20221207T114500
DTEND;TZID=America/Los_Angeles:20221207T130000
DTSTAMP:20260423T191707
CREATED:20221024T163404Z
LAST-MODIFIED:20221024T163404Z
UID:7841-1670413500-1670418000@aiasb.com
SUMMARY:Board of Directors Meeting
DESCRIPTION:
URL:https://aiasb.com/event/board-of-directors-meeting-11/
CATEGORIES:Board Meetings
END:VEVENT
BEGIN:VEVENT
DTSTART;TZID=America/Los_Angeles:20221102T114500
DTEND;TZID=America/Los_Angeles:20221102T130000
DTSTAMP:20260423T191707
CREATED:20221024T161553Z
LAST-MODIFIED:20221024T161553Z
UID:7821-1667389500-1667394000@aiasb.com
SUMMARY:AIASB Board Meeting
DESCRIPTION:
URL:https://aiasb.com/event/aiasb-board-meeting-7/
CATEGORIES:Board Meetings
END:VEVENT
BEGIN:VEVENT
DTSTART;TZID=America/Los_Angeles:20211201T113000
DTEND;TZID=America/Los_Angeles:20211201T123000
DTSTAMP:20260423T191707
CREATED:20210115T234714Z
LAST-MODIFIED:20210115T234714Z
UID:5376-1638358200-1638361800@aiasb.com
SUMMARY:Board Meeting
DESCRIPTION:
URL:https://aiasb.com/event/board-meeting-10/
CATEGORIES:Board Meetings
END:VEVENT
BEGIN:VEVENT
DTSTART;TZID=America/Los_Angeles:20211103T113000
DTEND;TZID=America/Los_Angeles:20211103T123000
DTSTAMP:20260423T191707
CREATED:20210115T234444Z
LAST-MODIFIED:20210115T234444Z
UID:5370-1635939000-1635942600@aiasb.com
SUMMARY:Board Meeting
DESCRIPTION:
URL:https://aiasb.com/event/board-meeting-9/
CATEGORIES:Board Meetings
END:VEVENT
BEGIN:VEVENT
DTSTART;TZID=America/Los_Angeles:20211006T113000
DTEND;TZID=America/Los_Angeles:20211006T123000
DTSTAMP:20260423T191707
CREATED:20210115T234112Z
LAST-MODIFIED:20210115T234112Z
UID:5364-1633519800-1633523400@aiasb.com
SUMMARY:Board Meeting
DESCRIPTION:
URL:https://aiasb.com/event/board-meeting-8/
CATEGORIES:Board Meetings
END:VEVENT
BEGIN:VEVENT
DTSTART;TZID=America/Los_Angeles:20210901T113000
DTEND;TZID=America/Los_Angeles:20210901T123000
DTSTAMP:20260423T191707
CREATED:20210120T210444Z
LAST-MODIFIED:20210120T210444Z
UID:5397-1630495800-1630499400@aiasb.com
SUMMARY:Board Meeting
DESCRIPTION:
URL:https://aiasb.com/event/board-meeting-12/
CATEGORIES:Board Meetings
END:VEVENT
BEGIN:VEVENT
DTSTART;TZID=America/Los_Angeles:20210707T113000
DTEND;TZID=America/Los_Angeles:20210707T123000
DTSTAMP:20260423T191707
CREATED:20210115T233421Z
LAST-MODIFIED:20210115T233421Z
UID:5350-1625657400-1625661000@aiasb.com
SUMMARY:Board Meeting
DESCRIPTION:
URL:https://aiasb.com/event/board-meeting-6/
CATEGORIES:Board Meetings
END:VEVENT
BEGIN:VEVENT
DTSTART;TZID=America/Los_Angeles:20210602T120000
DTEND;TZID=America/Los_Angeles:20210602T130000
DTSTAMP:20260423T191707
CREATED:20210115T233036Z
LAST-MODIFIED:20210115T233036Z
UID:5342-1622635200-1622638800@aiasb.com
SUMMARY:Board Meeting
DESCRIPTION:
URL:https://aiasb.com/event/board-meeting-5/
CATEGORIES:Board Meetings
END:VEVENT
BEGIN:VEVENT
DTSTART;TZID=America/Los_Angeles:20210505T113000
DTEND;TZID=America/Los_Angeles:20210505T123000
DTSTAMP:20260423T191707
CREATED:20210115T232728Z
LAST-MODIFIED:20210115T232728Z
UID:5336-1620214200-1620217800@aiasb.com
SUMMARY:Board Meeting
DESCRIPTION:
URL:https://aiasb.com/event/board-meeting-4/
CATEGORIES:Board Meetings
END:VEVENT
BEGIN:VEVENT
DTSTART;TZID=America/Los_Angeles:20210407T113000
DTEND;TZID=America/Los_Angeles:20210407T123000
DTSTAMP:20260423T191707
CREATED:20210120T210159Z
LAST-MODIFIED:20210120T210159Z
UID:5393-1617795000-1617798600@aiasb.com
SUMMARY:Board Meeting
DESCRIPTION:
URL:https://aiasb.com/event/board-meeting-11/
CATEGORIES:Board Meetings
END:VEVENT
BEGIN:VEVENT
DTSTART;TZID=America/Los_Angeles:20210303T113000
DTEND;TZID=America/Los_Angeles:20210303T123000
DTSTAMP:20260423T191707
CREATED:20210115T232238Z
LAST-MODIFIED:20210115T232238Z
UID:5328-1614771000-1614774600@aiasb.com
SUMMARY:Board Meeting
DESCRIPTION:
URL:https://aiasb.com/event/board-meeting-3/
CATEGORIES:Board Meetings
END:VEVENT
BEGIN:VEVENT
DTSTART;TZID=America/Los_Angeles:20210203T113000
DTEND;TZID=America/Los_Angeles:20210203T123000
DTSTAMP:20260423T191707
CREATED:20210115T231724Z
LAST-MODIFIED:20210115T231724Z
UID:5322-1612351800-1612355400@aiasb.com
SUMMARY:Board Meeting
DESCRIPTION:
URL:https://aiasb.com/event/board-meeting/
CATEGORIES:Board Meetings
END:VEVENT
BEGIN:VEVENT
DTSTART;TZID=America/Los_Angeles:20201202T120000
DTEND;TZID=America/Los_Angeles:20201202T130000
DTSTAMP:20260423T191707
CREATED:20200120T191215Z
LAST-MODIFIED:20200120T191215Z
UID:3990-1606910400-1606914000@aiasb.com
SUMMARY:Board Meeting
DESCRIPTION:
URL:https://aiasb.com/event/board-meeting-2-2-2-2-2-3/
LOCATION:AIA Santa Barbara\, 229 E Victoria St\, Santa Barbara\, CA\, 93101\, United States
CATEGORIES:Board Meetings
END:VEVENT
BEGIN:VEVENT
DTSTART;TZID=America/Los_Angeles:20201104T120000
DTEND;TZID=America/Los_Angeles:20201104T130000
DTSTAMP:20260423T191707
CREATED:20200120T190919Z
LAST-MODIFIED:20200120T190949Z
UID:3986-1604491200-1604494800@aiasb.com
SUMMARY:Board Meeting
DESCRIPTION:
URL:https://aiasb.com/event/board-meeting-2-2-2-2-2/
LOCATION:AIA Santa Barbara\, 229 E Victoria St\, Santa Barbara\, CA\, 93101\, United States
CATEGORIES:Board Meetings
END:VEVENT
BEGIN:VEVENT
DTSTART;TZID=America/Los_Angeles:20201007T120000
DTEND;TZID=America/Los_Angeles:20201007T130000
DTSTAMP:20260423T191707
CREATED:20200120T191034Z
LAST-MODIFIED:20200120T191034Z
UID:3988-1602072000-1602075600@aiasb.com
SUMMARY:Board Meeting
DESCRIPTION:
URL:https://aiasb.com/event/board-meeting-2-2-2-2-2-2/
LOCATION:AIA Santa Barbara\, 229 E Victoria St\, Santa Barbara\, CA\, 93101\, United States
CATEGORIES:Board Meetings
END:VEVENT
BEGIN:VEVENT
DTSTART;TZID=America/Los_Angeles:20200902T120000
DTEND;TZID=America/Los_Angeles:20200902T130000
DTSTAMP:20260423T191707
CREATED:20200120T190826Z
LAST-MODIFIED:20200120T190826Z
UID:3984-1599048000-1599051600@aiasb.com
SUMMARY:Board Meeting
DESCRIPTION:
URL:https://aiasb.com/event/board-meeting-2-2-2-2/
LOCATION:AIA Santa Barbara\, 229 E Victoria St\, Santa Barbara\, CA\, 93101\, United States
CATEGORIES:Board Meetings
END:VEVENT
BEGIN:VEVENT
DTSTART;TZID=America/Los_Angeles:20200701T120000
DTEND;TZID=America/Los_Angeles:20200701T130000
DTSTAMP:20260423T191707
CREATED:20200120T190717Z
LAST-MODIFIED:20200120T190717Z
UID:3982-1593604800-1593608400@aiasb.com
SUMMARY:Board Meeting
DESCRIPTION:
URL:https://aiasb.com/event/board-meeting-2-2-2/
LOCATION:AIA Santa Barbara\, 229 E Victoria St\, Santa Barbara\, CA\, 93101\, United States
CATEGORIES:Board Meetings
END:VEVENT
BEGIN:VEVENT
DTSTART;TZID=America/Los_Angeles:20200603T120000
DTEND;TZID=America/Los_Angeles:20200603T130000
DTSTAMP:20260423T191707
CREATED:20200120T190626Z
LAST-MODIFIED:20200120T190626Z
UID:3980-1591185600-1591189200@aiasb.com
SUMMARY:Board Meeting
DESCRIPTION:
URL:https://aiasb.com/event/board-meeting-2-2/
LOCATION:AIA Santa Barbara\, 229 E Victoria St\, Santa Barbara\, CA\, 93101\, United States
CATEGORIES:Board Meetings
END:VEVENT
END:VCALENDAR