BEGIN:VCALENDAR
VERSION:2.0
PRODID:-//AIA Santa Barbara - ECPv6.15.20//NONSGML v1.0//EN
CALSCALE:GREGORIAN
METHOD:PUBLISH
X-WR-CALNAME:AIA Santa Barbara
X-ORIGINAL-URL:https://aiasb.com
X-WR-CALDESC:Events for AIA Santa Barbara
REFRESH-INTERVAL;VALUE=DURATION:PT1H
X-Robots-Tag:noindex
X-PUBLISHED-TTL:PT1H
BEGIN:VTIMEZONE
TZID:America/Los_Angeles
BEGIN:DAYLIGHT
TZOFFSETFROM:-0800
TZOFFSETTO:-0700
TZNAME:PDT
DTSTART:20250309T100000
END:DAYLIGHT
BEGIN:STANDARD
TZOFFSETFROM:-0700
TZOFFSETTO:-0800
TZNAME:PST
DTSTART:20251102T090000
END:STANDARD
BEGIN:DAYLIGHT
TZOFFSETFROM:-0800
TZOFFSETTO:-0700
TZNAME:PDT
DTSTART:20260308T100000
END:DAYLIGHT
BEGIN:STANDARD
TZOFFSETFROM:-0700
TZOFFSETTO:-0800
TZNAME:PST
DTSTART:20261101T090000
END:STANDARD
BEGIN:DAYLIGHT
TZOFFSETFROM:-0800
TZOFFSETTO:-0700
TZNAME:PDT
DTSTART:20270314T100000
END:DAYLIGHT
BEGIN:STANDARD
TZOFFSETFROM:-0700
TZOFFSETTO:-0800
TZNAME:PST
DTSTART:20271107T090000
END:STANDARD
END:VTIMEZONE
BEGIN:VEVENT
DTSTART;TZID=America/Los_Angeles:20260516T103000
DTEND;TZID=America/Los_Angeles:20260516T130000
DTSTAMP:20260423T150905
CREATED:20260415T191825Z
LAST-MODIFIED:20260415T191825Z
UID:11408-1778927400-1778936400@aiasb.com
SUMMARY:Emerging Professionals Open House at Michael G. Imber
DESCRIPTION:    \n-1 LU Pending \n-Refreshments provided \n  \nVisit Bevyhouse\, the quality of Custom Design with all of the benefits of Factory Construction \nAbout the Event \nDuring the tour\, we’ll walk through how our system works in practice—from early design considerations and modular planning\, to fabrication\, delivery\, and installation. We’ll also touch on how we collaborate with architects\, coordinate site and factory work simultaneously\, and navigate projects in complex environments. \nOur goal is to create a more aligned process between design and construction—so projects can be delivered with greater clarity\, efficiency\, and confidence. \nAbout Bevyhouse \nThe traditional homebuilding process is often defined by long timelines\, cost uncertainty\, and fragmented coordination between design and construction. At Bevyhouse\, we’re exploring a different approach—one that integrates design\, engineering\, and construction through a custom modular framework. \nOur work combines fully custom home design with the efficiencies of prefabrication. By shifting a significant portion of construction into a controlled factory environment\, we’re able to improve build quality\, reduce variability\, and compress project timelines—while still allowing for a high degree of architectural flexibility and personalization. As part of our standard construction\, all homes are built to meet California Residential Building Code and WUI requirements. \n 
URL:https://aiasb.com/event/bevyhousetour/
LOCATION:Bevyhouse\, 630 Todd Lane\, Santa Paula\, CA\, 93060
CATEGORIES:Continuing Education
END:VEVENT
END:VCALENDAR