BEGIN:VCALENDAR
VERSION:2.0
PRODID:-//AIA Santa Barbara - ECPv6.15.20//NONSGML v1.0//EN
CALSCALE:GREGORIAN
METHOD:PUBLISH
X-ORIGINAL-URL:https://aiasb.com
X-WR-CALDESC:Events for AIA Santa Barbara
REFRESH-INTERVAL;VALUE=DURATION:PT1H
X-Robots-Tag:noindex
X-PUBLISHED-TTL:PT1H
BEGIN:VTIMEZONE
TZID:America/Los_Angeles
BEGIN:DAYLIGHT
TZOFFSETFROM:-0800
TZOFFSETTO:-0700
TZNAME:PDT
DTSTART:20250309T100000
END:DAYLIGHT
BEGIN:STANDARD
TZOFFSETFROM:-0700
TZOFFSETTO:-0800
TZNAME:PST
DTSTART:20251102T090000
END:STANDARD
BEGIN:DAYLIGHT
TZOFFSETFROM:-0800
TZOFFSETTO:-0700
TZNAME:PDT
DTSTART:20260308T100000
END:DAYLIGHT
BEGIN:STANDARD
TZOFFSETFROM:-0700
TZOFFSETTO:-0800
TZNAME:PST
DTSTART:20261101T090000
END:STANDARD
BEGIN:DAYLIGHT
TZOFFSETFROM:-0800
TZOFFSETTO:-0700
TZNAME:PDT
DTSTART:20270314T100000
END:DAYLIGHT
BEGIN:STANDARD
TZOFFSETFROM:-0700
TZOFFSETTO:-0800
TZNAME:PST
DTSTART:20271107T090000
END:STANDARD
END:VTIMEZONE
BEGIN:VEVENT
DTSTART;TZID=America/Los_Angeles:20260128T180000
DTEND;TZID=America/Los_Angeles:20260128T193000
DTSTAMP:20260423T134055
CREATED:20260109T000530Z
LAST-MODIFIED:20260109T001852Z
UID:11286-1769623200-1769628600@aiasb.com
SUMMARY:January Global Design Series
DESCRIPTION:Between Permission and Practice: Informality in the Built Environment\nExploring worldwide design trends through the local lens of Santa Barbara. \nWe are delighted to invite you to the fourth session of our “Global Design Series”\, a continuous series of inspiring discussions. \nThis talk & discussion will be led by Augustin Peytchinov. To reserve a spot\, please visit our Eventbrite.
URL:https://aiasb.com/event/lunch-learn-kbkg-2-2/
LOCATION:Mission Audio Video\, 1910 De La Vina St\, Santa Barbara\, CA\, 93101\, United States
CATEGORIES:Creative Conversations
END:VEVENT
END:VCALENDAR