BEGIN:VCALENDAR
VERSION:2.0
PRODID:-//AIA Santa Barbara - ECPv6.15.20//NONSGML v1.0//EN
CALSCALE:GREGORIAN
METHOD:PUBLISH
X-WR-CALNAME:AIA Santa Barbara
X-ORIGINAL-URL:https://aiasb.com
X-WR-CALDESC:Events for AIA Santa Barbara
REFRESH-INTERVAL;VALUE=DURATION:PT1H
X-Robots-Tag:noindex
X-PUBLISHED-TTL:PT1H
BEGIN:VTIMEZONE
TZID:America/Los_Angeles
BEGIN:DAYLIGHT
TZOFFSETFROM:-0800
TZOFFSETTO:-0700
TZNAME:PDT
DTSTART:20220313T100000
END:DAYLIGHT
BEGIN:STANDARD
TZOFFSETFROM:-0700
TZOFFSETTO:-0800
TZNAME:PST
DTSTART:20221106T090000
END:STANDARD
BEGIN:DAYLIGHT
TZOFFSETFROM:-0800
TZOFFSETTO:-0700
TZNAME:PDT
DTSTART:20230312T100000
END:DAYLIGHT
BEGIN:STANDARD
TZOFFSETFROM:-0700
TZOFFSETTO:-0800
TZNAME:PST
DTSTART:20231105T090000
END:STANDARD
BEGIN:DAYLIGHT
TZOFFSETFROM:-0800
TZOFFSETTO:-0700
TZNAME:PDT
DTSTART:20240310T100000
END:DAYLIGHT
BEGIN:STANDARD
TZOFFSETFROM:-0700
TZOFFSETTO:-0800
TZNAME:PST
DTSTART:20241103T090000
END:STANDARD
END:VTIMEZONE
BEGIN:VEVENT
DTSTART;TZID=America/Los_Angeles:20230404T080000
DTEND;TZID=America/Los_Angeles:20230404T170000
DTSTAMP:20260425T132512
CREATED:20230404T163533Z
LAST-MODIFIED:20230404T164739Z
UID:8489-1680595200-1680627600@aiasb.com
SUMMARY:Design Crawl with Studio William Hefner
DESCRIPTION:Register here
URL:https://aiasb.com/event/design-crawl-with-studio-william-hefner/
CATEGORIES:Emerging Professionals
END:VEVENT
BEGIN:VEVENT
DTSTART;TZID=America/Los_Angeles:20230413T173000
DTEND;TZID=America/Los_Angeles:20230413T190000
DTSTAMP:20260425T132512
CREATED:20230216T224227Z
LAST-MODIFIED:20230314T195828Z
UID:8367-1681407000-1681412400@aiasb.com
SUMMARY:How to Develop your Career through Community Service by Detlev Peikert
DESCRIPTION:Presentation by Detty Peikert\, AIA\, 2022 Recipient of the Lutah Maria Riggs Award \nHow to Develop your Career through Community Service \n@ AIASB Chapter House \nRegister here  \n 
URL:https://aiasb.com/event/how-to-develop-your-career-through-community-service-by-detlev-peikert/
CATEGORIES:Emerging Professionals
END:VEVENT
BEGIN:VEVENT
DTSTART;TZID=America/Los_Angeles:20230427T173000
DTEND;TZID=America/Los_Angeles:20230427T193000
DTSTAMP:20260425T132512
CREATED:20230411T160826Z
LAST-MODIFIED:20230411T160926Z
UID:8507-1682616600-1682623800@aiasb.com
SUMMARY:Design Crawl with Studio William Hefner
DESCRIPTION:Register here
URL:https://aiasb.com/event/design-crawl-with-studio-william-hefner-2/
CATEGORIES:Emerging Professionals
END:VEVENT
END:VCALENDAR