BEGIN:VCALENDAR
VERSION:2.0
PRODID:-//AIA Santa Barbara - ECPv6.15.20//NONSGML v1.0//EN
CALSCALE:GREGORIAN
METHOD:PUBLISH
X-WR-CALNAME:AIA Santa Barbara
X-ORIGINAL-URL:https://aiasb.com
X-WR-CALDESC:Events for AIA Santa Barbara
REFRESH-INTERVAL;VALUE=DURATION:PT1H
X-Robots-Tag:noindex
X-PUBLISHED-TTL:PT1H
BEGIN:VTIMEZONE
TZID:America/Los_Angeles
BEGIN:DAYLIGHT
TZOFFSETFROM:-0800
TZOFFSETTO:-0700
TZNAME:PDT
DTSTART:20230312T100000
END:DAYLIGHT
BEGIN:STANDARD
TZOFFSETFROM:-0700
TZOFFSETTO:-0800
TZNAME:PST
DTSTART:20231105T090000
END:STANDARD
BEGIN:DAYLIGHT
TZOFFSETFROM:-0800
TZOFFSETTO:-0700
TZNAME:PDT
DTSTART:20240310T100000
END:DAYLIGHT
BEGIN:STANDARD
TZOFFSETFROM:-0700
TZOFFSETTO:-0800
TZNAME:PST
DTSTART:20241103T090000
END:STANDARD
BEGIN:DAYLIGHT
TZOFFSETFROM:-0800
TZOFFSETTO:-0700
TZNAME:PDT
DTSTART:20250309T100000
END:DAYLIGHT
BEGIN:STANDARD
TZOFFSETFROM:-0700
TZOFFSETTO:-0800
TZNAME:PST
DTSTART:20251102T090000
END:STANDARD
END:VTIMEZONE
BEGIN:VEVENT
DTSTART;TZID=America/Los_Angeles:20240822T173000
DTEND;TZID=America/Los_Angeles:20240822T193000
DTSTAMP:20260424T121512
CREATED:20240724T200601Z
LAST-MODIFIED:20240724T200601Z
UID:9672-1724347800-1724355000@aiasb.com
SUMMARY:Emerging Professionals Design Crawl with AB Design Studio\, Inc
DESCRIPTION:Meet in front of the Lark & Lucky Penny.\nThere will be a Walking Tour in the Funk Zone from 5:30PM till 6:30PM\nWe will migrate across town at Third Window Brewery – 406 E Haley St #3\nMeeting at Third Window at 7:00PM\n1 LU/HSW Pending\nEmerging Professionals are invited to AIASB’s Emerging Professional mixer hosted by AB Design Studio\, Inc.\nOn a tour of the Funk Zone\, we’ll explore the Change of Use process in Zoning Ordinances and Building Code\, discuss Adaptive Reuse\, Place-Making\, and Urban Reactivation\, and examine the Funk Zone’s contribution to New Urbanism ideals.\nThis event is open to Emerging Professionals in the building and design community in Santa Barbara\, as well as AIA Associate and Architect members and their guests. \nWhere to Park:\n– Street parking\n– New Parking Lot at the Goat Tree\, 100-114 Helena Ave\n– Parking lot 13\, at the train station \nDesign crawl events are generously hosted by local design firms to support our emerging professional community. The events provide an opportunity for emerging professionals to meet fellow design colleagues and learn about the variety of firms working in the region. \nhttps://www.abdesignstudioinc.com/ \nBy attending this event you are giving AIASB permission to take your photos and post on our website\, emails and social media.
URL:https://aiasb.com/event/emerging-professionals-design-crawl-with-ab-design-studio-inc/
LOCATION:The Lark\, 131 Anacapa St\, Santa Barbara\, CA\, 93101
CATEGORIES:Emerging Professionals
END:VEVENT
END:VCALENDAR