BEGIN:VCALENDAR
VERSION:2.0
PRODID:-//AIA Santa Barbara - ECPv6.15.20//NONSGML v1.0//EN
CALSCALE:GREGORIAN
METHOD:PUBLISH
X-ORIGINAL-URL:https://aiasb.com
X-WR-CALDESC:Events for AIA Santa Barbara
REFRESH-INTERVAL;VALUE=DURATION:PT1H
X-Robots-Tag:noindex
X-PUBLISHED-TTL:PT1H
BEGIN:VTIMEZONE
TZID:America/Los_Angeles
BEGIN:DAYLIGHT
TZOFFSETFROM:-0800
TZOFFSETTO:-0700
TZNAME:PDT
DTSTART:20240310T100000
END:DAYLIGHT
BEGIN:STANDARD
TZOFFSETFROM:-0700
TZOFFSETTO:-0800
TZNAME:PST
DTSTART:20241103T090000
END:STANDARD
BEGIN:DAYLIGHT
TZOFFSETFROM:-0800
TZOFFSETTO:-0700
TZNAME:PDT
DTSTART:20250309T100000
END:DAYLIGHT
BEGIN:STANDARD
TZOFFSETFROM:-0700
TZOFFSETTO:-0800
TZNAME:PST
DTSTART:20251102T090000
END:STANDARD
BEGIN:DAYLIGHT
TZOFFSETFROM:-0800
TZOFFSETTO:-0700
TZNAME:PDT
DTSTART:20260308T100000
END:DAYLIGHT
BEGIN:STANDARD
TZOFFSETFROM:-0700
TZOFFSETTO:-0800
TZNAME:PST
DTSTART:20261101T090000
END:STANDARD
END:VTIMEZONE
BEGIN:VEVENT
DTSTART;TZID=America/Los_Angeles:20251108T110000
DTEND;TZID=America/Los_Angeles:20251108T123000
DTSTAMP:20260423T164428
CREATED:20251001T200624Z
LAST-MODIFIED:20251001T200624Z
UID:10930-1762599600-1762605000@aiasb.com
SUMMARY:Firm Open House at Bevyhouse
DESCRIPTION:Join AIA Santa Barbara’s Emerging Professionals for a special behind-the-scenes tour of Bevy House\, an innovative prefabricated housing manufacturer based in Santa Barbara.\n \n\nWhether you’re curious about prefabrication\, passionate about sustainability\, or simply looking to connect with the local design community\, this tour is a chance to expand your knowledge and network.
URL:https://aiasb.com/event/firm-open-house-bevyhouse/
LOCATION:Bevyhouse\, 630 Todd Lane\, Santa Paula\, CA\, 93060
CATEGORIES:Emerging Professionals
END:VEVENT
BEGIN:VEVENT
DTSTART;TZID=America/Los_Angeles:20251120T173000
DTEND;TZID=America/Los_Angeles:20251120T193000
DTSTAMP:20260423T164428
CREATED:20251110T222652Z
LAST-MODIFIED:20251111T203416Z
UID:11018-1763659800-1763667000@aiasb.com
SUMMARY:Firm Open House at ANACAPA Architecture
DESCRIPTION:Visit ANACAPA Architecture’s new offices on State Street!\n\n\n\nCrafting spaces that inspire and enhance the well-being of both clients and community\, all while preserving a legacy for future generations.\nJoin AIASB Emerging Professionals for an exclusive tour of ANACAPA Architecture\, a premier Santa Barbara and Portland-based design studio known for its modern\, sustainable approach to architecture. \nSpecializing in custom residences\, hospitality\, creative office\, and mixed-use projects\, ANACAPA blends design excellence with technical precision to create spaces that enrich lives and inspire connection. \n\n\nAbout ANACAPA Architecture\nAt Anacapa Architecture\, we are dedicated to advancing the fields of architecture and interior design\, aiming to redefine industry standards. Our mission is to heighten the appreciation for the intrinsic value of beauty\, functionality\, and purpose in design. \nWe specialize in various project types\, including residential\, commercial\, and hospitality design. Our approach is centered on sustainable\, innovative solutions that cater to each project’s unique requirements and aspirations\, ensuring outcomes beyond client expectations. \nWe approach each project with a renewed sense of exploration and curiosity and it is our great pleasure to invite you to experience one of our latest completed projects\, our new studio space! \nReserve your spot here!
URL:https://aiasb.com/event/firm-open-house-anacapa-architecture/
LOCATION:ANACAPA Architecture\, 1023 State street\, Santa Barbara\, CA\, 93101\, United States
CATEGORIES:Emerging Professionals
ATTACH;FMTTYPE=application/pdf:https://aiasb.com/wp-content/uploads/2025/11/A.BLACK_.pdf
END:VEVENT
END:VCALENDAR