BEGIN:VCALENDAR
VERSION:2.0
PRODID:-//AIA Santa Barbara - ECPv6.15.20//NONSGML v1.0//EN
CALSCALE:GREGORIAN
METHOD:PUBLISH
X-WR-CALNAME:AIA Santa Barbara
X-ORIGINAL-URL:https://aiasb.com
X-WR-CALDESC:Events for AIA Santa Barbara
REFRESH-INTERVAL;VALUE=DURATION:PT1H
X-Robots-Tag:noindex
X-PUBLISHED-TTL:PT1H
BEGIN:VTIMEZONE
TZID:America/Los_Angeles
BEGIN:DAYLIGHT
TZOFFSETFROM:-0800
TZOFFSETTO:-0700
TZNAME:PDT
DTSTART:20250309T100000
END:DAYLIGHT
BEGIN:STANDARD
TZOFFSETFROM:-0700
TZOFFSETTO:-0800
TZNAME:PST
DTSTART:20251102T090000
END:STANDARD
BEGIN:DAYLIGHT
TZOFFSETFROM:-0800
TZOFFSETTO:-0700
TZNAME:PDT
DTSTART:20260308T100000
END:DAYLIGHT
BEGIN:STANDARD
TZOFFSETFROM:-0700
TZOFFSETTO:-0800
TZNAME:PST
DTSTART:20261101T090000
END:STANDARD
BEGIN:DAYLIGHT
TZOFFSETFROM:-0800
TZOFFSETTO:-0700
TZNAME:PDT
DTSTART:20270314T100000
END:DAYLIGHT
BEGIN:STANDARD
TZOFFSETFROM:-0700
TZOFFSETTO:-0800
TZNAME:PST
DTSTART:20271107T090000
END:STANDARD
END:VTIMEZONE
BEGIN:VEVENT
DTSTART;TZID=America/Los_Angeles:20260326T173000
DTEND;TZID=America/Los_Angeles:20260326T193000
DTSTAMP:20260424T092657
CREATED:20260219T202759Z
LAST-MODIFIED:20260223T190801Z
UID:11336-1774546200-1774553400@aiasb.com
SUMMARY:Emerging Professionals Open House at Bildsten Architecture and Planning
DESCRIPTION:  \n  \n1 LU Pending \nRefreshments and food provided \nJoin AIASB Emerging Professionals for a tour of Bildsten Architecture’s Studio Downtown! \nStep inside the studio of Bildsten Architecture and Planning for an exclusive behind-the-scenes look at their work\, process\, and passion for shaping sustainable communities along California’s Central Coast. This is a unique opportunity to see how a collaborative\, mission-driven firm navigates local regulations\, sustainability goals\, and client needs—while creating architecture that enriches the broader community. \nAbout Bildsten Architecture and Planning \nFrom initial concept through construction\, the firm designs complete environments that enrich the communities they serve. Their collaborative process emphasizes constant improvement\, deep experience within complex local regulatory systems\, and an unwavering commitment to listening carefully to clients’ goals\, needs\, and budgets. Throughout every phase\, the team remains engaged and passionate about delivering meaningful design solutions. \nWith a strong belief in building sustainable communities\, Bildsten Architecture and Planning advocates for vibrant\, walkable neighborhoods that integrate housing\, workplaces\, schools\, shops\, and recreation. Their commitment extends beyond projects—actively participating in professional and community organizations to support thoughtful growth and lasting positive impact. \nReserve your spot! 
URL:https://aiasb.com/event/epbildsten/
LOCATION:Bildsten Architecture and Planning\, 30 W Figueroa Street\, Santa Barbara\, 93101\, United States
CATEGORIES:Emerging Professionals
END:VEVENT
BEGIN:VEVENT
DTSTART;TZID=America/Los_Angeles:20260416T173000
DTEND;TZID=America/Los_Angeles:20260416T193000
DTSTAMP:20260424T092657
CREATED:20260318T215852Z
LAST-MODIFIED:20260402T223505Z
UID:11361-1776360600-1776367800@aiasb.com
SUMMARY:Emerging Professionals Open House at Studio William Hefner
DESCRIPTION:   \n  \n1 LU Pending \nRefreshments and food provided \nStudio William Hefner is opening its doors for an exciting tour of their design studio! \nJoin Emerging Professionals for an Open House at Studio William Hefner’s Montecito studio. \nKnown for a diverse portfolio spanning modern and traditional architecture\, SWh is guided by a passion for warm livability and an uncompromising attention to detail. SWH works across styles and regions\, always beginning with the client’s vision and designing spaces that enrich everyday life. This is a great opportunity for emerging professionals to tour the studio\, engage with their team\, and gain insight into a design process built on curiosity\, collaboration\, and craft. \n  \nAbout Studio William Hefner \n“For over three decades Studio William Hefner has created luxury homes in California\, across the US\, and internationally. With offices in Los Angeles and Montecito\, our projects range from new urban houses to country estates and landmark restorations\, as well as commercial typologies. We achieve the fullest experience of a space for our clients when we can tailor interior design and custom furnishings to the character of the architecture and landscape. \nOur work is always guided by a quest for simplicity and elegance. We are grounded in an appreciation for the fine craft of building and a harmonious use of natural forms and materials. Balance is a central condition of our practice. Everything we make emphasizes authenticity and historical reference\, while embracing 21st century technology\, comforts\, and spatial invention. We seek a modern lightness in all that we do\, to create places that are warm and understated\, evocative and original\, and always\, richly restful.” – williamhefner.com \nReserve your spot!
URL:https://aiasb.com/event/epatstudiowilliamhefner/
LOCATION:Studio William Hefner\, 113 Middle Road\, Santa Barbara\, CA\, 93101\, United States
CATEGORIES:Emerging Professionals
END:VEVENT
BEGIN:VEVENT
DTSTART;TZID=America/Los_Angeles:20260521T173000
DTEND;TZID=America/Los_Angeles:20260521T193000
DTSTAMP:20260424T092657
CREATED:20260321T052714Z
LAST-MODIFIED:20260321T052829Z
UID:11370-1779384600-1779391800@aiasb.com
SUMMARY:Emerging Professionals Open House at Outset Architecture
DESCRIPTION:    \n  \n1 LU Pending \nRefreshments and food provided \n\n\nExplore Outset Architecture with Emerging Professionals for an inside look at their design process! We’d love to have you join us for an Open House at Outset Architecture — where innovative design meets purposeful execution. \n\n\n\nFounded by Adam Grosshans and Ben Krintzman\, Outset Architecture is a Santa Barbara-based firm built on the belief that great spaces should be functional\, sustainable\, and a true reflection of the people who inhabit them. From initial concept through construction\, every project is treated with precision and care — ensuring that what gets built is exactly what was envisioned. \nThis Open House is a wonderful opportunity for emerging professionals to go behind the scenes\, and explore what it looks like to bring bold\, innovative architecture to life \, from the first sketch all the way through the final build. \n\n\n\n\n\n\nReserve your spot!
URL:https://aiasb.com/event/epatoutset-2/
LOCATION:Outset Architecture\, 21 E Canon Perdido St #300\, Santa Barbara\, California\, 93101\, United States
CATEGORIES:Emerging Professionals
END:VEVENT
BEGIN:VEVENT
DTSTART;TZID=America/Los_Angeles:20260618T173000
DTEND;TZID=America/Los_Angeles:20260618T193000
DTSTAMP:20260424T092657
CREATED:20260318T220514Z
LAST-MODIFIED:20260402T223346Z
UID:11371-1781803800-1781811000@aiasb.com
SUMMARY:Emerging Professionals Open House at Michael G. Imber
DESCRIPTION:    \n  \n1 LU  \nRefreshments and food provided \n\nVisit Michael G. Imber Architects’ new studio in Santa Barbara! \nYou’re invited to an Open House at Michael G. Imber Architects — a studio where artistic expression\, craftsmanship\, and a deep connection to place define every project. \nTheir approach to architecture blends an appreciation for rugged\, natural landscapes with an ordered classicism that explores how culture and environment shape the spaces we inhabit. Far from a standard design practice\, Michael G. Imber Architects is driven by a commitment to character\, material quality\, and the belief that architecture should complement and elevate modern life. \nThis is a great opportunity for emerging professionals to connect with the team\, view their portfolio\, and gain insight into a design philosophy that is as thoughtful as it is distinctive. \n\nReserve your spot!
URL:https://aiasb.com/event/epatmichaelgimber/
LOCATION:Michael G. Imber\, 911 De La Vina St\, Santa Barbara\, CA\, 93101\, United States
CATEGORIES:Emerging Professionals
END:VEVENT
END:VCALENDAR