BEGIN:VCALENDAR
VERSION:2.0
PRODID:-//AIA Santa Barbara - ECPv6.15.20//NONSGML v1.0//EN
CALSCALE:GREGORIAN
METHOD:PUBLISH
X-ORIGINAL-URL:https://aiasb.com
X-WR-CALDESC:Events for AIA Santa Barbara
REFRESH-INTERVAL;VALUE=DURATION:PT1H
X-Robots-Tag:noindex
X-PUBLISHED-TTL:PT1H
BEGIN:VTIMEZONE
TZID:America/Los_Angeles
BEGIN:DAYLIGHT
TZOFFSETFROM:-0800
TZOFFSETTO:-0700
TZNAME:PDT
DTSTART:20250309T100000
END:DAYLIGHT
BEGIN:STANDARD
TZOFFSETFROM:-0700
TZOFFSETTO:-0800
TZNAME:PST
DTSTART:20251102T090000
END:STANDARD
BEGIN:DAYLIGHT
TZOFFSETFROM:-0800
TZOFFSETTO:-0700
TZNAME:PDT
DTSTART:20260308T100000
END:DAYLIGHT
BEGIN:STANDARD
TZOFFSETFROM:-0700
TZOFFSETTO:-0800
TZNAME:PST
DTSTART:20261101T090000
END:STANDARD
BEGIN:DAYLIGHT
TZOFFSETFROM:-0800
TZOFFSETTO:-0700
TZNAME:PDT
DTSTART:20270314T100000
END:DAYLIGHT
BEGIN:STANDARD
TZOFFSETFROM:-0700
TZOFFSETTO:-0800
TZNAME:PST
DTSTART:20271107T090000
END:STANDARD
END:VTIMEZONE
BEGIN:VEVENT
DTSTART;TZID=America/Los_Angeles:20260318T173000
DTEND;TZID=America/Los_Angeles:20260318T200000
DTSTAMP:20260423T134342
CREATED:20260227T200645Z
LAST-MODIFIED:20260311T184932Z
UID:11339-1773855000-1773864000@aiasb.com
SUMMARY:AIASB March General Meeting
DESCRIPTION:  \n1 LU Pending \nDinner and Drinks Provided \n  \nAbout \nJoin the AIA Santa Barbara for the March General Meeting\, featuring a panel discussion with Santa Barbara city administrators exploring the future of the city and the opportunities shaping its next chapter. The conversation will address downtown revitalization efforts\, including the future of State Street\, adaptive reuse strategies\, and emerging plans for Paseo Nuevo and other downtown developments. Panelists will also discuss the proposed June Charter Amendment\, local housing goals and feasibility\, and efforts to streamline permitting and development processes. The evening will conclude with a forward-looking discussion about the policies and projects that may influence Santa Barbara’s growth and vitality in the years ahead. \nPanelists \nAllison DeBusk\nCommunity Development Director\nCITY OF SANTA BARBARA\, Community Development \nKelly McAdoo\nCity Administrator\nCITY OF SANTA BARBARA \nAnthony Valdez\nDeputy City Administrator\nCITY OF SANTA BARBARA
URL:https://aiasb.com/event/aiasb-march-general-meeting/
LOCATION:CEC Environmental Hub\, 1219 State St. Suite A\, Santa Barbara\, United States
CATEGORIES:General Meetings,Major Events
END:VEVENT
END:VCALENDAR