BEGIN:VCALENDAR
VERSION:2.0
PRODID:-//AIA Santa Barbara - ECPv6.15.20//NONSGML v1.0//EN
CALSCALE:GREGORIAN
METHOD:PUBLISH
X-ORIGINAL-URL:https://aiasb.com
X-WR-CALDESC:Events for AIA Santa Barbara
REFRESH-INTERVAL;VALUE=DURATION:PT1H
X-Robots-Tag:noindex
X-PUBLISHED-TTL:PT1H
BEGIN:VTIMEZONE
TZID:America/Los_Angeles
BEGIN:DAYLIGHT
TZOFFSETFROM:-0800
TZOFFSETTO:-0700
TZNAME:PDT
DTSTART:20230312T100000
END:DAYLIGHT
BEGIN:STANDARD
TZOFFSETFROM:-0700
TZOFFSETTO:-0800
TZNAME:PST
DTSTART:20231105T090000
END:STANDARD
BEGIN:DAYLIGHT
TZOFFSETFROM:-0800
TZOFFSETTO:-0700
TZNAME:PDT
DTSTART:20240310T100000
END:DAYLIGHT
BEGIN:STANDARD
TZOFFSETFROM:-0700
TZOFFSETTO:-0800
TZNAME:PST
DTSTART:20241103T090000
END:STANDARD
BEGIN:DAYLIGHT
TZOFFSETFROM:-0800
TZOFFSETTO:-0700
TZNAME:PDT
DTSTART:20250309T100000
END:DAYLIGHT
BEGIN:STANDARD
TZOFFSETFROM:-0700
TZOFFSETTO:-0800
TZNAME:PST
DTSTART:20251102T090000
END:STANDARD
END:VTIMEZONE
BEGIN:VEVENT
DTSTART;TZID=America/Los_Angeles:20240717T120000
DTEND;TZID=America/Los_Angeles:20240717T130000
DTSTAMP:20260424T173632
CREATED:20240214T200601Z
LAST-MODIFIED:20240619T205443Z
UID:9327-1721217600-1721221200@aiasb.com
SUMMARY:Lunchtime Learning - Solar Energy and Storage Solutions: Navigating the New NEM 3 Regulations
DESCRIPTION:Lunchtime Learning \nPresenters: Cash Upton and Spencer Hann\, Brighten Solar \nThis presentation will dive into the latest advancements in solar energy and battery storage\, with a focus on understanding NEM 3 implications\, exploring the role of energy storage solutions\, and distinguishing between grid-tied and backup battery systems. Participants will gain insights into the current solar energy landscape and its influence on architectural design and sustainable building practices.
URL:https://aiasb.com/event/lunchtime-learning-solar-energy-and-storage-solutions-navigating-the-new-nem-3-regulations/
LOCATION:AIA Santa Barbara\, 229 E Victoria St\, Santa Barbara\, CA\, 93101\, United States
CATEGORIES:Lunchtime Learning
END:VEVENT
END:VCALENDAR