BEGIN:VCALENDAR
VERSION:2.0
PRODID:-//AIA Santa Barbara - ECPv6.15.20//NONSGML v1.0//EN
CALSCALE:GREGORIAN
METHOD:PUBLISH
X-WR-CALNAME:AIA Santa Barbara
X-ORIGINAL-URL:https://aiasb.com
X-WR-CALDESC:Events for AIA Santa Barbara
REFRESH-INTERVAL;VALUE=DURATION:PT1H
X-Robots-Tag:noindex
X-PUBLISHED-TTL:PT1H
BEGIN:VTIMEZONE
TZID:America/Los_Angeles
BEGIN:DAYLIGHT
TZOFFSETFROM:-0800
TZOFFSETTO:-0700
TZNAME:PDT
DTSTART:20230312T100000
END:DAYLIGHT
BEGIN:STANDARD
TZOFFSETFROM:-0700
TZOFFSETTO:-0800
TZNAME:PST
DTSTART:20231105T090000
END:STANDARD
BEGIN:DAYLIGHT
TZOFFSETFROM:-0800
TZOFFSETTO:-0700
TZNAME:PDT
DTSTART:20240310T100000
END:DAYLIGHT
BEGIN:STANDARD
TZOFFSETFROM:-0700
TZOFFSETTO:-0800
TZNAME:PST
DTSTART:20241103T090000
END:STANDARD
BEGIN:DAYLIGHT
TZOFFSETFROM:-0800
TZOFFSETTO:-0700
TZNAME:PDT
DTSTART:20250309T100000
END:DAYLIGHT
BEGIN:STANDARD
TZOFFSETFROM:-0700
TZOFFSETTO:-0800
TZNAME:PST
DTSTART:20251102T090000
END:STANDARD
END:VTIMEZONE
BEGIN:VEVENT
DTSTART;TZID=America/Los_Angeles:20240821T120000
DTEND;TZID=America/Los_Angeles:20240821T130000
DTSTAMP:20260424T162502
CREATED:20240718T173616Z
LAST-MODIFIED:20240718T173616Z
UID:9650-1724241600-1724245200@aiasb.com
SUMMARY:Fused Bamboo\, A Sustainable Choice for Building Materials
DESCRIPTION:1 LU/HSW\nLunch included! No charge for members\nPresented by dassoXTR\nThis presentation is designed to provide an overview of Composite Bamboo Technology. This course covers typical applications\, product types\, energy efficiency\, code requirements\, and standard materials and fabrication methods. Topics include : Design considerations for today’s market; Specifying the right product for the application; Types of systems and their features; Industry standards in terms of code compliance\, structural integrity\, and testing performance. \nLearning Objectives:\n1. Outline the types of projects to use Bamboo Building Materials: High quality meets Sustainability.​\n2. Illustrate the bamboo as a renewable resource.\n3\, Analyze the properties and benefits of bamboo as a building material.\n4. Describe the fast-growing industry of Bamboo.\n5. Determine the process and development of Fused Bamboo
URL:https://aiasb.com/event/fused-bamboo-a-sustainable-choice-for-building-materials/
LOCATION:AIA Santa Barbara\, 229 E Victoria St\, Santa Barbara\, CA\, 93101\, United States
CATEGORIES:Lunchtime Learning
END:VEVENT
END:VCALENDAR