BEGIN:VCALENDAR
VERSION:2.0
PRODID:-//AIA Santa Barbara - ECPv6.15.20//NONSGML v1.0//EN
CALSCALE:GREGORIAN
METHOD:PUBLISH
X-ORIGINAL-URL:https://aiasb.com
X-WR-CALDESC:Events for AIA Santa Barbara
REFRESH-INTERVAL;VALUE=DURATION:PT1H
X-Robots-Tag:noindex
X-PUBLISHED-TTL:PT1H
BEGIN:VTIMEZONE
TZID:America/Los_Angeles
BEGIN:DAYLIGHT
TZOFFSETFROM:-0800
TZOFFSETTO:-0700
TZNAME:PDT
DTSTART:20230312T100000
END:DAYLIGHT
BEGIN:STANDARD
TZOFFSETFROM:-0700
TZOFFSETTO:-0800
TZNAME:PST
DTSTART:20231105T090000
END:STANDARD
BEGIN:DAYLIGHT
TZOFFSETFROM:-0800
TZOFFSETTO:-0700
TZNAME:PDT
DTSTART:20240310T100000
END:DAYLIGHT
BEGIN:STANDARD
TZOFFSETFROM:-0700
TZOFFSETTO:-0800
TZNAME:PST
DTSTART:20241103T090000
END:STANDARD
BEGIN:DAYLIGHT
TZOFFSETFROM:-0800
TZOFFSETTO:-0700
TZNAME:PDT
DTSTART:20250309T100000
END:DAYLIGHT
BEGIN:STANDARD
TZOFFSETFROM:-0700
TZOFFSETTO:-0800
TZNAME:PST
DTSTART:20251102T090000
END:STANDARD
END:VTIMEZONE
BEGIN:VEVENT
DTSTART;TZID=America/Los_Angeles:20240918T120000
DTEND;TZID=America/Los_Angeles:20240918T130000
DTSTAMP:20260424T152433
CREATED:20240522T153824Z
LAST-MODIFIED:20240821T155915Z
UID:9571-1726660800-1726664400@aiasb.com
SUMMARY:As-Built Surveying Best Practices
DESCRIPTION:1 LU\nAs-Built Surveying Best Practices is a comprehensive course that teaches architects how to create As-Built plans prior to beginning their design process. The class is intended to educate the attendee about both parts of the As-Built survey process – gathering the field measurements of the structure\, as well as using the data collected to draft or model the final plans needed by the architect. The first part of the course focuses on laser scanning\, which is quickly being adopted as the main form of field measuring because of its efficiency and accuracy. The second part of the course explains the second step in creating As-Built plans\, which is to document the existing conditions using the Point Cloud in AutoCAD 2D drafting software and/or various 3D Building Information Modeling software. When attendees complete the course\, they will understand the full process for creating As-Built plans using laser scanning as the main method for gathering field measurements.
URL:https://aiasb.com/event/as-built-surveying-best-practices/
LOCATION:Zoom link will be sent to attendees prior to the event.
CATEGORIES:Lunchtime Learning
END:VEVENT
END:VCALENDAR