BEGIN:VCALENDAR
VERSION:2.0
PRODID:-//AIA Santa Barbara - ECPv6.15.20//NONSGML v1.0//EN
CALSCALE:GREGORIAN
METHOD:PUBLISH
X-ORIGINAL-URL:https://aiasb.com
X-WR-CALDESC:Events for AIA Santa Barbara
REFRESH-INTERVAL;VALUE=DURATION:PT1H
X-Robots-Tag:noindex
X-PUBLISHED-TTL:PT1H
BEGIN:VTIMEZONE
TZID:America/Los_Angeles
BEGIN:DAYLIGHT
TZOFFSETFROM:-0800
TZOFFSETTO:-0700
TZNAME:PDT
DTSTART:20250309T100000
END:DAYLIGHT
BEGIN:STANDARD
TZOFFSETFROM:-0700
TZOFFSETTO:-0800
TZNAME:PST
DTSTART:20251102T090000
END:STANDARD
BEGIN:DAYLIGHT
TZOFFSETFROM:-0800
TZOFFSETTO:-0700
TZNAME:PDT
DTSTART:20260308T100000
END:DAYLIGHT
BEGIN:STANDARD
TZOFFSETFROM:-0700
TZOFFSETTO:-0800
TZNAME:PST
DTSTART:20261101T090000
END:STANDARD
BEGIN:DAYLIGHT
TZOFFSETFROM:-0800
TZOFFSETTO:-0700
TZNAME:PDT
DTSTART:20270314T100000
END:DAYLIGHT
BEGIN:STANDARD
TZOFFSETFROM:-0700
TZOFFSETTO:-0800
TZNAME:PST
DTSTART:20271107T090000
END:STANDARD
END:VTIMEZONE
BEGIN:VEVENT
DTSTART;TZID=America/Los_Angeles:20260325T120000
DTEND;TZID=America/Los_Angeles:20260325T130000
DTSTAMP:20260423T150857
CREATED:20260219T202109Z
LAST-MODIFIED:20260311T201829Z
UID:11331-1774440000-1774443600@aiasb.com
SUMMARY:Lunch & Learn: Solar + Batteries with Brighten Solar Co.
DESCRIPTION: \n1 LU \nLunch Provided! No charge for members \nAbout \nAs solar and battery storage become standard in high-performance residential design\, architects are increasingly called upon to integrate these systems from the earliest stages of a project. This presentation covers how early solar coordination preserves architectural intent\, improves performance\, and avoids costly retrofits — including roof design strategies\, battery placement\, whole-home backup architecture\, and California Title 24 requirements. \nLearning Objectives \n\nUnderstand how early solar and storage integration influences roof design\, electrical planning\, and architectural detailing.\nLearn what’s new in home battery technology and whole-home backup architecture\, including how equipment placement and clearance requirements affect exterior design.\nGain a working understanding of California Title 24 solar requirements for new residential construction and their design implications.
URL:https://aiasb.com/event/lunch-learn-brightensolarco/
LOCATION:AIA Santa Barbara\, 229 E Victoria St\, Santa Barbara\, CA\, 93101\, United States
CATEGORIES:Lunchtime Learning
END:VEVENT
END:VCALENDAR