BEGIN:VCALENDAR
VERSION:2.0
PRODID:-//AIA Santa Barbara - ECPv6.15.20//NONSGML v1.0//EN
CALSCALE:GREGORIAN
METHOD:PUBLISH
X-WR-CALNAME:AIA Santa Barbara
X-ORIGINAL-URL:https://aiasb.com
X-WR-CALDESC:Events for AIA Santa Barbara
REFRESH-INTERVAL;VALUE=DURATION:PT1H
X-Robots-Tag:noindex
X-PUBLISHED-TTL:PT1H
BEGIN:VTIMEZONE
TZID:America/Los_Angeles
BEGIN:DAYLIGHT
TZOFFSETFROM:-0800
TZOFFSETTO:-0700
TZNAME:PDT
DTSTART:20170312T100000
END:DAYLIGHT
BEGIN:STANDARD
TZOFFSETFROM:-0700
TZOFFSETTO:-0800
TZNAME:PST
DTSTART:20171105T090000
END:STANDARD
BEGIN:DAYLIGHT
TZOFFSETFROM:-0800
TZOFFSETTO:-0700
TZNAME:PDT
DTSTART:20180311T100000
END:DAYLIGHT
BEGIN:STANDARD
TZOFFSETFROM:-0700
TZOFFSETTO:-0800
TZNAME:PST
DTSTART:20181104T090000
END:STANDARD
BEGIN:DAYLIGHT
TZOFFSETFROM:-0800
TZOFFSETTO:-0700
TZNAME:PDT
DTSTART:20190310T100000
END:DAYLIGHT
BEGIN:STANDARD
TZOFFSETFROM:-0700
TZOFFSETTO:-0800
TZNAME:PST
DTSTART:20191103T090000
END:STANDARD
BEGIN:DAYLIGHT
TZOFFSETFROM:-0800
TZOFFSETTO:-0700
TZNAME:PDT
DTSTART:20200308T100000
END:DAYLIGHT
BEGIN:STANDARD
TZOFFSETFROM:-0700
TZOFFSETTO:-0800
TZNAME:PST
DTSTART:20201101T090000
END:STANDARD
END:VTIMEZONE
BEGIN:VEVENT
DTSTART;TZID=America/Los_Angeles:20190918T120000
DTEND;TZID=America/Los_Angeles:20190918T130000
DTSTAMP:20260423T204515
CREATED:20190904T163305Z
LAST-MODIFIED:20190904T163305Z
UID:3585-1568808000-1568811600@aiasb.com
SUMMARY:Lunchtime Learning: 2019 Building Energy Efficiency standards
DESCRIPTION:2019 Building Energy Efficiency standards – What you need to know about the new residential solar requirements. \n1LU/HSW \nStarting January 1st\, 2020\, all new building permit submissions will be subject to the 2019 building code. With new regulations come new considerations and questions. This lunchtime learning session aims at clarifying the residential solar PV section of the new code\, leaving you with tools and answers to properly integrate solar with your design. \nLearning Objectives \nParticipants will be able to: \n\nState objectives and why solar makes sense.\nGet an equipment refresh of solar panels\, inverters\, batteries\, specifications that impact your designs.\nKnow the new solar requirements in the 2019 BEE standards.\nLearn how to dimension a solar system with these new requirements in mind.\n\nHSW: This session addresses topics of energy efficiency and air quality\, qualifying for 1 LU/HSW. \nMore information about Brighten Solar Co. click here
URL:https://aiasb.com/event/lunchtime-learning-2019-building-energy-efficiency-standards/
LOCATION:CA
CATEGORIES:Lunchtime Learning
END:VEVENT
BEGIN:VEVENT
DTSTART;TZID=America/Los_Angeles:20190904T120000
DTEND;TZID=America/Los_Angeles:20190904T130000
DTSTAMP:20260423T204515
CREATED:20190904T163549Z
LAST-MODIFIED:20190904T163549Z
UID:3589-1567598400-1567602000@aiasb.com
SUMMARY:Residential Retrofits – 2019 Title 24 and best practices for high performance
DESCRIPTION:Presented by InBalanceGreen \nNo registration set up yet.  Waiting for more info
URL:https://aiasb.com/event/residential-retrofits-2019-title-24-and-best-practices-for-high-performance/
LOCATION:AIA Santa Barbara\, 229 E Victoria St\, Santa Barbara\, CA\, 93101\, United States
CATEGORIES:Lunchtime Learning
END:VEVENT
BEGIN:VEVENT
DTSTART;TZID=America/Los_Angeles:20190619T120000
DTEND;TZID=America/Los_Angeles:20190619T130000
DTSTAMP:20260423T204515
CREATED:20190522T190132Z
LAST-MODIFIED:20190522T190132Z
UID:3206-1560945600-1560949200@aiasb.com
SUMMARY:Lunchtime Learning: Environmental Performance of Redwood Lumber
DESCRIPTION:Description\n\n\n\nThis course offers insight into the environmental performance of Redwood Lumber. The details and results of a Life Cycle Assessment (LCA) comparing Redwood and plastic/composite decking options will be shared as will information about Redwood’s Environmental Product Declaration (EPD). \nThe course also provides comparisons between Redwood Lumber and other wood species\, as well as details about the sustainability of modern Redwood forestry management practices. \nFinally\, this course provides details on important product attributes of Redwood Lumber including grades\, fire performance\, strength\, and finishing options among others. \nLearning Objectives: \n1. Understand the sustainability of modern Redwood forestry management practices. \n2. Understand the results of a Life Cycle Assessment (LCA) comparing Redwood and plastic/composite decking. \n3. Identify key findings of the Redwood Decking Environmental Product Declaration (EPD). \n4. Understand Redwood’s Class B flame spread in accordance with ASTM standards. \n5. Understand Redwood Lumber grades and applications
URL:https://aiasb.com/event/lunchtime-learning-environmental-performance-of-redwood-lumber/
LOCATION:AIA Santa Barbara\, 229 E Victoria St\, Santa Barbara\, CA\, 93101\, United States
CATEGORIES:Lunchtime Learning
END:VEVENT
BEGIN:VEVENT
DTSTART;TZID=America/Los_Angeles:20190417T120000
DTEND;TZID=America/Los_Angeles:20190417T130000
DTSTAMP:20260423T204515
CREATED:20190212T194725Z
LAST-MODIFIED:20190212T194725Z
UID:2926-1555502400-1555506000@aiasb.com
SUMMARY:Lunchtime Learning: Residential ZNE for Title 24
DESCRIPTION:Be ready for the 2019 update of Title 24 mandating Zero Net Energy for residential construction.  We will highlight major code changes\, offer cost-effective details on construction assemblies and provide guidelines for sizing your project’s PV system. \n  \nPresented by In Balance Green Consulting: \n\nJennifer Rennick\, AIA\, Certified Energy Analyst\nMike Horgan\, Passive House\, and Zero Net Energy – Builder Implementation\n\nLearning Objectives \nParticipants will be able to: \n\nUnderstand the major changes in the Residential Title 24 Building Energy Efficiency Standards 2019 (taking effect January 1\, 2020).\nKnow what envelope assemblies and systems will serve as the new “baseline” for energy performance.\nUnderstand new requirements for renewable energy and how to determine the system size.\nIdentify cost-effective strategies to design\, detail and construct residential projects for code compliance and beyond.\n\nHSW: This session addresses topics of energy efficiency and air quality\, qualifying for 1 HSW. \n1LU/HSW \n#041719
URL:https://aiasb.com/event/lunchtime-learning-residential-zne-for-title-24/
LOCATION:AIA Santa Barbara\, 229 E Victoria St\, Santa Barbara\, CA\, 93101\, United States
CATEGORIES:Lunchtime Learning
END:VEVENT
BEGIN:VEVENT
DTSTART;TZID=America/Los_Angeles:20190313T120000
DTEND;TZID=America/Los_Angeles:20190313T130000
DTSTAMP:20260423T204515
CREATED:20190228T194147Z
LAST-MODIFIED:20190312T150808Z
UID:2967-1552478400-1552482000@aiasb.com
SUMMARY:Lunchtime Learning: Residential Design with Motorized Shading Solutions
DESCRIPTION:In this course\, you’ll learn about the importance of residential shading. You’ll also gain a better understanding of the differences between motorized and manual shading\, the importance of fabric characteristics and how it plays into the performance of shading fabric\, and discover how automated shading systems maximize daylighting. \nPresented by Michelle Guss from Crestron \nLearning Objectives \nParticipants will be able to: \n\nBe familiar with the benefits of using motorized shades\nBe able to explain the conducive design to motorized shades including types of shades and fabric basics\nBe able to convey the best ways to conceal shades\nBe able to define how to integrate lighting and shading including maximized daylight and energy efficiency\n\n1LU/HSW \nHSW: This session addresses topics of energy efficiency\, indoor thermal comfort\, and with sustainable design\, qualifying for 1 LU/HSW.
URL:https://aiasb.com/event/lunchtime-learning-residential-design-with-motorized-shading-solutions/
LOCATION:Mission Audio Video\, 1910 De La Vina St\, Santa Barbara\, CA\, 93101\, United States
CATEGORIES:Lunchtime Learning
END:VEVENT
BEGIN:VEVENT
DTSTART;TZID=America/Los_Angeles:20190313T120000
DTEND;TZID=America/Los_Angeles:20190313T130000
DTSTAMP:20260423T204515
CREATED:20190124T192937Z
LAST-MODIFIED:20190226T160431Z
UID:2885-1552478400-1552482000@aiasb.com
SUMMARY:Lunchtime Learning: Mission Audio Video
DESCRIPTION:
URL:https://aiasb.com/event/lunchtime-learning-mission-audio-video-2/
LOCATION:AIA Santa Barbara\, 229 E Victoria St\, Santa Barbara\, CA\, 93101\, United States
CATEGORIES:Lunchtime Learning
END:VEVENT
BEGIN:VEVENT
DTSTART;TZID=America/Los_Angeles:20190123T120000
DTEND;TZID=America/Los_Angeles:20190123T130000
DTSTAMP:20260423T204515
CREATED:20190108T005013Z
LAST-MODIFIED:20190108T005013Z
UID:2850-1548244800-1548248400@aiasb.com
SUMMARY:Creating and Maintaining a Thriving Client Relationship
DESCRIPTION:Lunchtime Learning: Creating and Maintaining a Thriving Client Relationship
URL:https://aiasb.com/event/creating-and-maintaining-a-thriving-client-relationship/
LOCATION:AIA Santa Barbara\, 229 E Victoria St\, Santa Barbara\, CA\, 93101\, United States
CATEGORIES:Lunchtime Learning
END:VEVENT
BEGIN:VEVENT
DTSTART;TZID=America/Los_Angeles:20181213T120000
DTEND;TZID=America/Los_Angeles:20181213T131500
DTSTAMP:20260423T204515
CREATED:20181129T185613Z
LAST-MODIFIED:20181129T185613Z
UID:2724-1544702400-1544706900@aiasb.com
SUMMARY:Lunchtime Learning: MASKING
DESCRIPTION:Architectural Drawing led by Robin Donaldson\, AIA\n1 LU available\nFor AIA members only
URL:https://aiasb.com/event/lunchtime-learning-masking/
LOCATION:Perdido Art Project\, 1W Cannon Perdido St\, Santa Barbara\, CA\, 93101\, United States
CATEGORIES:Lunchtime Learning
END:VEVENT
BEGIN:VEVENT
DTSTART;TZID=America/Los_Angeles:20181114T120000
DTEND;TZID=America/Los_Angeles:20181114T130000
DTSTAMP:20260423T204515
CREATED:20181031T173551Z
LAST-MODIFIED:20181031T173551Z
UID:2592-1542196800-1542200400@aiasb.com
SUMMARY:Lunchtime Learning with Buena Tile+Stone
DESCRIPTION:Join us for a course on: Porcelain Pavers\, New Horizons in Space and Design
URL:https://aiasb.com/event/lunchtime-learning-with-buena-tilestone/
LOCATION:AIA Santa Barbara\, 229 E Victoria St\, Santa Barbara\, CA\, 93101\, United States
CATEGORIES:Lunchtime Learning
END:VEVENT
BEGIN:VEVENT
DTSTART;TZID=America/Los_Angeles:20180919T120000
DTEND;TZID=America/Los_Angeles:20180919T130000
DTSTAMP:20260423T204515
CREATED:20180717T180551Z
LAST-MODIFIED:20180828T205140Z
UID:2318-1537358400-1537362000@aiasb.com
SUMMARY:Lunchtime Learning: Flood Impacts
DESCRIPTION:Smart Vent Foundation Flood Vents will present “Floodplain Design\, Construction and Impacts on Flood Insurance” on September 19th \nMore information at the Eventbrite registration page
URL:https://aiasb.com/event/lunchtime-learning-flood-impacts/
LOCATION:CA
CATEGORIES:Lunchtime Learning
END:VEVENT
BEGIN:VEVENT
DTSTART;TZID=America/Los_Angeles:20180906T120000
DTEND;TZID=America/Los_Angeles:20180906T130000
DTSTAMP:20260423T204515
CREATED:20180816T212301Z
LAST-MODIFIED:20180828T205157Z
UID:2424-1536235200-1536238800@aiasb.com
SUMMARY:Lunchtime Learning: Tiny Houses: Big Living
DESCRIPTION:Tiny Houses: Big Living\nMore info at EventBrite registration site
URL:https://aiasb.com/event/lunchtime-learning/
LOCATION:CA
CATEGORIES:Lunchtime Learning
END:VEVENT
BEGIN:VEVENT
DTSTART;TZID=America/Los_Angeles:20180713T120000
DTEND;TZID=America/Los_Angeles:20180713T130000
DTSTAMP:20260423T204515
CREATED:20180411T200148Z
LAST-MODIFIED:20180411T200148Z
UID:1618-1531483200-1531486800@aiasb.com
SUMMARY:Lunchtime Learning: West Coast SIPS
DESCRIPTION:
URL:https://aiasb.com/event/lunchtime-learning-west-coast-sips/
LOCATION:AIA Santa Barbara\, 229 E Victoria St\, Santa Barbara\, CA\, 93101\, United States
CATEGORIES:Lunchtime Learning
END:VEVENT
BEGIN:VEVENT
DTSTART;TZID=America/Los_Angeles:20180620T120000
DTEND;TZID=America/Los_Angeles:20180620T130000
DTSTAMP:20260423T204515
CREATED:20180411T195135Z
LAST-MODIFIED:20180530T175644Z
UID:1603-1529496000-1529499600@aiasb.com
SUMMARY:Lunchtime Learning: Automated Vehicular Gate Design
DESCRIPTION:This event is free for members\, $15 for non members. Lunch is included! \n1 LU/HSW\nTitle: Automated Vehicular Gate Design for Safety Standard Compliance \nPresented By: DoorKing \nDescription: The purpose of this course is to train design professionals on safety related design and installation methods for automated vehicular gates to insure that their designs are in compliance with current industry safety standards and the IBC\, IFC\, IRC and IPMC. These safety standards include the UL 325 Standard for Safety for Door\, Drapery\, Gate\, Louver\, and Window Operators and Systems\, and the ASTM F2200 Standard Specification for Automated Vehicular Gate Construction. \nLearning Objective: After completion of this course\, participants will be able to: \n• Have an understanding of safety standards that detail design and construction criteria for automated vehicular gates. \n• Know the requirements for automated vehicular gate systems and how to design and specify gates to be in compliance with the safety standards. \n• Have a good understanding of what an entrapment is in an automated gate system and how to design the gate to eliminate potential entrapment areas. \n• Explore different methods of providing pedestrians with a safe passage route around an automated gate system
URL:https://aiasb.com/event/lunchtime-learning-door-king/
LOCATION:AIA Santa Barbara\, 229 E Victoria St\, Santa Barbara\, CA\, 93101\, United States
CATEGORIES:Lunchtime Learning
END:VEVENT
BEGIN:VEVENT
DTSTART;TZID=America/Los_Angeles:20180516T120000
DTEND;TZID=America/Los_Angeles:20180516T130000
DTSTAMP:20260423T204515
CREATED:20180411T191516Z
LAST-MODIFIED:20180428T185204Z
UID:1579-1526472000-1526475600@aiasb.com
SUMMARY:Lunchtime Learning: High Performance Results With Coatings For Commercial Applications
DESCRIPTION:Presented by PPG Paints \nPPG Paints Architectural Team has a new program available on the use of High Performance Coatings \nand points that need to be considered in evaluating their effectiveness. This program carries a one \nhour HSW/LU credit and is intended for Architects\, Engineers and Interior Designers. Some of the topics \ncovered include: \n\nSurface preparation and its importance to a quality coatings outcome\nThe differences in epoxy\, urethane\, polysiloxane and fluoropolymer coatings and where to specify these different coatings types\nSustainability considerations when analyzing High Performance Coatings\nLife expectancy issues when comparing High Performance Coatings to Architectural Finish systems\nAn overview of the value that High Performance Coatings can add to commercial construction projects
URL:https://aiasb.com/event/lunchtime-learning-ppg-paints/
LOCATION:AIA Santa Barbara\, 229 E Victoria St\, Santa Barbara\, CA\, 93101\, United States
CATEGORIES:Lunchtime Learning
END:VEVENT
BEGIN:VEVENT
DTSTART;TZID=America/Los_Angeles:20180425T120000
DTEND;TZID=America/Los_Angeles:20180425T130000
DTSTAMP:20260423T204515
CREATED:20180402T235821Z
LAST-MODIFIED:20180420T171149Z
UID:1319-1524657600-1524661200@aiasb.com
SUMMARY:Lunchtime Learning: Polycoat
DESCRIPTION:Free for members\, $15 for non members – lunch is included! \nThis non-proprietary educational seminar\, presented to you by Polycoat Products\, is intended to assist the specifier with all phases of an elastomeric\, low VOC\, vehicular traffic bearing waterproofing membrane with integral wear surface\, governed under ASTM C-957 for Division 7\, sec. 07 18 00 of the MasterFormat. \nThe study will include: \n• Understanding Volatile Organic Compounds (VOC) \n• LEED Analysis \n• Coating Selection \n• Deck Preparation \n• Performance characteristics of elastomeric coatings \n• The most effective safety practices for installation \n• A brief cost analysis \nWe highly encourage interaction with the presenters as they are experts in their field. This will promote better understanding of the topic. The seminar’s duration is roughly one (1) hour. Lunch is provided. At its conclusion\, the attendees can discuss specific systems and ask pointed questions regarding Polycoat Products and system applications. \nMore info on Polycoat here! \nhttps://www.dropbox.com/s/udvkkwn8xwir2qg/POLYCOATX2.mp4?dl=0
URL:https://aiasb.com/event/lunchtime-learning-polycoat/
LOCATION:AIA Santa Barbara\, 229 E Victoria St\, Santa Barbara\, CA\, 93101\, United States
CATEGORIES:Lunchtime Learning
ATTACH;FMTTYPE=image/jpeg:https://aiasb.com/wp-content/uploads/2018/04/original-19-e1523773514159.jpg
END:VEVENT
BEGIN:VEVENT
DTSTART;TZID=America/Los_Angeles:20180411T120000
DTEND;TZID=America/Los_Angeles:20180411T130000
DTSTAMP:20260423T204515
CREATED:20180402T235357Z
LAST-MODIFIED:20180402T235357Z
UID:1311-1523448000-1523451600@aiasb.com
SUMMARY:Lunchtime Learning: Universal Design
DESCRIPTION:This event is free for Members and $15 for nonmembers. Lunch is provided! \nPlease note that this Lunchtime Learning will be held at Ferguson Showroom and not at AIA Santa Barbara \nUniversal Design – “Preparing for the Future Before it Arrives” IDCEC : CC-105572 (.1 CEU HSW) AIA: VA40107265UD (1.0 LU/HSW) \na. Course Description: Universal Design-“Preparing for the Future Before it Arrives” This course is approved for continuing educational credits for IDCEC\, AIA and NKBA. Learners will gain an understanding of the principals of Universal Design. They will learn how following this approach will aid the design world and it’s customers for the future to come.
URL:https://aiasb.com/event/lunchtime-learning-universal-design/
LOCATION:Ferguson Bath\, Kitchen and Lighting Gallery\, 602 East Montecito Street\, Santa Barbara\, CA\, 93101\, United States
CATEGORIES:Continuing Education,Lunchtime Learning
END:VEVENT
END:VCALENDAR