BEGIN:VCALENDAR
VERSION:2.0
PRODID:-//AIA Santa Barbara - ECPv6.15.20//NONSGML v1.0//EN
CALSCALE:GREGORIAN
METHOD:PUBLISH
X-WR-CALNAME:AIA Santa Barbara
X-ORIGINAL-URL:https://aiasb.com
X-WR-CALDESC:Events for AIA Santa Barbara
REFRESH-INTERVAL;VALUE=DURATION:PT1H
X-Robots-Tag:noindex
X-PUBLISHED-TTL:PT1H
BEGIN:VTIMEZONE
TZID:America/Los_Angeles
BEGIN:DAYLIGHT
TZOFFSETFROM:-0800
TZOFFSETTO:-0700
TZNAME:PDT
DTSTART:20230312T100000
END:DAYLIGHT
BEGIN:STANDARD
TZOFFSETFROM:-0700
TZOFFSETTO:-0800
TZNAME:PST
DTSTART:20231105T090000
END:STANDARD
BEGIN:DAYLIGHT
TZOFFSETFROM:-0800
TZOFFSETTO:-0700
TZNAME:PDT
DTSTART:20240310T100000
END:DAYLIGHT
BEGIN:STANDARD
TZOFFSETFROM:-0700
TZOFFSETTO:-0800
TZNAME:PST
DTSTART:20241103T090000
END:STANDARD
BEGIN:DAYLIGHT
TZOFFSETFROM:-0800
TZOFFSETTO:-0700
TZNAME:PDT
DTSTART:20250309T100000
END:DAYLIGHT
BEGIN:STANDARD
TZOFFSETFROM:-0700
TZOFFSETTO:-0800
TZNAME:PST
DTSTART:20251102T090000
END:STANDARD
END:VTIMEZONE
BEGIN:VEVENT
DTSTART;TZID=America/Los_Angeles:20241001T171500
DTEND;TZID=America/Los_Angeles:20241001T184500
DTSTAMP:20260424T092533
CREATED:20240911T175354Z
LAST-MODIFIED:20240911T193017Z
UID:9834-1727802900-1727808300@aiasb.com
SUMMARY:Women in Architecture: Women’s Work
DESCRIPTION:All welcome!\nPresented by: Sarah Graham\, FAIA\nJoin the Women in Architecture group as Sarah Graham\, FAIA discusses the quandary of women in architecture still being a matter of diminishing numbers\, and what we can do about it. See work done in teamwork with women\, from extra small (XS) to extra large (XL) projects in our offices in LA and Zurich\, Switzerland. Hopefully this will lead to an interesting discussion\, including the role of the FAIA.
URL:https://aiasb.com/event/women-in-architecture-womens-work/
LOCATION:AIA Santa Barbara\, 229 E Victoria St\, Santa Barbara\, CA\, 93101\, United States
CATEGORIES:Women in Architecture
END:VEVENT
END:VCALENDAR