BEGIN:VCALENDAR
VERSION:2.0
PRODID:-//AIA Santa Barbara - ECPv6.15.20//NONSGML v1.0//EN
CALSCALE:GREGORIAN
METHOD:PUBLISH
X-ORIGINAL-URL:https://aiasb.com
X-WR-CALDESC:Events for AIA Santa Barbara
REFRESH-INTERVAL;VALUE=DURATION:PT1H
X-Robots-Tag:noindex
X-PUBLISHED-TTL:PT1H
BEGIN:VTIMEZONE
TZID:America/Los_Angeles
BEGIN:DAYLIGHT
TZOFFSETFROM:-0800
TZOFFSETTO:-0700
TZNAME:PDT
DTSTART:20250309T100000
END:DAYLIGHT
BEGIN:STANDARD
TZOFFSETFROM:-0700
TZOFFSETTO:-0800
TZNAME:PST
DTSTART:20251102T090000
END:STANDARD
BEGIN:DAYLIGHT
TZOFFSETFROM:-0800
TZOFFSETTO:-0700
TZNAME:PDT
DTSTART:20260308T100000
END:DAYLIGHT
BEGIN:STANDARD
TZOFFSETFROM:-0700
TZOFFSETTO:-0800
TZNAME:PST
DTSTART:20261101T090000
END:STANDARD
BEGIN:DAYLIGHT
TZOFFSETFROM:-0800
TZOFFSETTO:-0700
TZNAME:PDT
DTSTART:20270314T100000
END:DAYLIGHT
BEGIN:STANDARD
TZOFFSETFROM:-0700
TZOFFSETTO:-0800
TZNAME:PST
DTSTART:20271107T090000
END:STANDARD
END:VTIMEZONE
BEGIN:VEVENT
DTSTART;TZID=America/Los_Angeles:20260303T173000
DTEND;TZID=America/Los_Angeles:20260303T190000
DTSTAMP:20260423T104324
CREATED:20260126T204844Z
LAST-MODIFIED:20260203T230919Z
UID:11316-1772559000-1772564400@aiasb.com
SUMMARY:March Women in Architecture Conversation Series
DESCRIPTION: \n\n\n\n1 LU Pending \nWe hope you’ll join us for our monthly Women in Architecture gathering. This month\, we will be hearing from Haley Kolosieke\, AICP\, a Land Use Planner at Brownstein. \nSince 1968\, Brownstein has been more than a law firm – they have been a partner in building stronger communities\, working hand-in-hand with local leaders to create solutions that matter. From expanding workforce and affordable housing to streamlining infrastructure and water projects\, and through their recent work on the Agricultural Enterprise Ordinance\, Brownstein remains committed to shaping a vibrant and thriving future for Santa Barbara for generations to come. \nHaley launched her career in Santa Barbara in 2017 and looks forwards to sharing her professional journey\, along with insights from some of her most rewarding land use projects. At Brownstein\, she specializes in land use due diligence reports and entitlements\, including conditional use permits\, coastal development permits\, cannabis licensing\, and lot line adjustments and lot splits. She currently serves as the Santa Barbara Subsection Director for the American Planning Association Central Coast Section\, she is a long-time board member of the Association of Environmental Professionals Channel Counties Section\, and previously served as a team co-leader for AIA’s State Street Design Charrette in 2020. \n\n\n\n\n\n\n\n\n\n  \nAIA Women in Architecture (WIA) is dedicated to fostering relationships among women in the design industry\, supporting career growth\, and increasing the visibility of women in architecture. Our group includes a diverse range of architects and allied professionals – from firm owners to recent graduates – working together to make a positive impact in our profession and community.
URL:https://aiasb.com/event/wia-march/
LOCATION:Brownstein\, 1020 State Street\, Santa Barbara\, 91731\, United States
CATEGORIES:Women in Architecture
END:VEVENT
END:VCALENDAR