BEGIN:VCALENDAR
VERSION:2.0
PRODID:-//AIA Santa Barbara - ECPv6.15.20//NONSGML v1.0//EN
CALSCALE:GREGORIAN
METHOD:PUBLISH
X-WR-CALNAME:AIA Santa Barbara
X-ORIGINAL-URL:https://aiasb.com
X-WR-CALDESC:Events for AIA Santa Barbara
REFRESH-INTERVAL;VALUE=DURATION:PT1H
X-Robots-Tag:noindex
X-PUBLISHED-TTL:PT1H
BEGIN:VTIMEZONE
TZID:America/Los_Angeles
BEGIN:DAYLIGHT
TZOFFSETFROM:-0800
TZOFFSETTO:-0700
TZNAME:PDT
DTSTART:20230312T100000
END:DAYLIGHT
BEGIN:STANDARD
TZOFFSETFROM:-0700
TZOFFSETTO:-0800
TZNAME:PST
DTSTART:20231105T090000
END:STANDARD
BEGIN:DAYLIGHT
TZOFFSETFROM:-0800
TZOFFSETTO:-0700
TZNAME:PDT
DTSTART:20240310T100000
END:DAYLIGHT
BEGIN:STANDARD
TZOFFSETFROM:-0700
TZOFFSETTO:-0800
TZNAME:PST
DTSTART:20241103T090000
END:STANDARD
BEGIN:DAYLIGHT
TZOFFSETFROM:-0800
TZOFFSETTO:-0700
TZNAME:PDT
DTSTART:20250309T100000
END:DAYLIGHT
BEGIN:STANDARD
TZOFFSETFROM:-0700
TZOFFSETTO:-0800
TZNAME:PST
DTSTART:20251102T090000
END:STANDARD
END:VTIMEZONE
BEGIN:VEVENT
DTSTART;TZID=America/Los_Angeles:20240702T171500
DTEND;TZID=America/Los_Angeles:20240702T184500
DTSTAMP:20260424T141717
CREATED:20240117T185324Z
LAST-MODIFIED:20240612T181728Z
UID:9232-1719940500-1719945900@aiasb.com
SUMMARY:Women in Architecture at La Leiff Winery
DESCRIPTION:Speaker: Lisa Plowman\,  Director of Planning & Development\, County of Santa Barbara\nJoin the Women in Architecture at La Leiff Winery where Lisa Plowman will be sharing her experience as the Santa Barbara County Director of Planning & Development.  \nPurchase your own glass of wine and We Want the Funk food truck is next door. 
URL:https://aiasb.com/event/women-in-architecture-5/
LOCATION:La Leiff Winery\, 210 Gray Ave\, Santa Barbara\, CA\, 93101
CATEGORIES:Women in Architecture
END:VEVENT
END:VCALENDAR