BEGIN:VCALENDAR
VERSION:2.0
PRODID:-//AIA Santa Barbara - ECPv6.15.20//NONSGML v1.0//EN
CALSCALE:GREGORIAN
METHOD:PUBLISH
X-WR-CALNAME:AIA Santa Barbara
X-ORIGINAL-URL:https://aiasb.com
X-WR-CALDESC:Events for AIA Santa Barbara
REFRESH-INTERVAL;VALUE=DURATION:PT1H
X-Robots-Tag:noindex
X-PUBLISHED-TTL:PT1H
BEGIN:VTIMEZONE
TZID:America/Los_Angeles
BEGIN:DAYLIGHT
TZOFFSETFROM:-0800
TZOFFSETTO:-0700
TZNAME:PDT
DTSTART:20250309T100000
END:DAYLIGHT
BEGIN:STANDARD
TZOFFSETFROM:-0700
TZOFFSETTO:-0800
TZNAME:PST
DTSTART:20251102T090000
END:STANDARD
BEGIN:DAYLIGHT
TZOFFSETFROM:-0800
TZOFFSETTO:-0700
TZNAME:PDT
DTSTART:20260308T100000
END:DAYLIGHT
BEGIN:STANDARD
TZOFFSETFROM:-0700
TZOFFSETTO:-0800
TZNAME:PST
DTSTART:20261101T090000
END:STANDARD
BEGIN:DAYLIGHT
TZOFFSETFROM:-0800
TZOFFSETTO:-0700
TZNAME:PDT
DTSTART:20270314T100000
END:DAYLIGHT
BEGIN:STANDARD
TZOFFSETFROM:-0700
TZOFFSETTO:-0800
TZNAME:PST
DTSTART:20271107T090000
END:STANDARD
END:VTIMEZONE
BEGIN:VEVENT
DTSTART;TZID=America/Los_Angeles:20260407T173000
DTEND;TZID=America/Los_Angeles:20260407T190000
DTSTAMP:20260425T091229
CREATED:20260317T194946Z
LAST-MODIFIED:20260317T194946Z
UID:11356-1775583000-1775588400@aiasb.com
SUMMARY:April Women in Architecture Conversation Series
DESCRIPTION:  \n  \n \n  \nAIA Women in Architecture\nTuesday\, April 7th\n5:30 PM\nMission Audio\n1910 De La Vina Street\, Santa Barbara\, CA 93101 \nWe hope you’ll join us for our monthly Women in Architecture gathering. This month\, we will be hearing from Ellen Kokinda\, Santa Barbara City Planner & previous Design Review Supervisor\, who will be joined with Santa Barbara’s new Architectural Historian. \nEllen Kokinda is an urban planner with over a decade of experience in community development\, land use policy\, and public engagement. She currently serves as City Planner with the City of Santa Barbara’s Community Development Department\, having previously served as Design Review Supervisor. In both roles\, she has guided applicants through the City’s permitting and design review processes and advised on how to keep projects moving forward. Ellen is currently overseeing the City’s Single Family Streamlining Project — an initiative to simplify the approval process for single-family residential projects through Zoning Ordinance and Single Family Design Board amendments\, balancing greater flexibility for homeowners with Santa Barbara’s tradition of quality architecture and neighborhood character. Prior to moving to the West Coast\, Ellen worked with the City of Cambridge’s Community Development Department\, leading the development of a Net Zero Action Plan — a multi-stakeholder process that resulted in the City adopting a 25-Year roadmap toward net zero carbon emissions from building operations. Ellen holds a Master of Arts in Urban & Environmental Policy & Planning from Tufts University and a Bachelor of Arts in Media Arts & Design from James Madison University. \n  \n \n\n\nAIA Women in Architecture (WIA) is dedicated to fostering relationships among women in the design industry\, supporting career growth\, and increasing the visibility of women in architecture. Our group includes a diverse range of architects and allied professionals – from firm owners to recent graduates – working together to make a positive impact in our profession and community.
URL:https://aiasb.com/event/wia-march-2/
LOCATION:Mission Audio Video\, 1910 De La Vina St\, Santa Barbara\, CA\, 93101\, United States
CATEGORIES:Women in Architecture
END:VEVENT
BEGIN:VEVENT
DTSTART;TZID=America/Los_Angeles:20260505T173000
DTEND;TZID=America/Los_Angeles:20260505T193000
DTSTAMP:20260425T091229
CREATED:20260415T174852Z
LAST-MODIFIED:20260421T195120Z
UID:11401-1778002200-1778009400@aiasb.com
SUMMARY:May Women in Architecture Conversation Series
DESCRIPTION:  \nAIA Women in Architecture\nTuesday\, May 5th\n5:30 PM\nGood Company\n2613 De La Vina Street\, Santa Barbara\, CA 93101 \nWe hope you’ll join us for our monthly Women in Architecture gathering. This month\, we will be hearing from Qing Xue\, AIA architect at Harrison Design whose work focuses on high-end residential\, institutional\, and historic restoration projects. \nAbout Qing Xue \nBefore moving to Santa Barbara\, Qing worked in England on classical and traditional architecture with John Simpson Architects in London and ADAM Architecture in Winchester. She currently serves on the board of the Santa Barbara Trust for Historic Preservation and has contributed to the master planning of Santa Barbara’s State Street. \nBorn in China\, Qing earned her Master of Architecture and a master’s degree in electrical engineering from the University of Notre Dame. Outside of practice\, she enjoys pencil drawing\, watercolor\, and pottery\, which continue to shape her appreciation for craftsmanship and materiality. \nAbout our host: \nGood Company is an interior design studio and social club within a residential house that provides an experiential community gathering destination and is the perfect venue for design and domestic-centric events. Advanced membership provides children’s programming\, after-school enrichment\, as well as educational programming including topics that apply to pillars of home\, wellness\, and community.
URL:https://aiasb.com/event/wia-may/
LOCATION:GOOD COMPANY\, 2613 De La Vina St\, Santa Barbara\, 93105\, United States
CATEGORIES:Women in Architecture
END:VEVENT
END:VCALENDAR