BEGIN:VCALENDAR
VERSION:2.0
PRODID:-//AIA Santa Barbara - ECPv6.15.20//NONSGML v1.0//EN
CALSCALE:GREGORIAN
METHOD:PUBLISH
X-WR-CALNAME:AIA Santa Barbara
X-ORIGINAL-URL:https://aiasb.com
X-WR-CALDESC:Events for AIA Santa Barbara
REFRESH-INTERVAL;VALUE=DURATION:PT1H
X-Robots-Tag:noindex
X-PUBLISHED-TTL:PT1H
BEGIN:VTIMEZONE
TZID:America/Los_Angeles
BEGIN:DAYLIGHT
TZOFFSETFROM:-0800
TZOFFSETTO:-0700
TZNAME:PDT
DTSTART:20220313T100000
END:DAYLIGHT
BEGIN:STANDARD
TZOFFSETFROM:-0700
TZOFFSETTO:-0800
TZNAME:PST
DTSTART:20221106T090000
END:STANDARD
BEGIN:DAYLIGHT
TZOFFSETFROM:-0800
TZOFFSETTO:-0700
TZNAME:PDT
DTSTART:20230312T100000
END:DAYLIGHT
BEGIN:STANDARD
TZOFFSETFROM:-0700
TZOFFSETTO:-0800
TZNAME:PST
DTSTART:20231105T090000
END:STANDARD
BEGIN:DAYLIGHT
TZOFFSETFROM:-0800
TZOFFSETTO:-0700
TZNAME:PDT
DTSTART:20240310T100000
END:DAYLIGHT
BEGIN:STANDARD
TZOFFSETFROM:-0700
TZOFFSETTO:-0800
TZNAME:PST
DTSTART:20241103T090000
END:STANDARD
BEGIN:DAYLIGHT
TZOFFSETFROM:-0800
TZOFFSETTO:-0700
TZNAME:PDT
DTSTART:20250309T100000
END:DAYLIGHT
BEGIN:STANDARD
TZOFFSETFROM:-0700
TZOFFSETTO:-0800
TZNAME:PST
DTSTART:20251102T090000
END:STANDARD
END:VTIMEZONE
BEGIN:VEVENT
DTSTART;TZID=America/Los_Angeles:20240320T120000
DTEND;TZID=America/Los_Angeles:20240320T130000
DTSTAMP:20260424T050906
CREATED:20240117T184409Z
LAST-MODIFIED:20240117T184409Z
UID:9213-1710936000-1710939600@aiasb.com
SUMMARY:Lunchtime Learning at Mission Audio Video
DESCRIPTION:
URL:https://aiasb.com/event/lunchtime-learning-at-mission-audio-video/
LOCATION:Mission Audio Video\, 1910 De La Vina St\, Santa Barbara\, CA\, 93101\, United States
CATEGORIES:Lunchtime Learning
END:VEVENT
BEGIN:VEVENT
DTSTART;TZID=America/Los_Angeles:20240312T171500
DTEND;TZID=America/Los_Angeles:20240312T184500
DTSTAMP:20260424T050906
CREATED:20240222T210434Z
LAST-MODIFIED:20240222T210543Z
UID:9351-1710263700-1710269100@aiasb.com
SUMMARY:ARE Study Group
DESCRIPTION:
URL:https://aiasb.com/event/are-study-group-5-2/
LOCATION:AIA Santa Barbara\, 229 E Victoria St\, Santa Barbara\, CA\, 93101\, United States
END:VEVENT
BEGIN:VEVENT
DTSTART;TZID=America/Los_Angeles:20240305T171500
DTEND;TZID=America/Los_Angeles:20240305T184500
DTSTAMP:20260424T050906
CREATED:20240117T184951Z
LAST-MODIFIED:20240206T181339Z
UID:9222-1709658900-1709664300@aiasb.com
SUMMARY:Women in Architecture at AIASB
DESCRIPTION:Guest Speaker: Lois Phillips\, Author of 9 Fast & Flawless Presentations for Women Speakers \nMore details to follow.
URL:https://aiasb.com/event/women-in-architecture/
LOCATION:AIA Santa Barbara\, 229 E Victoria St\, Santa Barbara\, CA\, 93101\, United States
CATEGORIES:Women in Architecture
END:VEVENT
BEGIN:VEVENT
DTSTART;TZID=America/Los_Angeles:20240305T120000
DTEND;TZID=America/Los_Angeles:20240305T133000
DTSTAMP:20260424T050906
CREATED:20240222T205919Z
LAST-MODIFIED:20240222T205919Z
UID:9342-1709640000-1709645400@aiasb.com
SUMMARY:County of Santa Barbara Process Improvement Overviews & Updates
DESCRIPTION:The County of Santa Barbara Planning & Development\, including representatives from Planning and Building & Safety to share updates in the Accela transition\, plan check review\, and inter-agency review and coordination. There will be a Q&A segment at the end of the session.
URL:https://aiasb.com/event/county-of-santa-barbara-process-improvement-overviews-updates/
LOCATION:Planning Commission Hearing Room\, 123 East Anapamu St\, Santa Barbara\, CA\, 93101\, United States
END:VEVENT
BEGIN:VEVENT
DTSTART;TZID=America/Los_Angeles:20240227T171500
DTEND;TZID=America/Los_Angeles:20240227T184500
DTSTAMP:20260424T050906
CREATED:20240222T210401Z
LAST-MODIFIED:20240222T210612Z
UID:9349-1709054100-1709059500@aiasb.com
SUMMARY:ARE Study Group
DESCRIPTION:
URL:https://aiasb.com/event/are-study-group-5/
LOCATION:AIA Santa Barbara\, 229 E Victoria St\, Santa Barbara\, CA\, 93101\, United States
END:VEVENT
BEGIN:VEVENT
DTSTART;VALUE=DATE:20240227
DTEND;VALUE=DATE:20240302
DTSTAMP:20260424T050906
CREATED:20240222T210227Z
LAST-MODIFIED:20240222T210227Z
UID:9347-1708992000-1709337599@aiasb.com
SUMMARY:AIA Leadership Summit in Washington DC
DESCRIPTION:
URL:https://aiasb.com/event/aia-leadership-summit-in-washington-dc/
LOCATION:CA
END:VEVENT
BEGIN:VEVENT
DTSTART;TZID=America/Los_Angeles:20240221T120000
DTEND;TZID=America/Los_Angeles:20240221T130000
DTSTAMP:20260424T050906
CREATED:20240131T181400Z
LAST-MODIFIED:20240131T181400Z
UID:9265-1708516800-1708520400@aiasb.com
SUMMARY:Lunchtime Learning: Life Under the Spotlight: Greenwalls
DESCRIPTION:
URL:https://aiasb.com/event/lunchtime-learning-life-under-the-spotlight-2/
LOCATION:Zoom link will be sent to attendees prior to the event.
CATEGORIES:Lunchtime Learning
END:VEVENT
BEGIN:VEVENT
DTSTART;TZID=America/Los_Angeles:20240213T171500
DTEND;TZID=America/Los_Angeles:20240213T184500
DTSTAMP:20260424T050906
CREATED:20240117T170408Z
LAST-MODIFIED:20240201T193308Z
UID:9208-1707844500-1707849900@aiasb.com
SUMMARY:Women in Architecture Conversation Series at Public Market
DESCRIPTION:Join the women in architecture for a round-table conversation on designing in Santa Barbara. Come ready to share and hear from other women in the field about the joys\, difficulties\, and hopes for the future of design in our community. \nWe’ll have a table for us outside on Victoria at the Public Market. Grab a bite or drink from one of the many vendors inside and then join us!
URL:https://aiasb.com/event/women-in-architecture-public-market/
LOCATION:Public Market\, 38 W. Victoria St\, Santa Barbara\, CA\, United States
CATEGORIES:Women in Architecture
END:VEVENT
BEGIN:VEVENT
DTSTART;TZID=America/Los_Angeles:20240201T173000
DTEND;TZID=America/Los_Angeles:20240201T183000
DTSTAMP:20260424T050906
CREATED:20240110T201631Z
LAST-MODIFIED:20240110T201631Z
UID:9168-1706808600-1706812200@aiasb.com
SUMMARY:Reception - Design Awards Exhibition at Faulkner Gallery
DESCRIPTION:
URL:https://aiasb.com/event/design-awards-exhibition-reception7-2-2-2/
LOCATION:Faulkner Gallery\, 40 E Anapamu St\, Santa Barbara\, CA\, 93101\, United States
END:VEVENT
BEGIN:VEVENT
DTSTART;TZID=America/Los_Angeles:20240201T000000
DTEND;TZID=America/Los_Angeles:20240228T000000
DTSTAMP:20260424T050906
CREATED:20240117T170218Z
LAST-MODIFIED:20240117T171224Z
UID:9206-1706745600-1709078400@aiasb.com
SUMMARY:Design Awards Exhibition at Faulkner Gallery
DESCRIPTION:
URL:https://aiasb.com/event/design-awards-exhibition/
LOCATION:Faulkner Gallery\, 40 E Anapamu St\, Santa Barbara\, CA\, 93101\, United States
END:VEVENT
BEGIN:VEVENT
DTSTART;TZID=America/Los_Angeles:20240118T171500
DTEND;TZID=America/Los_Angeles:20240118T184500
DTSTAMP:20260424T050906
CREATED:20240110T201452Z
LAST-MODIFIED:20240110T201452Z
UID:9166-1705598100-1705603500@aiasb.com
SUMMARY:Reception - Decarbonizing our Built Environment\, Architectural Projects from the Santa Barbara AIA
DESCRIPTION:
URL:https://aiasb.com/event/decarbonizing-our-built-env-reception7-2-2/
LOCATION:Channing Peake\, 2933 Grand Ave\, Los Olivos\, CA\, 93441\, United States
END:VEVENT
BEGIN:VEVENT
DTSTART;TZID=America/Los_Angeles:20240117T120000
DTEND;TZID=America/Los_Angeles:20240117T130000
DTSTAMP:20260424T050906
CREATED:20240110T200812Z
LAST-MODIFIED:20240110T200851Z
UID:9164-1705492800-1705496400@aiasb.com
SUMMARY:Lunchtime Learning: Sustainable Concrete Solutions
DESCRIPTION:
URL:https://aiasb.com/event/cemex-7-2/
LOCATION:AIA Santa Barbara\, 229 E Victoria St\, Santa Barbara\, CA\, 93101\, United States
CATEGORIES:Lunchtime Learning
END:VEVENT
BEGIN:VEVENT
DTSTART;TZID=America/Los_Angeles:20240109T171500
DTEND;TZID=America/Los_Angeles:20240109T184500
DTSTAMP:20260424T050906
CREATED:20240110T201826Z
LAST-MODIFIED:20240110T201826Z
UID:9170-1704820500-1704825900@aiasb.com
SUMMARY:Women in Architecture Conversation Group at Haber Fine Art Gallery
DESCRIPTION:
URL:https://aiasb.com/event/women-in-architecture-haber-fine-art-gallery-2-2-2-2/
LOCATION:Haber Fine Art Gallery\, 1255 Coast Village Rd\, Montecito\, United States
CATEGORIES:Women in Architecture
END:VEVENT
BEGIN:VEVENT
DTSTART;TZID=America/Los_Angeles:20231221T120000
DTEND;TZID=America/Los_Angeles:20231221T130000
DTSTAMP:20260424T050906
CREATED:20221114T184522Z
LAST-MODIFIED:20221114T184522Z
UID:8074-1703160000-1703163600@aiasb.com
SUMMARY:Executive Committee
DESCRIPTION:
URL:https://aiasb.com/event/executive-committee-7/
LOCATION:CA
END:VEVENT
BEGIN:VEVENT
DTSTART;TZID=America/Los_Angeles:20231207T173000
DTEND;TZID=America/Los_Angeles:20231207T203000
DTSTAMP:20260424T050906
CREATED:20221114T184413Z
LAST-MODIFIED:20231117T183959Z
UID:8070-1701970200-1701981000@aiasb.com
SUMMARY:Design Awards Gala
DESCRIPTION:
URL:https://aiasb.com/event/design-awards-gala-2/
LOCATION:CA
CATEGORIES:Major Events
END:VEVENT
BEGIN:VEVENT
DTSTART;TZID=America/Los_Angeles:20231206T120000
DTEND;TZID=America/Los_Angeles:20231206T130000
DTSTAMP:20260424T050906
CREATED:20221114T184338Z
LAST-MODIFIED:20231030T191639Z
UID:8068-1701864000-1701867600@aiasb.com
SUMMARY:Board Meeting
DESCRIPTION:
URL:https://aiasb.com/event/board-meeting-23/
LOCATION:CA
CATEGORIES:Board Meetings
END:VEVENT
BEGIN:VEVENT
DTSTART;TZID=America/Los_Angeles:20231205T171500
DTEND;TZID=America/Los_Angeles:20231205T184500
DTSTAMP:20260424T050906
CREATED:20221114T184243Z
LAST-MODIFIED:20231204T174319Z
UID:8066-1701796500-1701801900@aiasb.com
SUMMARY:Women in Architecture Conversation Series
DESCRIPTION:
URL:https://aiasb.com/event/women-in-architecture-conversation-series-13/
LOCATION:CA
CATEGORIES:Women in Architecture
END:VEVENT
BEGIN:VEVENT
DTSTART;TZID=America/Los_Angeles:20231129T000000
DTEND;TZID=America/Los_Angeles:20240201T000000
DTSTAMP:20260424T050906
CREATED:20240201T200014Z
LAST-MODIFIED:20240201T200051Z
UID:9286-1701216000-1706745600@aiasb.com
SUMMARY:Decarbonizing Our Built Environment Exhibition at Channing Peake Gallery
DESCRIPTION:
URL:https://aiasb.com/event/decarbonizing-exhibition-2/
LOCATION:Channing Peake\, 2933 Grand Ave\, Los Olivos\, CA\, 93441\, United States
END:VEVENT
BEGIN:VEVENT
DTSTART;TZID=America/Los_Angeles:20231116T180000
DTEND;TZID=America/Los_Angeles:20231116T193000
DTSTAMP:20260424T050906
CREATED:20230829T173146Z
LAST-MODIFIED:20230829T173146Z
UID:8791-1700157600-1700163000@aiasb.com
SUMMARY:Design Crawl with Anacapa Architecture
DESCRIPTION:
URL:https://aiasb.com/event/design-crawl-with-anacapa-architecture/
LOCATION:CA
CATEGORIES:Emerging Professionals
END:VEVENT
BEGIN:VEVENT
DTSTART;TZID=America/Los_Angeles:20231116T120000
DTEND;TZID=America/Los_Angeles:20231116T130000
DTSTAMP:20260424T050906
CREATED:20221114T184104Z
LAST-MODIFIED:20221114T184104Z
UID:8064-1700136000-1700139600@aiasb.com
SUMMARY:Executive Committee
DESCRIPTION:
URL:https://aiasb.com/event/executive-committee-6/
LOCATION:CA
END:VEVENT
BEGIN:VEVENT
DTSTART;TZID=America/Los_Angeles:20231115T120000
DTEND;TZID=America/Los_Angeles:20231115T130000
DTSTAMP:20260424T050906
CREATED:20231011T182616Z
LAST-MODIFIED:20231011T182616Z
UID:8890-1700049600-1700053200@aiasb.com
SUMMARY:Interior Technology 101: Residential Design Meets Technology
DESCRIPTION:Register Here
URL:https://aiasb.com/event/regenerative-storm-water-management-2/
LOCATION:CA
END:VEVENT
BEGIN:VEVENT
DTSTART;TZID=America/Los_Angeles:20231107T171500
DTEND;TZID=America/Los_Angeles:20231107T183000
DTSTAMP:20260424T050906
CREATED:20221114T183931Z
LAST-MODIFIED:20221114T183931Z
UID:8060-1699377300-1699381800@aiasb.com
SUMMARY:Women in Architecture Conversation Series
DESCRIPTION:
URL:https://aiasb.com/event/women-in-architecture-conversation-series-12/
LOCATION:CA
CATEGORIES:Women in Architecture
END:VEVENT
BEGIN:VEVENT
DTSTART;TZID=America/Los_Angeles:20231102T174500
DTEND;TZID=America/Los_Angeles:20231102T184500
DTSTAMP:20260424T050906
CREATED:20230705T180656Z
LAST-MODIFIED:20231030T191505Z
UID:8698-1698947100-1698950700@aiasb.com
SUMMARY:Regenerative Storm Water Management
DESCRIPTION:Register Here
URL:https://aiasb.com/event/regenerative-storm-water-management/
LOCATION:CA
END:VEVENT
BEGIN:VEVENT
DTSTART;TZID=America/Los_Angeles:20231101T120000
DTEND;TZID=America/Los_Angeles:20231101T130000
DTSTAMP:20260424T050906
CREATED:20221114T183842Z
LAST-MODIFIED:20231030T191619Z
UID:8058-1698840000-1698843600@aiasb.com
SUMMARY:Board Meeting
DESCRIPTION:
URL:https://aiasb.com/event/board-meeting-22/
LOCATION:CA
CATEGORIES:Board Meetings
END:VEVENT
BEGIN:VEVENT
DTSTART;TZID=America/Los_Angeles:20231026T173000
DTEND;TZID=America/Los_Angeles:20231026T190000
DTSTAMP:20260424T050906
CREATED:20231019T191451Z
LAST-MODIFIED:20231019T191451Z
UID:8914-1698341400-1698346800@aiasb.com
SUMMARY:Design Crawl with DesignARC
DESCRIPTION:
URL:https://aiasb.com/event/design-crawl-with-anacapa-architecture-2/
LOCATION:CA
CATEGORIES:Emerging Professionals
END:VEVENT
BEGIN:VEVENT
DTSTART;TZID=America/Los_Angeles:20231019T120000
DTEND;TZID=America/Los_Angeles:20231019T130000
DTSTAMP:20260424T050906
CREATED:20221114T183601Z
LAST-MODIFIED:20221114T183601Z
UID:8054-1697716800-1697720400@aiasb.com
SUMMARY:Executive Committee
DESCRIPTION:
URL:https://aiasb.com/event/executive-committee-5/
LOCATION:CA
END:VEVENT
BEGIN:VEVENT
DTSTART;TZID=America/Los_Angeles:20231018T120000
DTEND;TZID=America/Los_Angeles:20231018T130000
DTSTAMP:20260424T050906
CREATED:20231004T185353Z
LAST-MODIFIED:20231004T185353Z
UID:8863-1697630400-1697634000@aiasb.com
SUMMARY:Understanding Poly-Ash siding and other categories of the exterior siding market
DESCRIPTION:Register Here
URL:https://aiasb.com/event/understanding-poly-ash-siding-and-other-categories-of-the-exterior-siding-market-2/
LOCATION:CA
CATEGORIES:Lunchtime Learning
END:VEVENT
BEGIN:VEVENT
DTSTART;TZID=America/Los_Angeles:20231012T120000
DTEND;TZID=America/Los_Angeles:20231012T130000
DTSTAMP:20260424T050906
CREATED:20221114T183444Z
LAST-MODIFIED:20221114T183444Z
UID:8050-1697112000-1697115600@aiasb.com
SUMMARY:Charitable Trust Annual Meeting
DESCRIPTION:
URL:https://aiasb.com/event/charitable-trust-annual-meeting-2/
LOCATION:CA
END:VEVENT
BEGIN:VEVENT
DTSTART;TZID=America/Los_Angeles:20231007T080000
DTEND;TZID=America/Los_Angeles:20231007T170000
DTSTAMP:20260424T050906
CREATED:20221114T183400Z
LAST-MODIFIED:20230829T172739Z
UID:8048-1696665600-1696698000@aiasb.com
SUMMARY:ArchitecTours
DESCRIPTION:Register here
URL:https://aiasb.com/event/architectours-3/
LOCATION:CA
CATEGORIES:Major Events
END:VEVENT
BEGIN:VEVENT
DTSTART;TZID=America/Los_Angeles:20231004T120000
DTEND;TZID=America/Los_Angeles:20231004T130000
DTSTAMP:20260424T050906
CREATED:20221114T183312Z
LAST-MODIFIED:20231030T191700Z
UID:8046-1696420800-1696424400@aiasb.com
SUMMARY:Board Meeting
DESCRIPTION:
URL:https://aiasb.com/event/board-meeting-21/
LOCATION:CA
CATEGORIES:Board Meetings
END:VEVENT
END:VCALENDAR