BEGIN:VCALENDAR
VERSION:2.0
PRODID:-//AIA Santa Barbara - ECPv6.15.20//NONSGML v1.0//EN
CALSCALE:GREGORIAN
METHOD:PUBLISH
X-WR-CALNAME:AIA Santa Barbara
X-ORIGINAL-URL:https://aiasb.com
X-WR-CALDESC:Events for AIA Santa Barbara
REFRESH-INTERVAL;VALUE=DURATION:PT1H
X-Robots-Tag:noindex
X-PUBLISHED-TTL:PT1H
BEGIN:VTIMEZONE
TZID:America/Los_Angeles
BEGIN:DAYLIGHT
TZOFFSETFROM:-0800
TZOFFSETTO:-0700
TZNAME:PDT
DTSTART:20220313T100000
END:DAYLIGHT
BEGIN:STANDARD
TZOFFSETFROM:-0700
TZOFFSETTO:-0800
TZNAME:PST
DTSTART:20221106T090000
END:STANDARD
BEGIN:DAYLIGHT
TZOFFSETFROM:-0800
TZOFFSETTO:-0700
TZNAME:PDT
DTSTART:20230312T100000
END:DAYLIGHT
BEGIN:STANDARD
TZOFFSETFROM:-0700
TZOFFSETTO:-0800
TZNAME:PST
DTSTART:20231105T090000
END:STANDARD
BEGIN:DAYLIGHT
TZOFFSETFROM:-0800
TZOFFSETTO:-0700
TZNAME:PDT
DTSTART:20240310T100000
END:DAYLIGHT
BEGIN:STANDARD
TZOFFSETFROM:-0700
TZOFFSETTO:-0800
TZNAME:PST
DTSTART:20241103T090000
END:STANDARD
END:VTIMEZONE
BEGIN:VEVENT
DTSTART;TZID=America/Los_Angeles:20230614T114500
DTEND;TZID=America/Los_Angeles:20230614T130000
DTSTAMP:20260425T034851
CREATED:20221114T181411Z
LAST-MODIFIED:20230523T163810Z
UID:8008-1686743100-1686747600@aiasb.com
SUMMARY:Board Meeting
DESCRIPTION:
URL:https://aiasb.com/event/board-meeting-17/
CATEGORIES:Board Meetings
END:VEVENT
BEGIN:VEVENT
DTSTART;TZID=America/Los_Angeles:20230611T080000
DTEND;TZID=America/Los_Angeles:20230611T233000
DTSTAMP:20260425T034851
CREATED:20230523T163855Z
LAST-MODIFIED:20230523T163855Z
UID:8627-1686470400-1686526200@aiasb.com
SUMMARY:RSVP to General Meeting by End of Day
DESCRIPTION:
URL:https://aiasb.com/event/rsvp-to-general-meeting-by-end-of-day/
END:VEVENT
BEGIN:VEVENT
DTSTART;VALUE=DATE:20230607
DTEND;VALUE=DATE:20230611
DTSTAMP:20260425T034851
CREATED:20230313T155015Z
LAST-MODIFIED:20230313T155015Z
UID:8430-1686096000-1686441599@aiasb.com
SUMMARY:AIA Conference on Architecture 2023
DESCRIPTION:Register here
URL:https://aiasb.com/event/aia-conference-on-architecture-2023/
END:VEVENT
BEGIN:VEVENT
DTSTART;TZID=America/Los_Angeles:20230606T120000
DTEND;TZID=America/Los_Angeles:20230606T130000
DTSTAMP:20260425T034851
CREATED:20230430T004525Z
LAST-MODIFIED:20230509T183316Z
UID:8550-1686052800-1686056400@aiasb.com
SUMMARY:Women in Architecture Webinar with Yoshi Jimenez
DESCRIPTION:Register here
URL:https://aiasb.com/event/women-in-architecture-webinar-with-yoshi-jimenez/
CATEGORIES:Women in Architecture
END:VEVENT
BEGIN:VEVENT
DTSTART;TZID=America/Los_Angeles:20230601T120000
DTEND;TZID=America/Los_Angeles:20230601T130000
DTSTAMP:20260425T034851
CREATED:20230523T163731Z
LAST-MODIFIED:20230523T163731Z
UID:8625-1685620800-1685624400@aiasb.com
SUMMARY:ArchitecTours Committee Meeting
DESCRIPTION:
URL:https://aiasb.com/event/architectours-committee-meeting-5/
END:VEVENT
BEGIN:VEVENT
DTSTART;VALUE=DATE:20230529
DTEND;VALUE=DATE:20230530
DTSTAMP:20260425T034851
CREATED:20230523T170541Z
LAST-MODIFIED:20230523T170541Z
UID:8632-1685318400-1685404799@aiasb.com
SUMMARY:Office Closed
DESCRIPTION:
URL:https://aiasb.com/event/office-closed-4/
END:VEVENT
BEGIN:VEVENT
DTSTART;TZID=America/Los_Angeles:20230526T120000
DTEND;TZID=America/Los_Angeles:20230526T130000
DTSTAMP:20260425T034851
CREATED:20221114T180255Z
LAST-MODIFIED:20230523T163308Z
UID:8002-1685102400-1685106000@aiasb.com
SUMMARY:Executive Committee Meeting
DESCRIPTION:
URL:https://aiasb.com/event/executive-committee-meeting-26/
END:VEVENT
BEGIN:VEVENT
DTSTART;TZID=America/Los_Angeles:20230524T120000
DTEND;TZID=America/Los_Angeles:20230524T130000
DTSTAMP:20260425T034851
CREATED:20230410T004847Z
LAST-MODIFIED:20230430T004413Z
UID:8500-1684929600-1684933200@aiasb.com
SUMMARY:Webinar: Atlier Ten - Designing for Absolute Zero Carbon
DESCRIPTION:Register here
URL:https://aiasb.com/event/designing-for-absolute-zero-carbon/
END:VEVENT
BEGIN:VEVENT
DTSTART;TZID=America/Los_Angeles:20230523T173000
DTEND;TZID=America/Los_Angeles:20230523T193000
DTSTAMP:20260425T034851
CREATED:20230430T004247Z
LAST-MODIFIED:20230502T190219Z
UID:8546-1684863000-1684870200@aiasb.com
SUMMARY:Design Crawl with Bildsten Architecture and Planning
DESCRIPTION:Register here
URL:https://aiasb.com/event/design-crawl-with-bildsten-architecture-and-planning/
CATEGORIES:Emerging Professionals
END:VEVENT
BEGIN:VEVENT
DTSTART;TZID=America/Los_Angeles:20230517T120000
DTEND;TZID=America/Los_Angeles:20230517T130000
DTSTAMP:20260425T034851
CREATED:20230430T004101Z
LAST-MODIFIED:20230430T004101Z
UID:8544-1684324800-1684328400@aiasb.com
SUMMARY:ArchitecTours Committee Meeting
DESCRIPTION:
URL:https://aiasb.com/event/architectours-committee-meeting-4/
END:VEVENT
BEGIN:VEVENT
DTSTART;VALUE=DATE:20230516
DTEND;VALUE=DATE:20230517
DTSTAMP:20260425T034851
CREATED:20230430T003050Z
LAST-MODIFIED:20230430T003050Z
UID:8542-1684195200-1684281599@aiasb.com
SUMMARY:Design Awards Call for Entries Opens
DESCRIPTION:
URL:https://aiasb.com/event/design-awards-call-for-entries-opens/
END:VEVENT
BEGIN:VEVENT
DTSTART;TZID=America/Los_Angeles:20230511T120000
DTEND;TZID=America/Los_Angeles:20230511T130000
DTSTAMP:20260425T034851
CREATED:20230430T002845Z
LAST-MODIFIED:20230430T002845Z
UID:8540-1683806400-1683810000@aiasb.com
SUMMARY:Design Awards Committee Meeting
DESCRIPTION:
URL:https://aiasb.com/event/design-awards-committee-meeting-5/
END:VEVENT
BEGIN:VEVENT
DTSTART;TZID=America/Los_Angeles:20230510T120000
DTEND;TZID=America/Los_Angeles:20230510T130000
DTSTAMP:20260425T034851
CREATED:20230430T002650Z
LAST-MODIFIED:20230430T002650Z
UID:8538-1683720000-1683723600@aiasb.com
SUMMARY:ArchitecTours Committee Meeting
DESCRIPTION:
URL:https://aiasb.com/event/architectours-committee-meeting-3/
END:VEVENT
BEGIN:VEVENT
DTSTART;TZID=America/Los_Angeles:20230509T170000
DTEND;TZID=America/Los_Angeles:20230509T183000
DTSTAMP:20260425T034851
CREATED:20230329T172059Z
LAST-MODIFIED:20230404T163340Z
UID:8480-1683651600-1683657000@aiasb.com
SUMMARY:ADA - What You Need to Know About Accessible Signage?
DESCRIPTION:Register here
URL:https://aiasb.com/event/aia-orange-county-ada-what-you-need-to-know-about-accessible-signage/
END:VEVENT
BEGIN:VEVENT
DTSTART;TZID=America/Los_Angeles:20230509T170000
DTEND;TZID=America/Los_Angeles:20230509T170000
DTSTAMP:20260425T034851
CREATED:20230430T002349Z
LAST-MODIFIED:20230502T183600Z
UID:8536-1683651600-1683651600@aiasb.com
SUMMARY:ArchitecTours Submittal Due
DESCRIPTION:Register here by 5PM
URL:https://aiasb.com/event/architectours-submittal-due/
CATEGORIES:Major Events
END:VEVENT
BEGIN:VEVENT
DTSTART;TZID=America/Los_Angeles:20230503T114500
DTEND;TZID=America/Los_Angeles:20230503T130000
DTSTAMP:20260425T034851
CREATED:20221114T180141Z
LAST-MODIFIED:20221114T180141Z
UID:7998-1683114300-1683118800@aiasb.com
SUMMARY:Board Meeting
DESCRIPTION:
URL:https://aiasb.com/event/board-meeting-16/
CATEGORIES:Board Meetings
END:VEVENT
BEGIN:VEVENT
DTSTART;TZID=America/Los_Angeles:20230502T171500
DTEND;TZID=America/Los_Angeles:20230502T183000
DTSTAMP:20260425T034851
CREATED:20221114T180104Z
LAST-MODIFIED:20230424T022629Z
UID:7996-1683047700-1683052200@aiasb.com
SUMMARY:Women in Architecture Conversation Series
DESCRIPTION:Register here
URL:https://aiasb.com/event/women-in-architecture-conversation-series-6/
CATEGORIES:Women in Architecture
END:VEVENT
BEGIN:VEVENT
DTSTART;TZID=America/Los_Angeles:20230430T110000
DTEND;TZID=America/Los_Angeles:20230430T180000
DTSTAMP:20260425T034851
CREATED:20230221T183708Z
LAST-MODIFIED:20230313T154655Z
UID:8387-1682852400-1682877600@aiasb.com
SUMMARY:Earth Day
DESCRIPTION:Alameda Park\, Santa Barbara \nVolunteer
URL:https://aiasb.com/event/earth-day-2/
END:VEVENT
BEGIN:VEVENT
DTSTART;TZID=America/Los_Angeles:20230429T110000
DTEND;TZID=America/Los_Angeles:20230429T190000
DTSTAMP:20260425T034851
CREATED:20230221T183451Z
LAST-MODIFIED:20230313T154619Z
UID:8385-1682766000-1682794800@aiasb.com
SUMMARY:Earth Day
DESCRIPTION:Alameda Park\, Santa Barbara \nVolunteer
URL:https://aiasb.com/event/earth-day/
END:VEVENT
BEGIN:VEVENT
DTSTART;TZID=America/Los_Angeles:20230427T173000
DTEND;TZID=America/Los_Angeles:20230427T193000
DTSTAMP:20260425T034851
CREATED:20230411T160826Z
LAST-MODIFIED:20230411T160926Z
UID:8507-1682616600-1682623800@aiasb.com
SUMMARY:Design Crawl with Studio William Hefner
DESCRIPTION:Register here
URL:https://aiasb.com/event/design-crawl-with-studio-william-hefner-2/
CATEGORIES:Emerging Professionals
END:VEVENT
BEGIN:VEVENT
DTSTART;TZID=America/Los_Angeles:20230420T120000
DTEND;TZID=America/Los_Angeles:20230420T130000
DTSTAMP:20260425T034851
CREATED:20221114T174524Z
LAST-MODIFIED:20221114T174524Z
UID:7992-1681992000-1681995600@aiasb.com
SUMMARY:Executive Committee Meeting
DESCRIPTION:
URL:https://aiasb.com/event/executive-committee-meeting-25/
END:VEVENT
BEGIN:VEVENT
DTSTART;TZID=America/Los_Angeles:20230419T120000
DTEND;TZID=America/Los_Angeles:20230419T130000
DTSTAMP:20260425T034851
CREATED:20230314T192314Z
LAST-MODIFIED:20230404T173555Z
UID:8440-1681905600-1681909200@aiasb.com
SUMMARY:Lunchtime Learning: Advanced Environmental Finishes for Windows and Doors
DESCRIPTION:Register here
URL:https://aiasb.com/event/advanced-environmental-finishes-for-windows-and-doors/
CATEGORIES:Lunchtime Learning
END:VEVENT
BEGIN:VEVENT
DTSTART;TZID=America/Los_Angeles:20230413T173000
DTEND;TZID=America/Los_Angeles:20230413T190000
DTSTAMP:20260425T034851
CREATED:20230216T224227Z
LAST-MODIFIED:20230314T195828Z
UID:8367-1681407000-1681412400@aiasb.com
SUMMARY:How to Develop your Career through Community Service by Detlev Peikert
DESCRIPTION:Presentation by Detty Peikert\, AIA\, 2022 Recipient of the Lutah Maria Riggs Award \nHow to Develop your Career through Community Service \n@ AIASB Chapter House \nRegister here  \n 
URL:https://aiasb.com/event/how-to-develop-your-career-through-community-service-by-detlev-peikert/
CATEGORIES:Emerging Professionals
END:VEVENT
BEGIN:VEVENT
DTSTART;TZID=America/Los_Angeles:20230413T160000
DTEND;TZID=America/Los_Angeles:20230413T173000
DTSTAMP:20260425T034851
CREATED:20230329T171433Z
LAST-MODIFIED:20230404T163301Z
UID:8478-1681401600-1681407000@aiasb.com
SUMMARY:ADA Webinar: Disability Access
DESCRIPTION:Register here
URL:https://aiasb.com/event/aia-orange-county-ada-webinar-disability-access/
END:VEVENT
BEGIN:VEVENT
DTSTART;TZID=America/Los_Angeles:20230407T093000
DTEND;TZID=America/Los_Angeles:20230407T163000
DTSTAMP:20260425T034851
CREATED:20230227T170138Z
LAST-MODIFIED:20230307T180305Z
UID:8394-1680859800-1680885000@aiasb.com
SUMMARY:SAP Training
DESCRIPTION:Register here
URL:https://aiasb.com/event/sap-training/
END:VEVENT
BEGIN:VEVENT
DTSTART;TZID=America/Los_Angeles:20230405T114500
DTEND;TZID=America/Los_Angeles:20230405T130000
DTSTAMP:20260425T034851
CREATED:20221114T174355Z
LAST-MODIFIED:20221114T174355Z
UID:7986-1680695100-1680699600@aiasb.com
SUMMARY:Board Meeting
DESCRIPTION:
URL:https://aiasb.com/event/board-meeting-15/
CATEGORIES:Board Meetings
END:VEVENT
BEGIN:VEVENT
DTSTART;TZID=America/Los_Angeles:20230404T120000
DTEND;TZID=America/Los_Angeles:20230404T130000
DTSTAMP:20260425T034851
CREATED:20221114T174310Z
LAST-MODIFIED:20230320T155159Z
UID:7984-1680609600-1680613200@aiasb.com
SUMMARY:Women in Architecture Conversation Series
DESCRIPTION:Register here
URL:https://aiasb.com/event/women-in-architecture-conversation-series-5/
CATEGORIES:Women in Architecture
END:VEVENT
BEGIN:VEVENT
DTSTART;TZID=America/Los_Angeles:20230404T080000
DTEND;TZID=America/Los_Angeles:20230404T170000
DTSTAMP:20260425T034851
CREATED:20230404T163533Z
LAST-MODIFIED:20230404T164739Z
UID:8489-1680595200-1680627600@aiasb.com
SUMMARY:Design Crawl with Studio William Hefner
DESCRIPTION:Register here
URL:https://aiasb.com/event/design-crawl-with-studio-william-hefner/
CATEGORIES:Emerging Professionals
END:VEVENT
BEGIN:VEVENT
DTSTART;TZID=America/Los_Angeles:20230331T173000
DTEND;TZID=America/Los_Angeles:20230331T193000
DTSTAMP:20260425T034851
CREATED:20230227T171119Z
LAST-MODIFIED:20230313T172711Z
UID:8396-1680283800-1680291000@aiasb.com
SUMMARY:Design Crawl with The Warner Group Architects\, Inc.
DESCRIPTION:Register here
URL:https://aiasb.com/event/design-crawl-with-the-warner-group-architects-inc/
CATEGORIES:Emerging Professionals
END:VEVENT
BEGIN:VEVENT
DTSTART;TZID=America/Los_Angeles:20230330T180000
DTEND;TZID=America/Los_Angeles:20230330T180000
DTSTAMP:20260425T034851
CREATED:20230227T165928Z
LAST-MODIFIED:20230313T155151Z
UID:8392-1680199200-1680199200@aiasb.com
SUMMARY:Women in Construction
DESCRIPTION:Register here
URL:https://aiasb.com/event/women-in-construction-2/
END:VEVENT
END:VCALENDAR