BEGIN:VCALENDAR
VERSION:2.0
PRODID:-//AIA Santa Barbara - ECPv6.15.20//NONSGML v1.0//EN
CALSCALE:GREGORIAN
METHOD:PUBLISH
X-WR-CALNAME:AIA Santa Barbara
X-ORIGINAL-URL:https://aiasb.com
X-WR-CALDESC:Events for AIA Santa Barbara
REFRESH-INTERVAL;VALUE=DURATION:PT1H
X-Robots-Tag:noindex
X-PUBLISHED-TTL:PT1H
BEGIN:VTIMEZONE
TZID:America/Los_Angeles
BEGIN:DAYLIGHT
TZOFFSETFROM:-0800
TZOFFSETTO:-0700
TZNAME:PDT
DTSTART:20210314T100000
END:DAYLIGHT
BEGIN:STANDARD
TZOFFSETFROM:-0700
TZOFFSETTO:-0800
TZNAME:PST
DTSTART:20211107T090000
END:STANDARD
BEGIN:DAYLIGHT
TZOFFSETFROM:-0800
TZOFFSETTO:-0700
TZNAME:PDT
DTSTART:20220313T100000
END:DAYLIGHT
BEGIN:STANDARD
TZOFFSETFROM:-0700
TZOFFSETTO:-0800
TZNAME:PST
DTSTART:20221106T090000
END:STANDARD
BEGIN:DAYLIGHT
TZOFFSETFROM:-0800
TZOFFSETTO:-0700
TZNAME:PDT
DTSTART:20230312T100000
END:DAYLIGHT
BEGIN:STANDARD
TZOFFSETFROM:-0700
TZOFFSETTO:-0800
TZNAME:PST
DTSTART:20231105T090000
END:STANDARD
BEGIN:DAYLIGHT
TZOFFSETFROM:-0800
TZOFFSETTO:-0700
TZNAME:PDT
DTSTART:20240310T100000
END:DAYLIGHT
BEGIN:STANDARD
TZOFFSETFROM:-0700
TZOFFSETTO:-0800
TZNAME:PST
DTSTART:20241103T090000
END:STANDARD
END:VTIMEZONE
BEGIN:VEVENT
DTSTART;VALUE=DATE:20230214
DTEND;VALUE=DATE:20230218
DTSTAMP:20260425T032756
CREATED:20221114T173339Z
LAST-MODIFIED:20221114T173339Z
UID:7968-1676332800-1676678399@aiasb.com
SUMMARY:AIA Leadership Summit (Grassroots)
DESCRIPTION:
URL:https://aiasb.com/event/aia-leadership-summit-grassroots/
CATEGORIES:Major Events
END:VEVENT
BEGIN:VEVENT
DTSTART;TZID=America/Los_Angeles:20230207T120000
DTEND;TZID=America/Los_Angeles:20230207T130000
DTSTAMP:20260425T032756
CREATED:20221114T173149Z
LAST-MODIFIED:20230130T173847Z
UID:7966-1675771200-1675774800@aiasb.com
SUMMARY:Women in Architecture Conversation Series
DESCRIPTION:More info and registration here
URL:https://aiasb.com/event/women-in-architecture-conversation-series-3/
CATEGORIES:Women in Architecture
END:VEVENT
BEGIN:VEVENT
DTSTART;TZID=America/Los_Angeles:20230201T114500
DTEND;TZID=America/Los_Angeles:20230201T130000
DTSTAMP:20260425T032756
CREATED:20221114T173017Z
LAST-MODIFIED:20221114T173017Z
UID:7964-1675251900-1675256400@aiasb.com
SUMMARY:Board Meeting
DESCRIPTION:
URL:https://aiasb.com/event/board-meeting-13/
CATEGORIES:Board Meetings
END:VEVENT
BEGIN:VEVENT
DTSTART;TZID=America/Los_Angeles:20230121T084500
DTEND;TZID=America/Los_Angeles:20230121T121500
DTSTAMP:20260425T032756
CREATED:20221114T172055Z
LAST-MODIFIED:20230119T204304Z
UID:7954-1674290700-1674303300@aiasb.com
SUMMARY:Board Retreat
DESCRIPTION:
URL:https://aiasb.com/event/board-retreat/
END:VEVENT
BEGIN:VEVENT
DTSTART;TZID=America/Los_Angeles:20230120T120000
DTEND;TZID=America/Los_Angeles:20230120T130000
DTSTAMP:20260425T032756
CREATED:20221114T172353Z
LAST-MODIFIED:20221114T172353Z
UID:7960-1674216000-1674219600@aiasb.com
SUMMARY:ArchitecTours Executive Meeting
DESCRIPTION:
URL:https://aiasb.com/event/architectours-executive-meeting/
END:VEVENT
BEGIN:VEVENT
DTSTART;VALUE=DATE:20230119
DTEND;VALUE=DATE:20230120
DTSTAMP:20260425T032756
CREATED:20221114T172303Z
LAST-MODIFIED:20221114T172303Z
UID:7958-1674086400-1674172799@aiasb.com
SUMMARY:Executive Committee Meeting
DESCRIPTION:
URL:https://aiasb.com/event/executive-committee-meeting-22/
END:VEVENT
BEGIN:VEVENT
DTSTART;TZID=America/Los_Angeles:20230118T120000
DTEND;TZID=America/Los_Angeles:20230118T130000
DTSTAMP:20260425T032756
CREATED:20221114T172149Z
LAST-MODIFIED:20221114T172149Z
UID:7956-1674043200-1674046800@aiasb.com
SUMMARY:Lunchtime Learning
DESCRIPTION:
URL:https://aiasb.com/event/lunchtime-learning-2/
CATEGORIES:Lunchtime Learning
END:VEVENT
BEGIN:VEVENT
DTSTART;TZID=America/Los_Angeles:20230105T170000
DTEND;TZID=America/Los_Angeles:20230105T193000
DTSTAMP:20260425T032756
CREATED:20221029T171531Z
LAST-MODIFIED:20221029T171531Z
UID:7893-1672938000-1672947000@aiasb.com
SUMMARY:Design Awards Exhibition Reception @ Faulkner Gallery – open to the public
DESCRIPTION:
URL:https://aiasb.com/event/design-awards-exhibition-reception-faulkner-gallery-open-to-the-public/
END:VEVENT
BEGIN:VEVENT
DTSTART;TZID=America/Los_Angeles:20230104T114500
DTEND;TZID=America/Los_Angeles:20230104T130000
DTSTAMP:20260425T032756
CREATED:20221114T172012Z
LAST-MODIFIED:20221114T172012Z
UID:7952-1672832700-1672837200@aiasb.com
SUMMARY:Board Meeting
DESCRIPTION:
URL:https://aiasb.com/event/board-meeting-7/
CATEGORIES:Board Meetings
END:VEVENT
BEGIN:VEVENT
DTSTART;TZID=America/Los_Angeles:20230103T171500
DTEND;TZID=America/Los_Angeles:20230103T183000
DTSTAMP:20260425T032756
CREATED:20221114T171927Z
LAST-MODIFIED:20221114T171927Z
UID:7950-1672766100-1672770600@aiasb.com
SUMMARY:Women in Architecture Conversation Series
DESCRIPTION:Location TBA
URL:https://aiasb.com/event/women-in-architecture-conversation-series-2/
CATEGORIES:Women in Architecture
END:VEVENT
BEGIN:VEVENT
DTSTART;VALUE=DATE:20221225
DTEND;VALUE=DATE:20230103
DTSTAMP:20260425T032756
CREATED:20221024T163522Z
LAST-MODIFIED:20221024T163522Z
UID:7843-1671926400-1672703999@aiasb.com
SUMMARY:OFFICE CLOSED FOR THE HOLIDAYS
DESCRIPTION:
URL:https://aiasb.com/event/office-closed-for-the-holidays/
END:VEVENT
BEGIN:VEVENT
DTSTART;TZID=America/Los_Angeles:20221207T114500
DTEND;TZID=America/Los_Angeles:20221207T130000
DTSTAMP:20260425T032756
CREATED:20221024T163404Z
LAST-MODIFIED:20221024T163404Z
UID:7841-1670413500-1670418000@aiasb.com
SUMMARY:Board of Directors Meeting
DESCRIPTION:
URL:https://aiasb.com/event/board-of-directors-meeting-11/
CATEGORIES:Board Meetings
END:VEVENT
BEGIN:VEVENT
DTSTART;TZID=America/Los_Angeles:20221206T120000
DTEND;TZID=America/Los_Angeles:20221206T130000
DTSTAMP:20260425T032756
CREATED:20221024T170310Z
LAST-MODIFIED:20221024T170310Z
UID:7845-1670328000-1670331600@aiasb.com
SUMMARY:Women In Architecture Conversation Series
DESCRIPTION:Register here
URL:https://aiasb.com/event/women-in-architecture-conversation-series/
END:VEVENT
BEGIN:VEVENT
DTSTART;TZID=America/Los_Angeles:20221201T173000
DTEND;TZID=America/Los_Angeles:20221201T203000
DTSTAMP:20260425T032756
CREATED:20221024T163243Z
LAST-MODIFIED:20221129T185841Z
UID:7839-1669915800-1669926600@aiasb.com
SUMMARY:Design Awards Gala
DESCRIPTION:Register here
URL:https://aiasb.com/event/design-awards-gala/
CATEGORIES:General Meetings,Major Events
END:VEVENT
BEGIN:VEVENT
DTSTART;TZID=America/Los_Angeles:20221129T120000
DTEND;TZID=America/Los_Angeles:20221129T130000
DTSTAMP:20260425T032756
CREATED:20220404T181945Z
LAST-MODIFIED:20220404T181945Z
UID:7259-1669723200-1669726800@aiasb.com
SUMMARY:Sponsorship Committee
DESCRIPTION:
URL:https://aiasb.com/event/sponsorship-committee-8/
END:VEVENT
BEGIN:VEVENT
DTSTART;VALUE=DATE:20221125
DTEND;VALUE=DATE:20221126
DTSTAMP:20260425T032756
CREATED:20221024T163039Z
LAST-MODIFIED:20221024T163039Z
UID:7837-1669334400-1669420799@aiasb.com
SUMMARY:OFFICE CLOSED
DESCRIPTION:
URL:https://aiasb.com/event/office-closed-2/
END:VEVENT
BEGIN:VEVENT
DTSTART;VALUE=DATE:20221124
DTEND;VALUE=DATE:20221125
DTSTAMP:20260425T032756
CREATED:20221024T163013Z
LAST-MODIFIED:20221024T163013Z
UID:7835-1669248000-1669334399@aiasb.com
SUMMARY:Thanksgiving OFFICE CLOSED
DESCRIPTION:
URL:https://aiasb.com/event/thanksgiving-office-closed/
END:VEVENT
BEGIN:VEVENT
DTSTART;TZID=America/Los_Angeles:20221123T170000
DTEND;TZID=America/Los_Angeles:20221123T170000
DTSTAMP:20260425T032756
CREATED:20221024T162934Z
LAST-MODIFIED:20221024T162934Z
UID:7833-1669222800-1669222800@aiasb.com
SUMMARY:ARE Study Group
DESCRIPTION:
URL:https://aiasb.com/event/are-study-group-4/
END:VEVENT
BEGIN:VEVENT
DTSTART;TZID=America/Los_Angeles:20221117T120000
DTEND;TZID=America/Los_Angeles:20221117T130000
DTSTAMP:20260425T032756
CREATED:20221024T162841Z
LAST-MODIFIED:20221024T162841Z
UID:7831-1668686400-1668690000@aiasb.com
SUMMARY:Executive Committee Meeting
DESCRIPTION:
URL:https://aiasb.com/event/executive-committee-meeting-21/
END:VEVENT
BEGIN:VEVENT
DTSTART;TZID=America/Los_Angeles:20221116T120000
DTEND;TZID=America/Los_Angeles:20221116T130000
DTSTAMP:20260425T032756
CREATED:20221031T182153Z
LAST-MODIFIED:20221031T182153Z
UID:7903-1668600000-1668603600@aiasb.com
SUMMARY:Lunchtime Learning: Trends in Lighting Technology
DESCRIPTION:Register Here
URL:https://aiasb.com/event/lunchtime-learning-trends-in-lighting-technology/
CATEGORIES:Lunchtime Learning
END:VEVENT
BEGIN:VEVENT
DTSTART;TZID=America/Los_Angeles:20221115T120000
DTEND;TZID=America/Los_Angeles:20221115T130000
DTSTAMP:20260425T032756
CREATED:20221024T162800Z
LAST-MODIFIED:20221024T162800Z
UID:7829-1668513600-1668517200@aiasb.com
SUMMARY:PR Committee Meeting
DESCRIPTION:
URL:https://aiasb.com/event/pr-committee-meeting/
END:VEVENT
BEGIN:VEVENT
DTSTART;TZID=America/Los_Angeles:20221110T120000
DTEND;TZID=America/Los_Angeles:20221110T130000
DTSTAMP:20260425T032756
CREATED:20221024T162718Z
LAST-MODIFIED:20221024T162718Z
UID:7827-1668081600-1668085200@aiasb.com
SUMMARY:Design Awards Committee Meeting
DESCRIPTION:
URL:https://aiasb.com/event/design-awards-committee-meeting-4/
END:VEVENT
BEGIN:VEVENT
DTSTART;TZID=America/Los_Angeles:20221109T170000
DTEND;TZID=America/Los_Angeles:20221109T170000
DTSTAMP:20260425T032756
CREATED:20221024T162619Z
LAST-MODIFIED:20221024T162619Z
UID:7825-1668013200-1668013200@aiasb.com
SUMMARY:ARE Study Group
DESCRIPTION:
URL:https://aiasb.com/event/are-study-group-3/
END:VEVENT
BEGIN:VEVENT
DTSTART;TZID=America/Los_Angeles:20221102T114500
DTEND;TZID=America/Los_Angeles:20221102T130000
DTSTAMP:20260425T032756
CREATED:20221024T161553Z
LAST-MODIFIED:20221024T161553Z
UID:7821-1667389500-1667394000@aiasb.com
SUMMARY:AIASB Board Meeting
DESCRIPTION:
URL:https://aiasb.com/event/aiasb-board-meeting-7/
CATEGORIES:Board Meetings
END:VEVENT
BEGIN:VEVENT
DTSTART;TZID=America/Los_Angeles:20221101T171500
DTEND;TZID=America/Los_Angeles:20221101T193000
DTSTAMP:20260425T032756
CREATED:20220328T202436Z
LAST-MODIFIED:20221101T154412Z
UID:7215-1667322900-1667331000@aiasb.com
SUMMARY:Women's Conversation Group
DESCRIPTION:Register here
URL:https://aiasb.com/event/womens-conversation-group-zoom-meeting-4/
END:VEVENT
BEGIN:VEVENT
DTSTART;TZID=America/Los_Angeles:20221027T173000
DTEND;TZID=America/Los_Angeles:20221027T173000
DTSTAMP:20260425T032756
CREATED:20221008T222229Z
LAST-MODIFIED:20221008T222229Z
UID:7801-1666891800-1666891800@aiasb.com
SUMMARY:EP Mixer @ Studio William Hefner
DESCRIPTION:
URL:https://aiasb.com/event/ep-mixer-studio-william-hefner/
END:VEVENT
BEGIN:VEVENT
DTSTART;TZID=America/Los_Angeles:20221026T170000
DTEND;TZID=America/Los_Angeles:20221026T170000
DTSTAMP:20260425T032756
CREATED:20221008T222106Z
LAST-MODIFIED:20221008T222106Z
UID:7799-1666803600-1666803600@aiasb.com
SUMMARY:ARE Study Group @ AIASB
DESCRIPTION:
URL:https://aiasb.com/event/are-study-group-aiasb/
END:VEVENT
BEGIN:VEVENT
DTSTART;TZID=America/Los_Angeles:20221025T120000
DTEND;TZID=America/Los_Angeles:20221025T130000
DTSTAMP:20260425T032756
CREATED:20220404T181915Z
LAST-MODIFIED:20220404T181915Z
UID:7257-1666699200-1666702800@aiasb.com
SUMMARY:Sponsorship Committee
DESCRIPTION:
URL:https://aiasb.com/event/sponsorship-committee-7/
END:VEVENT
BEGIN:VEVENT
DTSTART;TZID=America/Los_Angeles:20221021T170000
DTEND;TZID=America/Los_Angeles:20221021T193000
DTSTAMP:20260425T032756
CREATED:20221008T220126Z
LAST-MODIFIED:20221008T220126Z
UID:7787-1666371600-1666380600@aiasb.com
SUMMARY:Brooks +Scarpa: Dense City - Housing for Quality of Life and Social Change
DESCRIPTION:Low-Income affordable housing used to mean fortress-like structures that were soulless and cheaply built. Today\, there is a growing interest amongst architects that have spawned new and innovative approaches to affordable housing that are well-designed and incorporate a combination of creative social programming\, cutting-edge forms and materials\, sustainable design and a keen sense of aesthetic. This seminar will explore new models that have transformed affordable and low-income housing into cutting edge architecture. \nThis seminar will explore\, discuss and show example and discuss how new models and current trends in affordable and low-income housing design have produced innovative and cutting-edge designs and how they have improved our cities and communities. We will discuss and show examples of extraordinary low-income and affordable housing projects and discuss their relevance to good community\, neighborhood and urban design today. The seminar will also demonstrate how hi-design affordable housing architecture can help create more equitable societies. \nAngela Brooks\, FAIA & Lawrence Scarpa\, FAIA \nBrooks + Scarpa Architects \nAngie and Larry are recipients of the 2020 National AIA Gold Medal. Angie is only the third women to receive this award and Angie and Larry are only the second duo. Angie is also the recipient of the 2020 AIA California Maybeck award\, The first woman to ever receive this award. \n  \nRegister Here
URL:https://aiasb.com/event/brooks-scarpa-dense-city-housing-for-quality-of-life-and-social-change/
END:VEVENT
BEGIN:VEVENT
DTSTART;VALUE=DATE:20221021
DTEND;VALUE=DATE:20221022
DTSTAMP:20260425T032756
CREATED:20221008T221702Z
LAST-MODIFIED:20221008T221702Z
UID:7797-1666310400-1666396799@aiasb.com
SUMMARY:2023 Board Nomination Deadline
DESCRIPTION:
URL:https://aiasb.com/event/2023-board-nomination-deadline/
END:VEVENT
END:VCALENDAR