BEGIN:VCALENDAR
VERSION:2.0
PRODID:-//AIA Santa Barbara - ECPv6.15.20//NONSGML v1.0//EN
CALSCALE:GREGORIAN
METHOD:PUBLISH
X-WR-CALNAME:AIA Santa Barbara
X-ORIGINAL-URL:https://aiasb.com
X-WR-CALDESC:Events for AIA Santa Barbara
REFRESH-INTERVAL;VALUE=DURATION:PT1H
X-Robots-Tag:noindex
X-PUBLISHED-TTL:PT1H
BEGIN:VTIMEZONE
TZID:America/Los_Angeles
BEGIN:DAYLIGHT
TZOFFSETFROM:-0800
TZOFFSETTO:-0700
TZNAME:PDT
DTSTART:20240310T100000
END:DAYLIGHT
BEGIN:STANDARD
TZOFFSETFROM:-0700
TZOFFSETTO:-0800
TZNAME:PST
DTSTART:20241103T090000
END:STANDARD
BEGIN:DAYLIGHT
TZOFFSETFROM:-0800
TZOFFSETTO:-0700
TZNAME:PDT
DTSTART:20250309T100000
END:DAYLIGHT
BEGIN:STANDARD
TZOFFSETFROM:-0700
TZOFFSETTO:-0800
TZNAME:PST
DTSTART:20251102T090000
END:STANDARD
BEGIN:DAYLIGHT
TZOFFSETFROM:-0800
TZOFFSETTO:-0700
TZNAME:PDT
DTSTART:20260308T100000
END:DAYLIGHT
BEGIN:STANDARD
TZOFFSETFROM:-0700
TZOFFSETTO:-0800
TZNAME:PST
DTSTART:20261101T090000
END:STANDARD
END:VTIMEZONE
BEGIN:VEVENT
DTSTART;TZID=America/Los_Angeles:20251120T173000
DTEND;TZID=America/Los_Angeles:20251120T193000
DTSTAMP:20260423T164733
CREATED:20251110T222652Z
LAST-MODIFIED:20251111T203416Z
UID:11018-1763659800-1763667000@aiasb.com
SUMMARY:Firm Open House at ANACAPA Architecture
DESCRIPTION:Visit ANACAPA Architecture’s new offices on State Street!\n\n\n\nCrafting spaces that inspire and enhance the well-being of both clients and community\, all while preserving a legacy for future generations.\nJoin AIASB Emerging Professionals for an exclusive tour of ANACAPA Architecture\, a premier Santa Barbara and Portland-based design studio known for its modern\, sustainable approach to architecture. \nSpecializing in custom residences\, hospitality\, creative office\, and mixed-use projects\, ANACAPA blends design excellence with technical precision to create spaces that enrich lives and inspire connection. \n\n\nAbout ANACAPA Architecture\nAt Anacapa Architecture\, we are dedicated to advancing the fields of architecture and interior design\, aiming to redefine industry standards. Our mission is to heighten the appreciation for the intrinsic value of beauty\, functionality\, and purpose in design. \nWe specialize in various project types\, including residential\, commercial\, and hospitality design. Our approach is centered on sustainable\, innovative solutions that cater to each project’s unique requirements and aspirations\, ensuring outcomes beyond client expectations. \nWe approach each project with a renewed sense of exploration and curiosity and it is our great pleasure to invite you to experience one of our latest completed projects\, our new studio space! \nReserve your spot here!
URL:https://aiasb.com/event/firm-open-house-anacapa-architecture/
LOCATION:ANACAPA Architecture\, 1023 State street\, Santa Barbara\, CA\, 93101\, United States
CATEGORIES:Emerging Professionals
ATTACH;FMTTYPE=application/pdf:https://aiasb.com/wp-content/uploads/2025/11/A.BLACK_.pdf
END:VEVENT
BEGIN:VEVENT
DTSTART;TZID=America/Los_Angeles:20251111T181500
DTEND;TZID=America/Los_Angeles:20251111T201500
DTSTAMP:20260423T164733
CREATED:20250114T205925Z
LAST-MODIFIED:20250612T171828Z
UID:10377-1762884900-1762892100@aiasb.com
SUMMARY:Emerging Professionals ARE Study Prep
DESCRIPTION:Open to all! \nStudy groups occur every 2 weeks.
URL:https://aiasb.com/event/emerging-professionals-are-study-prep-2-2-2-2-2-2-2-2-2-2-2/
LOCATION:AIA Santa Barbara\, 229 E Victoria St\, Santa Barbara\, CA\, 93101\, United States
END:VEVENT
BEGIN:VEVENT
DTSTART;TZID=America/Los_Angeles:20251108T110000
DTEND;TZID=America/Los_Angeles:20251108T123000
DTSTAMP:20260423T164733
CREATED:20251001T200624Z
LAST-MODIFIED:20251001T200624Z
UID:10930-1762599600-1762605000@aiasb.com
SUMMARY:Firm Open House at Bevyhouse
DESCRIPTION:Join AIA Santa Barbara’s Emerging Professionals for a special behind-the-scenes tour of Bevy House\, an innovative prefabricated housing manufacturer based in Santa Barbara.\n \n\nWhether you’re curious about prefabrication\, passionate about sustainability\, or simply looking to connect with the local design community\, this tour is a chance to expand your knowledge and network.
URL:https://aiasb.com/event/firm-open-house-bevyhouse/
LOCATION:Bevyhouse\, 630 Todd Lane\, Santa Paula\, CA\, 93060
CATEGORIES:Emerging Professionals
END:VEVENT
BEGIN:VEVENT
DTSTART;TZID=America/Los_Angeles:20251104T173000
DTEND;TZID=America/Los_Angeles:20251104T193000
DTSTAMP:20260423T164733
CREATED:20250114T202212Z
LAST-MODIFIED:20251021T185944Z
UID:10330-1762277400-1762284600@aiasb.com
SUMMARY:Women in Architecture
DESCRIPTION:All welcome! \nNovember 4th \nJoin us for our monthly Women in Architecture gathering. This month we will be hearing from Silvia Perea\, Ph.D.\, Architect\, and Curator of the Architecture and Design Collection at the AD&A Museum. \nSilvia Perea holds a Doctorate in Architecture with Honors from the Polytechnic University of Madrid (UPM) and has completed graduate Museum Studies at Harvard University. Throughout her career\, Dr. Perea has combined teaching and publishing with the organization of exhibitions. She has taught at international universities\, including Columbia (NY)\, CEPT (India)\, Blas Pascal (Argentina)\, and the UPM (Spain). \nAdditionally\, she has published extensively\, working as an editor of Arquitectura Viva\, and contributing articles to magazines such as Domus\, Architectural Record\, Potlatch\, Minerva\, and Arquitectura\, among others. As a curator\, Dr. Perea has organized over a dozen exhibitions of art and architecture for American and European museums. Her curatorial practice advocates the integration of both disciplines as a means to enrich their respective discourses and perspectives. \nDuring the event\, Dr. Perea will lead a presentation of some of her work and how she designs architecture exhibitions. There will also be time to tour the Architecture and Design Gallery at the Museum. Purchase tickets here! \n 
URL:https://aiasb.com/event/women-in-architecture-6-2-2-6-3-2/
LOCATION:Art\, Design & Architecture Museum\, 552 University Road\, Santa Barbara\, CA\, 93106\, United States
CATEGORIES:Women in Architecture
END:VEVENT
BEGIN:VEVENT
DTSTART;TZID=America/Los_Angeles:20251028T181500
DTEND;TZID=America/Los_Angeles:20251028T201500
DTSTAMP:20260423T164733
CREATED:20250114T210015Z
LAST-MODIFIED:20250612T171818Z
UID:10379-1761675300-1761682500@aiasb.com
SUMMARY:Emerging Professionals ARE Study Prep
DESCRIPTION:Open to all! \nStudy groups occur every 2 weeks.
URL:https://aiasb.com/event/emerging-professionals-are-study-prep-2-2-2-2-2-2-2-2-2-2-3/
LOCATION:AIA Santa Barbara\, 229 E Victoria St\, Santa Barbara\, CA\, 93101\, United States
END:VEVENT
BEGIN:VEVENT
DTSTART;TZID=America/Los_Angeles:20251023T173000
DTEND;TZID=America/Los_Angeles:20251023T193000
DTSTAMP:20260423T164733
CREATED:20250204T172152Z
LAST-MODIFIED:20250820T181234Z
UID:10455-1761240600-1761247800@aiasb.com
SUMMARY:Firm Open House at Forms & Surfaces
DESCRIPTION:About Forms + Surfaces\nForms+Surfaces (F+S) is a global leader in architectural products for the built environment. With a legacy spanning more than 50 years\, we’re known for the seamless integration of design and manufacturing – from stainless steel and glass surfaces to modular wall systems\, site furnishings\, and outdoor lighting.\n \nAt our Carpinteria Design Studio\, where the open house will be held\, visitors can explore the materials and ideas behind our newest product innovations. This is where creativity meets craft to shape the built environment in ways that are sustainable\, intentional\, and lasting.\n \nWhether you’re interested in materials\, detailing\, or systems thinking\, F+S offers a window into how architecture\,  industrial\, and architectural surface design come together to create solutions that stand the test of time.
URL:https://aiasb.com/event/firm-open-house-forms-surfaces/
LOCATION:forms + surfaces
CATEGORIES:Emerging Professionals
END:VEVENT
BEGIN:VEVENT
DTSTART;TZID=America/Los_Angeles:20251015T120000
DTEND;TZID=America/Los_Angeles:20251015T130000
DTSTAMP:20260423T164733
CREATED:20250905T001921Z
LAST-MODIFIED:20250905T001921Z
UID:10863-1760529600-1760533200@aiasb.com
SUMMARY:Lunch & Learn: 179D and R&D Credits
DESCRIPTION:179D and R&D Credits for Architects\nPresented by KBKG \nJoin us for an in-person Lunch & Learn at AIA Santa Barbara with Jillian Jones\, where we’ll explore how architecture firms can leverage R&D and 179D tax credits to maximize financial opportunities while advancing innovative and sustainable design. \nThis session will focus on R&D Tax Credits\, covering how everyday design work—from sustainable strategies to complex problem-solving—may qualify for substantial tax savings under the latest legislation (OBBBA). We’ll also provide a brief update on 179D\, including new incentives for energy-efficient and retrofit projects. \nWhat You’ll Learn: \n\nHow architecture projects may qualify for R&D tax credits\nHow to calculate potential savings and document qualifying work\nOpportunities for retroactive tax refunds and deductions\nOverview of 179D deductions for energy-efficient commercial and government buildings\n\nWhether you’re a principal\, project manager\, or designer\, this session will equip you with practical strategies to turn your design and innovation into real tax savings. \n 
URL:https://aiasb.com/event/lunch-learn-kbkg/
LOCATION:AIA Santa Barbara\, 229 E Victoria St\, Santa Barbara\, CA\, 93101\, United States
END:VEVENT
BEGIN:VEVENT
DTSTART;TZID=America/Los_Angeles:20251014T181500
DTEND;TZID=America/Los_Angeles:20251014T201500
DTSTAMP:20260423T164733
CREATED:20250114T205901Z
LAST-MODIFIED:20250612T171730Z
UID:10375-1760465700-1760472900@aiasb.com
SUMMARY:Emerging Professionals ARE Study Prep
DESCRIPTION:Open to all! \nStudy groups occur every 2 weeks.
URL:https://aiasb.com/event/emerging-professionals-are-study-prep-2-2-2-2-2-2-2-2-2-2/
LOCATION:AIA Santa Barbara\, 229 E Victoria St\, Santa Barbara\, CA\, 93101\, United States
END:VEVENT
BEGIN:VEVENT
DTSTART;TZID=America/Los_Angeles:20251004T100000
DTEND;TZID=America/Los_Angeles:20251004T160000
DTSTAMP:20260423T164733
CREATED:20250410T193424Z
LAST-MODIFIED:20250410T193424Z
UID:10615-1759572000-1759593600@aiasb.com
SUMMARY:ArchitecTours
DESCRIPTION:
URL:https://aiasb.com/event/architectours-2025/
LOCATION:CA
CATEGORIES:Major Events
END:VEVENT
BEGIN:VEVENT
DTSTART;TZID=America/Los_Angeles:20250930T181500
DTEND;TZID=America/Los_Angeles:20250930T201500
DTSTAMP:20260423T164733
CREATED:20250612T171652Z
LAST-MODIFIED:20250612T171652Z
UID:10707-1759256100-1759263300@aiasb.com
SUMMARY:Emerging Professionals ARE Study Prep
DESCRIPTION:Open to all! \nStudy groups occur every 2 weeks.
URL:https://aiasb.com/event/emerging-professionals-are-study-prep-2-2-2-2-2-2-2-2-2-3/
LOCATION:AIA Santa Barbara\, 229 E Victoria St\, Santa Barbara\, CA\, 93101\, United States
END:VEVENT
BEGIN:VEVENT
DTSTART;TZID=America/Los_Angeles:20250918T173000
DTEND;TZID=America/Los_Angeles:20250918T193000
DTSTAMP:20260423T164733
CREATED:20250820T181207Z
LAST-MODIFIED:20250910T232155Z
UID:10768-1758216600-1758223800@aiasb.com
SUMMARY:Firm Open House at MN Studio
DESCRIPTION:
URL:https://aiasb.com/event/firm-open-house-mn-studio/
LOCATION:CA
CATEGORIES:Emerging Professionals
END:VEVENT
BEGIN:VEVENT
DTSTART;TZID=America/Los_Angeles:20250917T173000
DTEND;TZID=America/Los_Angeles:20250917T193000
DTSTAMP:20260423T164733
CREATED:20250904T222825Z
LAST-MODIFIED:20250910T172212Z
UID:10858-1758130200-1758137400@aiasb.com
SUMMARY:Many Hands Make Light Work - Panel Discussion
DESCRIPTION:About the Event \nWhether you’re a builder\, architect\, or designer—if lighting matters to you\, this is a conversation worth being part of. \nNot every project\, new construction or renovation\, ends with the lighting it deserves. Some start with good intentions but fall short by the time the switch gets flipped. So where’s the disconnect? More importantly—what happens when it all goes right? \nJoin us for a candid conversation with experienced professionals who know what it takes to get lighting right—by working together from the start. Whether you’re planning\, building\, or retrofitting\, this panel pulls back the curtain on what makes the difference between “just good enough” and exceptional. \nReception at 5:30PM with the panel conversation starting at 6:00PM—7:30PM \nPizza and non-alcoholic refreshments will be served. \n  \n\n\nPanelists \n\nArchitect | Robert Kupiec\, AIA\nLighting Designer | Vince Tarango\, IALD\nElectrical Engineer | John Maloney\, PE\nElectrical Contractor | Garrett Powell\nSystem Integrator | Chris Wilson\nManufacturers’ Rep | Ian Clements\n\nModerator \nNorman Russell\, LC\, IES | Principal Lighting Designer\, NV5 \n  \nClick here for more information about the panelists and a full parking map. \n\n\n\n\n 
URL:https://aiasb.com/event/aiasb-iessb-panel/
LOCATION:SBCC West Campus Center\, 721 Cliff Drive\, Room 216\, Santa Barbara\, 93109\, United States
END:VEVENT
BEGIN:VEVENT
DTSTART;TZID=America/Los_Angeles:20250917T120000
DTEND;TZID=America/Los_Angeles:20250917T130000
DTSTAMP:20260423T164733
CREATED:20250910T191406Z
LAST-MODIFIED:20250910T191406Z
UID:10867-1758110400-1758114000@aiasb.com
SUMMARY:Lunch & Learn: How to Become a Tesla Certified Architect
DESCRIPTION:How to Become a Tesla Certified Architect\nPresented by Jeff Riley\, Solarponics (Tesla Certified Installer) \nJoin our Lunch and Learn session hosted by Jeff Riley from Solarponics in Atascadero. Solarponics is a certified Tesla Solar\, Battery\, and Solar Roof Installer\, and Jeff will run through a deck designed by Tesla for architects that explores Tesla’s energy ecosystem\, covering how solar works\, key components\, and the design and safety features of Solar Roof and Solar Panels. Learn about Building Integrated Photovoltaics (BIPV)\, energy storage benefits\, home storage solutions\, and monitoring via Tesla’s mobile app. Key learnings include product insights\, photos of installations\, and information on incentives. \nWhat You’ll Learn: \n\nUnderstand Tesla’s energy ecosystem and its applications for architectural projects.\nGain knowledge of the components\, design\, and safety features of Tesla Solar Roofs and Panels.\nExplore the benefits of Building Integrated Photovoltaics (BIPV) and home energy storage.\nIdentify available incentives and monitoring tools for clients adopting Tesla’s solar solutions.\n\n 
URL:https://aiasb.com/event/lunch-learn-solarponics/
LOCATION:AIA Santa Barbara\, 229 E Victoria St\, Santa Barbara\, CA\, 93101\, United States
END:VEVENT
BEGIN:VEVENT
DTSTART;TZID=America/Los_Angeles:20250916T181500
DTEND;TZID=America/Los_Angeles:20250916T201500
DTSTAMP:20260423T164733
CREATED:20250114T205827Z
LAST-MODIFIED:20250612T171541Z
UID:10373-1758046500-1758053700@aiasb.com
SUMMARY:Emerging Professionals ARE Study Prep
DESCRIPTION:Open to all! \nStudy groups occur every 2 weeks.
URL:https://aiasb.com/event/emerging-professionals-are-study-prep-2-2-2-2-2-2-2-2-2/
LOCATION:AIA Santa Barbara\, 229 E Victoria St\, Santa Barbara\, CA\, 93101\, United States
END:VEVENT
BEGIN:VEVENT
DTSTART;TZID=America/Los_Angeles:20250911T173000
DTEND;TZID=America/Los_Angeles:20250911T200000
DTSTAMP:20260423T164733
CREATED:20250820T170939Z
LAST-MODIFIED:20250820T170939Z
UID:10761-1757611800-1757620800@aiasb.com
SUMMARY:General Meeting
DESCRIPTION:Join us for an exciting and relaxed evening at our upcoming general meeting\, hosted by Arnoldi’s Cafe. Whether you’re a long-time member or new to the chapter\, this is a great opportunity to meet and connect with fellow architecture and design professionals. \nThis meeting will focus on a panel discussion on the state of housing in Santa Barbara County. \nPanelists\nRosie Dyste \nInterim Principal Planner \nCITY OF SANTA BARBARA\, Community Development \nBeth Collins \nLawyer with BROWNSTEIN HYATT FARBER SCHRECK \nAllison DeBusk \nInterim Community Development Director \nCITY OF SANTA BARBARA\, Community Development
URL:https://aiasb.com/event/general-meeting-15/
LOCATION:Arnoldi’s Cafe\, 600 Olive Street\, Santa Barbara\, CA\, 93101\, United States
END:VEVENT
BEGIN:VEVENT
DTSTART;TZID=America/Los_Angeles:20250909T173000
DTEND;TZID=America/Los_Angeles:20250909T190000
DTSTAMP:20260423T164733
CREATED:20250114T202120Z
LAST-MODIFIED:20250820T170610Z
UID:10327-1757439000-1757444400@aiasb.com
SUMMARY:Women in Architecture
DESCRIPTION:Join us for our monthly Women in Architecture gathering. This month we will be hearing from Shanar Moslehy\, Senior Project Manager at Cearnal Collective Architects and Santa Barbara Single-Family Design Board Member. \nBefore relocating to the U.S. in 2019\, She was a practicing architect and partner at the Transformative Architectural Office (TAO) in Tehran\, Iran. Passionate about mentorship\, she also taught at the Tehran University of Art. She holds a Master’s in Architectural Engineering from Iran University of Science and Technology (2011) and a Bachelor’s of Architecture from Tehran University (2008). \nIn Los Angeles\, she pursued her dream of studying under Thom Mayne at SCI-Arc’s postgraduate Design of Cities program. She later moved to Santa Barbara in 2021 while working at Anacapa Architects. \nShanar’s diverse architectural career—spanning roles\, contexts\, and scales—has shaped her journey through intercultural settings. She believes in the social responsibility of architects and urban designers to help transform communities through design and collaboration.
URL:https://aiasb.com/event/women-in-architecture-shanar-moslehy/
LOCATION:Mission Audio Video\, 1910 De La Vina St\, Santa Barbara\, CA\, 93101\, United States
END:VEVENT
BEGIN:VEVENT
DTSTART;TZID=America/Los_Angeles:20250902T181500
DTEND;TZID=America/Los_Angeles:20250902T201500
DTSTAMP:20260423T164733
CREATED:20250114T205757Z
LAST-MODIFIED:20250612T171529Z
UID:10371-1756836900-1756844100@aiasb.com
SUMMARY:Emerging Professionals ARE Study Prep
DESCRIPTION:Open to all! \nStudy groups occur every 2 weeks.
URL:https://aiasb.com/event/emerging-professionals-are-study-prep-2-2-2-2-2-2-2-2/
LOCATION:AIA Santa Barbara\, 229 E Victoria St\, Santa Barbara\, CA\, 93101\, United States
END:VEVENT
BEGIN:VEVENT
DTSTART;TZID=America/Los_Angeles:20250827T170000
DTEND;TZID=America/Los_Angeles:20250827T180000
DTSTAMP:20260423T164733
CREATED:20250820T180625Z
LAST-MODIFIED:20250820T180625Z
UID:10764-1756314000-1756317600@aiasb.com
SUMMARY:Hard Hat Tour: Park Hill Lane
DESCRIPTION:Park Hill Lane \nExperience an exclusive behind-the-walls tour of a hillside custom residence by Studio William Hefner. Featuring 18’ retaining walls\, butterfly roof framing\, extensive structural steel\, solar power\, a backup generator\, and a ¼-mile driveway\, this project offers a masterclass in modern hillside construction. Attendees will gain firsthand insight into advanced MEP installations\, review detailed framing inspections\, and explore the strategic positioning of a home on challenging terrain. \n  \nEric Johnson with Allen Construction and Karl Kraus with SWH \n\nArchitect: Studio William Hefner\, Karl Kraus\, AIA\nConstruction Company: Allen Contruction
URL:https://aiasb.com/event/hard-hat-tour-park-hill/
LOCATION:CA
CATEGORIES:Emerging Professionals
END:VEVENT
BEGIN:VEVENT
DTSTART;TZID=America/Los_Angeles:20250821T173000
DTEND;TZID=America/Los_Angeles:20250821T193000
DTSTAMP:20260423T164733
CREATED:20250820T170321Z
LAST-MODIFIED:20250820T172150Z
UID:10756-1755797400-1755804600@aiasb.com
SUMMARY:Emerging Professionals Firm Open House with Studio 7
DESCRIPTION:About Studio 7\nStudio 7 was established to provide a collaborative design environment with a focus on local residential projects . Architectural solutions are enriched through experiences in allied arts including furniture\, hardware and lighting. A technical and artistic compliment to each project is assembled from established  partnerships. We maintain a small staff of balanced and complimentary skills. The single team model allows us to provide intimate personal service to carefully selected projects. \n 
URL:https://aiasb.com/event/ep-open-house-studio-7/
LOCATION:Studio 7 Architecture & Allied Arts\, 112 East De La Guerra Street\, Santa Barbara\, CA\, 93101\, United States
CATEGORIES:Emerging Professionals
END:VEVENT
BEGIN:VEVENT
DTSTART;TZID=America/Los_Angeles:20250820T120000
DTEND;TZID=America/Los_Angeles:20250820T130000
DTSTAMP:20260423T164733
CREATED:20250820T165805Z
LAST-MODIFIED:20250820T165933Z
UID:10754-1755691200-1755694800@aiasb.com
SUMMARY:Lunch & Learn: Designed to Disappear
DESCRIPTION:Designed to Disappear\nPresented by Sonance\nThis course will introduce the builder\, designer\, or architect to the benefits of hiding technology into the design and architecture of a project. The course will begin by defining the luxury experience in residential design. It will then dive deeper into audio and lighting as elements that influence the luxury experience. Finally\, the course will present solutions for hiding these and other technologies into design and architecture. \nLearning Objectives\n-To define the luxury experience in the residential space. \n-To draw parallels between lighting and audio design. \n-To establish audio as a benefit to the way people experience their homes. \n-To explore solutions and ways to hide technology into architecture and interior design. \n 
URL:https://aiasb.com/event/lunch-learn-ccav/
LOCATION:AIA Santa Barbara\, 229 E Victoria St\, Santa Barbara\, CA\, 93101\, United States
END:VEVENT
BEGIN:VEVENT
DTSTART;TZID=America/Los_Angeles:20250819T181500
DTEND;TZID=America/Los_Angeles:20250819T201500
DTSTAMP:20260423T164733
CREATED:20250114T205734Z
LAST-MODIFIED:20250612T171451Z
UID:10369-1755627300-1755634500@aiasb.com
SUMMARY:Emerging Professionals ARE Study Prep
DESCRIPTION:Open to all! \nStudy groups occur every 2 weeks.
URL:https://aiasb.com/event/emerging-professionals-are-study-prep-2-2-2-2-2-2-2/
LOCATION:AIA Santa Barbara\, 229 E Victoria St\, Santa Barbara\, CA\, 93101\, United States
END:VEVENT
BEGIN:VEVENT
DTSTART;TZID=America/Los_Angeles:20250813T180000
DTEND;TZID=America/Los_Angeles:20250813T193000
DTSTAMP:20260423T164733
CREATED:20250820T165305Z
LAST-MODIFIED:20250820T165305Z
UID:10752-1755108000-1755113400@aiasb.com
SUMMARY:Global Design Series: Singapore's Progressive Urban Planning
DESCRIPTION:Join us for a compelling presentation where Emerging Professionals share their perspectives on architectural trends shaping the U.S. and the world. Each session features a presentation by one of our Emerging Professionals\, followed by an open discussion exploring the architectural trend through the lens of Santa Barbara\, California. This is an opportunity to foster dialogue between young voices and the broader architectural community on the global influences that shape our built environment. Our goal is to get everyone involved and participating in the conversation.\n \n\nPlease\, join us on August 13th as Sreypich Ly dives into Singapore’s architectural history and its progressive urban planning\, with a focus on the innovative public housing\, HDB model. We invite you to share your ideas\, insights\, and input on how Singapore’s creative policies\, mixed-use planning\, and transit-oriented development can inspire a more inclusive and vibrant future for Santa Barbara. Come connect\, discuss\, and help shape our community’s vision!
URL:https://aiasb.com/event/global-design-series-2/
LOCATION:Mission Audio Video\, 1910 De La Vina St\, Santa Barbara\, CA\, 93101\, United States
CATEGORIES:Emerging Professionals
END:VEVENT
BEGIN:VEVENT
DTSTART;TZID=America/Los_Angeles:20250805T181500
DTEND;TZID=America/Los_Angeles:20250805T201500
DTSTAMP:20260423T164733
CREATED:20250114T205639Z
LAST-MODIFIED:20250612T171439Z
UID:10365-1754417700-1754424900@aiasb.com
SUMMARY:Emerging Professionals ARE Study Prep
DESCRIPTION:Open to all! \nStudy groups occur every 2 weeks.
URL:https://aiasb.com/event/emerging-professionals-are-study-prep-2-2-2-2-2-2/
LOCATION:AIA Santa Barbara\, 229 E Victoria St\, Santa Barbara\, CA\, 93101\, United States
END:VEVENT
BEGIN:VEVENT
DTSTART;TZID=America/Los_Angeles:20250805T173000
DTEND;TZID=America/Los_Angeles:20250805T190000
DTSTAMP:20260423T164733
CREATED:20250114T202050Z
LAST-MODIFIED:20250820T164952Z
UID:10321-1754415000-1754420400@aiasb.com
SUMMARY:Women in Architecture
DESCRIPTION:Join us for a watercolor class at the Sunken Gardens at the Santa Barbara Courthouse for our August WIA gathering with Alexis Stypa\, architectural designer at Harrison Design and founder of Stypa Studio. Alexis is experienced in architectural and landscape watercolors and has led workshops across the world. We will meet at the Sunken Gardens at 5:30pm. We will have extra blankets and supplies but encourage you to bring any personal painting supplies and folding chair to be comfortable. In case of inclement weather\, we will email the registrants with an alternate interior location.
URL:https://aiasb.com/event/women-in-architecture-alexis-stypa/
LOCATION:Santa Barbara Courthouse\, 1100 Anacapa St.\, Santa Barbara\, United States
END:VEVENT
BEGIN:VEVENT
DTSTART;TZID=America/Los_Angeles:20250722T181500
DTEND;TZID=America/Los_Angeles:20250722T201500
DTSTAMP:20260423T164733
CREATED:20250114T204943Z
LAST-MODIFIED:20250612T171404Z
UID:10345-1753208100-1753215300@aiasb.com
SUMMARY:Emerging Professionals ARE Study Prep
DESCRIPTION:Open to all! \nStudy groups occur every 2 weeks.
URL:https://aiasb.com/event/emerging-professionals-are-study-prep-2-2-2-2-2/
LOCATION:AIA Santa Barbara\, 229 E Victoria St\, Santa Barbara\, CA\, 93101\, United States
END:VEVENT
BEGIN:VEVENT
DTSTART;TZID=America/Los_Angeles:20250709T180000
DTEND;TZID=America/Los_Angeles:20250709T193000
DTSTAMP:20260423T164733
CREATED:20250820T164746Z
LAST-MODIFIED:20250820T164746Z
UID:10748-1752084000-1752089400@aiasb.com
SUMMARY:Global Design Series: From Andalusia to Santa Barbara
DESCRIPTION:Join us for a compelling presentation where Emerging Professionals share their perspectives on architectural trends shaping the U.S. and the world. Each session features a presentation by one of our Emerging Professionals\, followed by an open discussion exploring the architectural trend through the lens of Santa Barbara\, California. This is an opportunity to foster dialogue between young voices and the broader architectural community on the global influences that shape our built environment. Our goal is to get everyone involved and participating in the conversation.\n \n\nPlease join us as Raphael Wendt discusses how Andalusia integrates modern design with its historic architectural style. He looks forward to exploring with you how we can once again learn from Andalusia.
URL:https://aiasb.com/event/global-design-series/
LOCATION:AIA Santa Barbara\, 229 E Victoria St\, Santa Barbara\, CA\, 93101\, United States
CATEGORIES:Emerging Professionals
END:VEVENT
BEGIN:VEVENT
DTSTART;TZID=America/Los_Angeles:20250708T181500
DTEND;TZID=America/Los_Angeles:20250708T201500
DTSTAMP:20260423T164733
CREATED:20250114T205253Z
LAST-MODIFIED:20250612T171336Z
UID:10359-1751998500-1752005700@aiasb.com
SUMMARY:Emerging Professionals ARE Study Prep
DESCRIPTION:Open to all! \nStudy groups occur every 2 weeks.
URL:https://aiasb.com/event/emerging-professionals-are-study-prep-2-2-2-2-3-2-3-2-2-2/
LOCATION:AIA Santa Barbara\, 229 E Victoria St\, Santa Barbara\, CA\, 93101\, United States
END:VEVENT
BEGIN:VEVENT
DTSTART;TZID=America/Los_Angeles:20250701T173000
DTEND;TZID=America/Los_Angeles:20250701T184500
DTSTAMP:20260423T164733
CREATED:20250114T202022Z
LAST-MODIFIED:20250508T164723Z
UID:10322-1751391000-1751395500@aiasb.com
SUMMARY:Women in Architecture with Stephanie Campbell
DESCRIPTION:Tuesday\, July 1st @ 5:30 PM\nLocation: La Lieff Winery \nStephanie Campbell\, Project Manager of Projects General Construction\nStephanie is a native of Santa Barbara and a graduate of UCSB. After graduating with a Bachelor of Science degree in Cultural Anthropology and Environmental Studies\, she moved to Vail\, Colorado\, where she designed interior spaces and cabinetry for high-end homes and resorts. Fifteen years later she made her way back to Santa Barbara and brought her talent and experience to Projects. She’ll be sharing about her career path and her experience working in construction.
URL:https://aiasb.com/event/july-women-in-architecture/
LOCATION:CA
END:VEVENT
BEGIN:VEVENT
DTSTART;TZID=America/Los_Angeles:20250629T170000
DTEND;TZID=America/Los_Angeles:20250629T200000
DTSTAMP:20260423T164733
CREATED:20250425T203358Z
LAST-MODIFIED:20250425T203358Z
UID:10634-1751216400-1751227200@aiasb.com
SUMMARY:1925 Earthquake Symposium
DESCRIPTION:
URL:https://aiasb.com/event/1925-earthquake-symposium/
LOCATION:CA
END:VEVENT
BEGIN:VEVENT
DTSTART;TZID=America/Los_Angeles:20250624T183000
DTEND;TZID=America/Los_Angeles:20250624T200000
DTSTAMP:20260423T164733
CREATED:20250114T205315Z
LAST-MODIFIED:20250610T223653Z
UID:10361-1750789800-1750795200@aiasb.com
SUMMARY:Emerging Professionals ARE Study Prep
DESCRIPTION:Open to all! \nStudy groups occur every 2 weeks.
URL:https://aiasb.com/event/emerging-professionals-are-study-prep-2-2-2-2-3-2-3-2-2-2-2/
LOCATION:AIA Santa Barbara\, 229 E Victoria St\, Santa Barbara\, CA\, 93101\, United States
END:VEVENT
END:VCALENDAR