BEGIN:VCALENDAR
VERSION:2.0
PRODID:-//AIA Santa Barbara - ECPv6.15.20//NONSGML v1.0//EN
CALSCALE:GREGORIAN
METHOD:PUBLISH
X-WR-CALNAME:AIA Santa Barbara
X-ORIGINAL-URL:https://aiasb.com
X-WR-CALDESC:Events for AIA Santa Barbara
REFRESH-INTERVAL;VALUE=DURATION:PT1H
X-Robots-Tag:noindex
X-PUBLISHED-TTL:PT1H
BEGIN:VTIMEZONE
TZID:America/Los_Angeles
BEGIN:DAYLIGHT
TZOFFSETFROM:-0800
TZOFFSETTO:-0700
TZNAME:PDT
DTSTART:20210314T100000
END:DAYLIGHT
BEGIN:STANDARD
TZOFFSETFROM:-0700
TZOFFSETTO:-0800
TZNAME:PST
DTSTART:20211107T090000
END:STANDARD
BEGIN:DAYLIGHT
TZOFFSETFROM:-0800
TZOFFSETTO:-0700
TZNAME:PDT
DTSTART:20220313T100000
END:DAYLIGHT
BEGIN:STANDARD
TZOFFSETFROM:-0700
TZOFFSETTO:-0800
TZNAME:PST
DTSTART:20221106T090000
END:STANDARD
BEGIN:DAYLIGHT
TZOFFSETFROM:-0800
TZOFFSETTO:-0700
TZNAME:PDT
DTSTART:20230312T100000
END:DAYLIGHT
BEGIN:STANDARD
TZOFFSETFROM:-0700
TZOFFSETTO:-0800
TZNAME:PST
DTSTART:20231105T090000
END:STANDARD
END:VTIMEZONE
BEGIN:VEVENT
DTSTART;TZID=America/Los_Angeles:20220728T120000
DTEND;TZID=America/Los_Angeles:20220728T130000
DTSTAMP:20260425T061408
CREATED:20220711T190344Z
LAST-MODIFIED:20220711T190548Z
UID:7544-1659009600-1659013200@aiasb.com
SUMMARY:Women in Architecture: AIA Fellows Panel
DESCRIPTION:
URL:https://aiasb.com/event/women-in-architecture-aia-fellows/
END:VEVENT
BEGIN:VEVENT
DTSTART;TZID=America/Los_Angeles:20220727T173000
DTEND;TZID=America/Los_Angeles:20220727T193000
DTSTAMP:20260425T061408
CREATED:20220620T181133Z
LAST-MODIFIED:20220620T181133Z
UID:7479-1658943000-1658950200@aiasb.com
SUMMARY:EP Mixer
DESCRIPTION:
URL:https://aiasb.com/event/ep-mixer-5/
LOCATION:Bildsten\, 30 W Figueroa St\, Santa Barbara\, CA\, 93101\, United States
CATEGORIES:Emerging Professionals
END:VEVENT
BEGIN:VEVENT
DTSTART;TZID=America/Los_Angeles:20220726T120000
DTEND;TZID=America/Los_Angeles:20220726T130000
DTSTAMP:20260425T061408
CREATED:20220404T181746Z
LAST-MODIFIED:20220404T181746Z
UID:7251-1658836800-1658840400@aiasb.com
SUMMARY:Sponsorship Committee
DESCRIPTION:
URL:https://aiasb.com/event/sponsorship-committee-4/
END:VEVENT
BEGIN:VEVENT
DTSTART;TZID=America/Los_Angeles:20220721T173000
DTEND;TZID=America/Los_Angeles:20220721T193000
DTSTAMP:20260425T061408
CREATED:20220711T190229Z
LAST-MODIFIED:20220711T190230Z
UID:7542-1658424600-1658431800@aiasb.com
SUMMARY:Women in Architecture Mixer
DESCRIPTION:
URL:https://aiasb.com/event/women-in-architecture-mixer/
END:VEVENT
BEGIN:VEVENT
DTSTART;TZID=America/Los_Angeles:20220721T173000
DTEND;TZID=America/Los_Angeles:20220721T183000
DTSTAMP:20260425T061408
CREATED:20220210T224155Z
LAST-MODIFIED:20220210T224155Z
UID:7112-1658424600-1658428200@aiasb.com
SUMMARY:COTE Meeting
DESCRIPTION:Want to join? Reach out to info@aiasb.com
URL:https://aiasb.com/event/cote-meeting-8/
END:VEVENT
BEGIN:VEVENT
DTSTART;TZID=America/Los_Angeles:20220718T163000
DTEND;TZID=America/Los_Angeles:20220718T173000
DTSTAMP:20260425T061408
CREATED:20220616T182433Z
LAST-MODIFIED:20220616T182433Z
UID:7451-1658161800-1658165400@aiasb.com
SUMMARY:Advocacy Committee
DESCRIPTION:
URL:https://aiasb.com/event/advocacy-committee-2-2/
END:VEVENT
BEGIN:VEVENT
DTSTART;TZID=America/Los_Angeles:20220713T120000
DTEND;TZID=America/Los_Angeles:20220713T130000
DTSTAMP:20260425T061408
CREATED:20220616T202419Z
LAST-MODIFIED:20220616T202419Z
UID:7469-1657713600-1657717200@aiasb.com
SUMMARY:Traditional vs Modern Steel Windows
DESCRIPTION:
URL:https://aiasb.com/event/traditional-vs-modern-steel-windows/
END:VEVENT
BEGIN:VEVENT
DTSTART;TZID=America/Los_Angeles:20220705T120000
DTEND;TZID=America/Los_Angeles:20220705T130000
DTSTAMP:20260425T061408
CREATED:20220328T202219Z
LAST-MODIFIED:20220328T202219Z
UID:7211-1657022400-1657026000@aiasb.com
SUMMARY:Women's Conversation Group (Zoom Meeting)
DESCRIPTION:Join Zoom Meeting\nhttps://us02web.zoom.us/j/86459488150?pwd=MnBvTC9ZUXlkS1A3a3NZTkhNR3hhdz09\n\nMeeting ID: 864 5948 8150\nPasscode: 544947\nOne tap mobile\n+16699009128\,\,86459488150#\,\,\,\,*544947# US (San Jose)\n+12532158782\,\,86459488150#\,\,\,\,*544947# US (Tacoma)\n\nDial by your location\n        +1 669 900 9128 US (San Jose)\n        +1 253 215 8782 US (Tacoma)\n        +1 346 248 7799 US (Houston)\n        +1 646 558 8656 US (New York)\n        +1 301 715 8592 US (Washington DC)\n        +1 312 626 6799 US (Chicago)\nMeeting ID: 864 5948 8150\nPasscode: 544947\nFind your local number: https://us02web.zoom.us/u/kt9prZLsq
URL:https://aiasb.com/event/womens-conversation-group-zoom-meeting-2/
END:VEVENT
BEGIN:VEVENT
DTSTART;TZID=America/Los_Angeles:20220704T163000
DTEND;TZID=America/Los_Angeles:20220704T173000
DTSTAMP:20260425T061408
CREATED:20220616T182306Z
LAST-MODIFIED:20220616T182306Z
UID:7449-1656952200-1656955800@aiasb.com
SUMMARY:Advocacy Committee
DESCRIPTION:
URL:https://aiasb.com/event/advocacy-committee-2/
END:VEVENT
BEGIN:VEVENT
DTSTART;TZID=America/Los_Angeles:20220630T173000
DTEND;TZID=America/Los_Angeles:20220630T193000
DTSTAMP:20260425T061408
CREATED:20220616T202330Z
LAST-MODIFIED:20220616T202330Z
UID:7467-1656610200-1656617400@aiasb.com
SUMMARY:EP Mixer
DESCRIPTION:
URL:https://aiasb.com/event/ep-mixer-4/
END:VEVENT
BEGIN:VEVENT
DTSTART;TZID=America/Los_Angeles:20220630T173000
DTEND;TZID=America/Los_Angeles:20220630T193000
DTSTAMP:20260425T061408
CREATED:20220512T200607Z
LAST-MODIFIED:20220512T200607Z
UID:7388-1656610200-1656617400@aiasb.com
SUMMARY:EP Mixer
DESCRIPTION:EP Mixer \n5:30PM \n420 E Haley St\, Santa Barbara\, CA 93101
URL:https://aiasb.com/event/ep-mixer-3/
CATEGORIES:Emerging Professionals
END:VEVENT
BEGIN:VEVENT
DTSTART;TZID=America/Los_Angeles:20220629T120000
DTEND;TZID=America/Los_Angeles:20220629T130000
DTSTAMP:20260425T061408
CREATED:20220531T182544Z
LAST-MODIFIED:20220531T182604Z
UID:7413-1656504000-1656507600@aiasb.com
SUMMARY:Water and Fire Conscious Design
DESCRIPTION:Virtual Event \nhttps://www.eventbrite.com/e/water-and-fire-conscious-design-tickets-353972329767
URL:https://aiasb.com/event/water-and-fire-conscious-design/
END:VEVENT
BEGIN:VEVENT
DTSTART;TZID=America/Los_Angeles:20220628T120000
DTEND;TZID=America/Los_Angeles:20220628T130000
DTSTAMP:20260425T061408
CREATED:20220404T181716Z
LAST-MODIFIED:20220404T181716Z
UID:7249-1656417600-1656421200@aiasb.com
SUMMARY:Sponsorship Committee
DESCRIPTION:
URL:https://aiasb.com/event/sponsorship-committee-3/
END:VEVENT
BEGIN:VEVENT
DTSTART;VALUE=DATE:20220623
DTEND;VALUE=DATE:20220626
DTSTAMP:20260425T061408
CREATED:20220328T193509Z
LAST-MODIFIED:20220328T193509Z
UID:7203-1655942400-1656201599@aiasb.com
SUMMARY:AIA Conference in Chicago
DESCRIPTION:Learn more
URL:https://aiasb.com/event/aia-conference-in-chicago/
END:VEVENT
BEGIN:VEVENT
DTSTART;TZID=America/Los_Angeles:20220620T163000
DTEND;TZID=America/Los_Angeles:20220620T173000
DTSTAMP:20260425T061408
CREATED:20220616T182213Z
LAST-MODIFIED:20220616T182213Z
UID:7447-1655742600-1655746200@aiasb.com
SUMMARY:Advocacy Committee
DESCRIPTION:
URL:https://aiasb.com/event/advocacy-committee/
END:VEVENT
BEGIN:VEVENT
DTSTART;TZID=America/Los_Angeles:20220616T173000
DTEND;TZID=America/Los_Angeles:20220616T183000
DTSTAMP:20260425T061408
CREATED:20220210T224115Z
LAST-MODIFIED:20220210T224115Z
UID:7110-1655400600-1655404200@aiasb.com
SUMMARY:COTE Meeting
DESCRIPTION:Want to join? Reach out to info@aiasb.com
URL:https://aiasb.com/event/cote-meeting-7/
END:VEVENT
BEGIN:VEVENT
DTSTART;TZID=America/Los_Angeles:20220615T120000
DTEND;TZID=America/Los_Angeles:20220615T130000
DTSTAMP:20260425T061408
CREATED:20220502T180753Z
LAST-MODIFIED:20220502T180753Z
UID:7319-1655294400-1655298000@aiasb.com
SUMMARY:Understanding Poly-Ash Siding and Other Categories of the Exterior Siding Market
DESCRIPTION:1HSW/LU \n\nIdentify the various types of exterior siding and material composition.\nUnderstand the key attributes of each siding category and installation concerns.\nDefine the Poly-Ash category of exterior siding and performance attributes.\nIdentify key applications and installation guidelines for Poly-Ash siding\n\nThis Lunchtime Learning will be in person at AIA Santa Barbara\, 229 E Victoria St. \nRegistration required.
URL:https://aiasb.com/event/understanding-poly-ash-siding-and-other-categories-of-the-exterior-siding-market/
LOCATION:AIA Santa Barbara\, 229 E Victoria St\, Santa Barbara\, CA\, 93101\, United States
CATEGORIES:Lunchtime Learning
END:VEVENT
BEGIN:VEVENT
DTSTART;TZID=America/Los_Angeles:20220609T173000
DTEND;TZID=America/Los_Angeles:20220609T193000
DTSTAMP:20260425T061408
CREATED:20220608T194710Z
LAST-MODIFIED:20220608T201436Z
UID:7443-1654795800-1654803000@aiasb.com
SUMMARY:General Meeting
DESCRIPTION:
URL:https://aiasb.com/event/general-meeting-7/
END:VEVENT
BEGIN:VEVENT
DTSTART;TZID=America/Los_Angeles:20220607T171500
DTEND;TZID=America/Los_Angeles:20220607T183000
DTSTAMP:20260425T061408
CREATED:20220328T193057Z
LAST-MODIFIED:20220602T192101Z
UID:7195-1654622100-1654626600@aiasb.com
SUMMARY:Women's Conversation Group
DESCRIPTION:Women’s Conversation Group Tickets\, Tue\, Jun 7\, 2022 at 5:15 PM | Eventbrite
URL:https://aiasb.com/event/womens-conversation-group-21/
LOCATION:AIA Santa Barbara\, 229 E Victoria St\, Santa Barbara\, CA\, 93101\, United States
END:VEVENT
BEGIN:VEVENT
DTSTART;TZID=America/Los_Angeles:20220531T120000
DTEND;TZID=America/Los_Angeles:20220531T130000
DTSTAMP:20260425T061408
CREATED:20220404T181646Z
LAST-MODIFIED:20220404T181646Z
UID:7247-1653998400-1654002000@aiasb.com
SUMMARY:Sponsorship Committee
DESCRIPTION:
URL:https://aiasb.com/event/sponsorship-committee-2/
END:VEVENT
BEGIN:VEVENT
DTSTART;VALUE=DATE:20220531
DTEND;VALUE=DATE:20220601
DTSTAMP:20260425T061408
CREATED:20220512T200738Z
LAST-MODIFIED:20220512T200738Z
UID:7390-1653955200-1654041599@aiasb.com
SUMMARY:ArchitecTours: Submission Deadline
DESCRIPTION:https://www.eventbrite.com/e/320894322557
URL:https://aiasb.com/event/architectours-submission-deadline/
END:VEVENT
BEGIN:VEVENT
DTSTART;TZID=America/Los_Angeles:20220526T173000
DTEND;TZID=America/Los_Angeles:20220526T193000
DTSTAMP:20260425T061408
CREATED:20220512T190131Z
LAST-MODIFIED:20220512T190148Z
UID:7383-1653586200-1653593400@aiasb.com
SUMMARY:EP Mixer
DESCRIPTION: \n\n\n\n\nJoin us for an evening of conversation and learning at Bildsten Architecture and Planning! ​\n\n\nWe will be visiting their office and while you are at it be ready to catch a game of ping pong! \nRefreshment and snacks will be provided. \n  \nLocation: Bildsten architecture and planning \n30 W Figueroa St\, Santa Barbara\, CA 93101 \nDate: 26th May\, Thursday \nTime: 5.30 – 7.30 pm \n\n\n\n\nEP Mixer Tickets\, Thu\, May 26\, 2022 at 5:30 PM | Eventbrite
URL:https://aiasb.com/event/ep-mixer-2/
LOCATION:Bildsten\, 30 W Figueroa St\, Santa Barbara\, CA\, 93101\, United States
CATEGORIES:Emerging Professionals
END:VEVENT
BEGIN:VEVENT
DTSTART;TZID=America/Los_Angeles:20220525T120000
DTEND;TZID=America/Los_Angeles:20220525T130000
DTSTAMP:20260425T061408
CREATED:20220328T193722Z
LAST-MODIFIED:20220420T185652Z
UID:7205-1653480000-1653483600@aiasb.com
SUMMARY:Big Glass in Residential Windows and Doors
DESCRIPTION:1HSW/LU \nBigger Glass trends are driven by the ever-increasing size of residential spaces. Customers and Designers are demanding impressive and boundary stretching concepts in residential home design. Oversize architectural fenestration has unique issues and requires key understanding of structural demands on the design and engineering of glass assemblies. \nPresented by Presenter: Eve Guilbaud\, LEED AP\, Architectural Territory Manager – Southern California \nLoewen Windows & Doors \nWe are starting to host some in person events. This Lunchtime Learning will be in person at AIA Santa Barbara\, 229 E Victoria St. \nRegistration required.
URL:https://aiasb.com/event/big-glass-in-residential-windows-and-doors/
END:VEVENT
BEGIN:VEVENT
DTSTART;TZID=America/Los_Angeles:20220519T173000
DTEND;TZID=America/Los_Angeles:20220519T183000
DTSTAMP:20260425T061408
CREATED:20220210T224011Z
LAST-MODIFIED:20220210T224011Z
UID:7108-1652981400-1652985000@aiasb.com
SUMMARY:COTE Meeting
DESCRIPTION:Want to join? Reach out to info@aiasb.com
URL:https://aiasb.com/event/cote-meeting-6/
END:VEVENT
BEGIN:VEVENT
DTSTART;TZID=America/Los_Angeles:20220515T120000
DTEND;TZID=America/Los_Angeles:20220515T130000
DTSTAMP:20260425T061408
CREATED:20220512T201147Z
LAST-MODIFIED:20220512T201147Z
UID:7392-1652616000-1652619600@aiasb.com
SUMMARY:Poly-Ash Siding and Other Categories of the Exterior Siding Market
DESCRIPTION:https://www.eventbrite.com/myevent?eid=332074773587
URL:https://aiasb.com/event/poly-ash-siding-and-other-categories-of-the-exterior-siding-market/
END:VEVENT
BEGIN:VEVENT
DTSTART;TZID=America/Los_Angeles:20220503T120000
DTEND;TZID=America/Los_Angeles:20220503T130000
DTSTAMP:20260425T061408
CREATED:20220328T202041Z
LAST-MODIFIED:20220328T202041Z
UID:7209-1651579200-1651582800@aiasb.com
SUMMARY:Women's Conversation Group (Zoom Meeting)
DESCRIPTION:Join Zoom Meeting\nhttps://us02web.zoom.us/j/86459488150?pwd=MnBvTC9ZUXlkS1A3a3NZTkhNR3hhdz09\n\nMeeting ID: 864 5948 8150\nPasscode: 544947\nOne tap mobile\n+16699009128\,\,86459488150#\,\,\,\,*544947# US (San Jose)\n+12532158782\,\,86459488150#\,\,\,\,*544947# US (Tacoma)\n\nDial by your location\n        +1 669 900 9128 US (San Jose)\n        +1 253 215 8782 US (Tacoma)\n        +1 346 248 7799 US (Houston)\n        +1 646 558 8656 US (New York)\n        +1 301 715 8592 US (Washington DC)\n        +1 312 626 6799 US (Chicago)\nMeeting ID: 864 5948 8150\nPasscode: 544947\nFind your local number: https://us02web.zoom.us/u/kt9prZLsq
URL:https://aiasb.com/event/womens-conversation-group-zoom-meeting/
END:VEVENT
BEGIN:VEVENT
DTSTART;TZID=America/Los_Angeles:20220427T120000
DTEND;TZID=America/Los_Angeles:20220427T130000
DTSTAMP:20260425T061408
CREATED:20220415T190533Z
LAST-MODIFIED:20220415T190533Z
UID:7283-1651060800-1651064400@aiasb.com
SUMMARY:Ageless Elegance: Steel Windows and Doors
DESCRIPTION:1 LU \nWhen architects want to make a statement of timeless elegance in luxury homes\, they may specify steel windows and doors. The history of steel goes back thousands of years. Buildings with steel windows may be hundreds of years old. Today\, with advancements in glazing\, coatings\, and sustainability\, steel windows and doors are seeing surging popularity in upscale homes. As we’ll see in this course\, steel windows and doors often help architects stand out and give homeowners the distinctive look and superior performance they desire. \nLocation: 229 E Victoria St. Santa Barbara 93101 \nLunch Provided. Registration Required.
URL:https://aiasb.com/event/ageless-elegance-steel-windows-and-doors/
LOCATION:AIA Santa Barbara\, 229 E Victoria St\, Santa Barbara\, CA\, 93101\, United States
END:VEVENT
BEGIN:VEVENT
DTSTART;TZID=America/Los_Angeles:20220426T120000
DTEND;TZID=America/Los_Angeles:20220426T130000
DTSTAMP:20260425T061408
CREATED:20220404T181614Z
LAST-MODIFIED:20220404T181614Z
UID:7245-1650974400-1650978000@aiasb.com
SUMMARY:Sponsorship Committee
DESCRIPTION:
URL:https://aiasb.com/event/sponsorship-committee/
END:VEVENT
BEGIN:VEVENT
DTSTART;TZID=America/Los_Angeles:20220425T163000
DTEND;TZID=America/Los_Angeles:20220425T173000
DTSTAMP:20260425T061408
CREATED:20220311T230733Z
LAST-MODIFIED:20220311T230733Z
UID:7161-1650904200-1650907800@aiasb.com
SUMMARY:Advocacy Committee Meeting
DESCRIPTION:
URL:https://aiasb.com/event/advocacy-committee-meeting-7/
END:VEVENT
BEGIN:VEVENT
DTSTART;TZID=America/Los_Angeles:20220425T120000
DTEND;TZID=America/Los_Angeles:20220425T130000
DTSTAMP:20260425T061408
CREATED:20220412T174308Z
LAST-MODIFIED:20220412T174308Z
UID:7279-1650888000-1650891600@aiasb.com
SUMMARY:Electrification Panel - SLO + SB's Chris Read & Alelia Parenteau
DESCRIPTION:Mon\, April 25\, 2022 \n12:00 PM – 1:00 PM PDT \nPending 1 AIA LU/HSW \nCCGBC will be hosting a virtual electrification panel discussion hosted by Brandon Kaysen (CCGBC + City of Ventura) with Chris Read (City of SLO Sustainability Manager) and Alelia Parenteau (Acting Sustainability and Resilience Director at City of Santa Barbara) to discuss this topic as it pertains to each region. Topics may include: \n\nWith the threat of power being shut off due to high winds during fire season\, how can I convince clients to convert to all-electric homes?\n\n\nDo we need to continue to rely on natural gas until our infrastructure allows us to safely and securely\, in the worldwide energy market\, convert to all-electric.\nI understand utilities prefer solar farms to rooftop solar. What is better for the environment and for individual building owners?\n\nEvent held via Google Meet: https://meet.google.com/tak-jrvg-siq
URL:https://aiasb.com/event/electrification-panel-slo-sbs-chris-read-alelia-parenteau/
END:VEVENT
END:VCALENDAR