BEGIN:VCALENDAR
VERSION:2.0
PRODID:-//AIA Santa Barbara - ECPv6.15.20//NONSGML v1.0//EN
CALSCALE:GREGORIAN
METHOD:PUBLISH
X-WR-CALNAME:AIA Santa Barbara
X-ORIGINAL-URL:https://aiasb.com
X-WR-CALDESC:Events for AIA Santa Barbara
REFRESH-INTERVAL;VALUE=DURATION:PT1H
X-Robots-Tag:noindex
X-PUBLISHED-TTL:PT1H
BEGIN:VTIMEZONE
TZID:America/Los_Angeles
BEGIN:DAYLIGHT
TZOFFSETFROM:-0800
TZOFFSETTO:-0700
TZNAME:PDT
DTSTART:20210314T100000
END:DAYLIGHT
BEGIN:STANDARD
TZOFFSETFROM:-0700
TZOFFSETTO:-0800
TZNAME:PST
DTSTART:20211107T090000
END:STANDARD
BEGIN:DAYLIGHT
TZOFFSETFROM:-0800
TZOFFSETTO:-0700
TZNAME:PDT
DTSTART:20220313T100000
END:DAYLIGHT
BEGIN:STANDARD
TZOFFSETFROM:-0700
TZOFFSETTO:-0800
TZNAME:PST
DTSTART:20221106T090000
END:STANDARD
BEGIN:DAYLIGHT
TZOFFSETFROM:-0800
TZOFFSETTO:-0700
TZNAME:PDT
DTSTART:20230312T100000
END:DAYLIGHT
BEGIN:STANDARD
TZOFFSETFROM:-0700
TZOFFSETTO:-0800
TZNAME:PST
DTSTART:20231105T090000
END:STANDARD
END:VTIMEZONE
BEGIN:VEVENT
DTSTART;TZID=America/Los_Angeles:20220921T120000
DTEND;TZID=America/Los_Angeles:20220921T130000
DTSTAMP:20260425T072324
CREATED:20220815T203129Z
LAST-MODIFIED:20220815T203129Z
UID:7644-1663761600-1663765200@aiasb.com
SUMMARY:The Architectural Standard of Care and Managing Project Risk
DESCRIPTION:Register
URL:https://aiasb.com/event/the-architectural-standard-of-care-and-managing-project-risk/
END:VEVENT
BEGIN:VEVENT
DTSTART;TZID=America/Los_Angeles:20220915T173000
DTEND;TZID=America/Los_Angeles:20220915T183000
DTSTAMP:20260425T072324
CREATED:20220810T185153Z
LAST-MODIFIED:20220810T185153Z
UID:7627-1663263000-1663266600@aiasb.com
SUMMARY:General Meeting
DESCRIPTION:Register Here
URL:https://aiasb.com/event/general-meeting-10/
END:VEVENT
BEGIN:VEVENT
DTSTART;TZID=America/Los_Angeles:20220915T080000
DTEND;TZID=America/Los_Angeles:20220929T170000
DTSTAMP:20260425T072324
CREATED:20220803T180655Z
LAST-MODIFIED:20220804T201715Z
UID:7600-1663228800-1664470800@aiasb.com
SUMMARY:ArchitecTours Tickets on Sale
DESCRIPTION:Purchase Ticket Here
URL:https://aiasb.com/event/architectours-tickets-on-sale-2/
END:VEVENT
BEGIN:VEVENT
DTSTART;TZID=America/Los_Angeles:20220912T163000
DTEND;TZID=America/Los_Angeles:20220912T173000
DTSTAMP:20260425T072324
CREATED:20220616T182749Z
LAST-MODIFIED:20220616T182749Z
UID:7459-1663000200-1663003800@aiasb.com
SUMMARY:Advocacy Committee
DESCRIPTION:
URL:https://aiasb.com/event/advocacy-committee-2-2-2-2-2-2/
END:VEVENT
BEGIN:VEVENT
DTSTART;TZID=America/Los_Angeles:20220908T130000
DTEND;TZID=America/Los_Angeles:20220911T170000
DTSTAMP:20260425T072324
CREATED:20220322T175700Z
LAST-MODIFIED:20220322T175700Z
UID:7187-1662642000-1662915600@aiasb.com
SUMMARY:2022 CRAN® Symposium - Chicago
DESCRIPTION:Registration will open Spring of 2022.
URL:https://aiasb.com/event/2022-cran-symposium-chicago/
END:VEVENT
BEGIN:VEVENT
DTSTART;TZID=America/Los_Angeles:20220906T120000
DTEND;TZID=America/Los_Angeles:20220906T130000
DTSTAMP:20260425T072324
CREATED:20220328T202326Z
LAST-MODIFIED:20220328T202326Z
UID:7213-1662465600-1662469200@aiasb.com
SUMMARY:Women's Conversation group (Zoom Meeting)
DESCRIPTION:Join Zoom Meeting\nhttps://us02web.zoom.us/j/86459488150?pwd=MnBvTC9ZUXlkS1A3a3NZTkhNR3hhdz09\n\nMeeting ID: 864 5948 8150\nPasscode: 544947\nOne tap mobile\n+16699009128\,\,86459488150#\,\,\,\,*544947# US (San Jose)\n+12532158782\,\,86459488150#\,\,\,\,*544947# US (Tacoma)\n\nDial by your location\n        +1 669 900 9128 US (San Jose)\n        +1 253 215 8782 US (Tacoma)\n        +1 346 248 7799 US (Houston)\n        +1 646 558 8656 US (New York)\n        +1 301 715 8592 US (Washington DC)\n        +1 312 626 6799 US (Chicago)\nMeeting ID: 864 5948 8150\nPasscode: 544947\nFind your local number: https://us02web.zoom.us/u/kt9prZLsq
URL:https://aiasb.com/event/womens-conversation-group-zoom-meeting-3/
END:VEVENT
BEGIN:VEVENT
DTSTART;TZID=America/Los_Angeles:20220830T120000
DTEND;TZID=America/Los_Angeles:20220830T130000
DTSTAMP:20260425T072324
CREATED:20220404T181819Z
LAST-MODIFIED:20220404T181819Z
UID:7253-1661860800-1661864400@aiasb.com
SUMMARY:Sponsorship Committee
DESCRIPTION:
URL:https://aiasb.com/event/sponsorship-committee-5/
END:VEVENT
BEGIN:VEVENT
DTSTART;TZID=America/Los_Angeles:20220829T163000
DTEND;TZID=America/Los_Angeles:20220829T173000
DTSTAMP:20260425T072324
CREATED:20220616T182704Z
LAST-MODIFIED:20220616T182704Z
UID:7457-1661790600-1661794200@aiasb.com
SUMMARY:Advocacy Committee
DESCRIPTION:
URL:https://aiasb.com/event/advocacy-committee-2-2-2-2-2/
END:VEVENT
BEGIN:VEVENT
DTSTART;TZID=America/Los_Angeles:20220825T120000
DTEND;TZID=America/Los_Angeles:20220825T130000
DTSTAMP:20260425T072324
CREATED:20220808T181542Z
LAST-MODIFIED:20220808T181542Z
UID:7615-1661428800-1661432400@aiasb.com
SUMMARY:Updates from the County of Santa Barbara
DESCRIPTION:Register here
URL:https://aiasb.com/event/updates-from-the-county-of-santa-barbara-2/
END:VEVENT
BEGIN:VEVENT
DTSTART;TZID=America/Los_Angeles:20220824T120000
DTEND;TZID=America/Los_Angeles:20220824T130000
DTSTAMP:20260425T072324
CREATED:20220803T180156Z
LAST-MODIFIED:20240402T192523Z
UID:7596-1661342400-1661346000@aiasb.com
SUMMARY:Floodproofing
DESCRIPTION:This course provides insight into the importance of proper foundation flood vents and dry floodproofing techniques for buildings located in a flood zone. It will identify FEMA Technical Bulletins 1\, 2\, and 3\, the National Flood Insurance Program\, ASCE 24-14\, ICC\, and Building Code regulations and standards as they relate to sustaining foundations and overall business continuity in flood hazard areas. The course will also analyze the role of building compliance in securing lowering flood insurance rates and what mitigation solutions are available for both residential and non-residential structures.
URL:https://aiasb.com/event/floodplain-design-construction-and-impacts-on-flood-insurance/
LOCATION:AIA Santa Barbara\, 229 E Victoria St\, Santa Barbara\, CA\, 93101\, United States
CATEGORIES:Lunchtime Learning
END:VEVENT
BEGIN:VEVENT
DTSTART;TZID=America/Los_Angeles:20220818T173000
DTEND;TZID=America/Los_Angeles:20220818T183000
DTSTAMP:20260425T072324
CREATED:20220210T224225Z
LAST-MODIFIED:20220210T224225Z
UID:7114-1660843800-1660847400@aiasb.com
SUMMARY:COTE Meeting
DESCRIPTION:Want to join? Reach out to info@aiasb.com
URL:https://aiasb.com/event/cote-meeting-9/
END:VEVENT
BEGIN:VEVENT
DTSTART;TZID=America/Los_Angeles:20220815T163000
DTEND;TZID=America/Los_Angeles:20220815T173000
DTSTAMP:20260425T072324
CREATED:20220616T182616Z
LAST-MODIFIED:20220616T182616Z
UID:7455-1660581000-1660584600@aiasb.com
SUMMARY:Advocacy Committee
DESCRIPTION:
URL:https://aiasb.com/event/advocacy-committee-2-2-2-2/
END:VEVENT
BEGIN:VEVENT
DTSTART;VALUE=DATE:20220805
DTEND;VALUE=DATE:20220915
DTSTAMP:20260425T072324
CREATED:20220803T180610Z
LAST-MODIFIED:20220804T201649Z
UID:7598-1659657600-1663199999@aiasb.com
SUMMARY:ArchitecTours Early Bird Tickets on Sale
DESCRIPTION:Purchase Tickets Here
URL:https://aiasb.com/event/architectours-early-bird-tickets-on-sale-2/
END:VEVENT
BEGIN:VEVENT
DTSTART;TZID=America/Los_Angeles:20220802T171500
DTEND;TZID=America/Los_Angeles:20220802T183000
DTSTAMP:20260425T072324
CREATED:20220328T193138Z
LAST-MODIFIED:20220328T193138Z
UID:7197-1659460500-1659465000@aiasb.com
SUMMARY:Women's Conversation Group
DESCRIPTION:
URL:https://aiasb.com/event/womens-conversation-group-22/
END:VEVENT
BEGIN:VEVENT
DTSTART;TZID=America/Los_Angeles:20220801T163000
DTEND;TZID=America/Los_Angeles:20220801T173000
DTSTAMP:20260425T072324
CREATED:20220616T182530Z
LAST-MODIFIED:20220616T182530Z
UID:7453-1659371400-1659375000@aiasb.com
SUMMARY:Advocacy Committee
DESCRIPTION:
URL:https://aiasb.com/event/advocacy-committee-2-2-2/
END:VEVENT
BEGIN:VEVENT
DTSTART;TZID=America/Los_Angeles:20220728T120000
DTEND;TZID=America/Los_Angeles:20220728T130000
DTSTAMP:20260425T072324
CREATED:20220711T190344Z
LAST-MODIFIED:20220711T190548Z
UID:7544-1659009600-1659013200@aiasb.com
SUMMARY:Women in Architecture: AIA Fellows Panel
DESCRIPTION:
URL:https://aiasb.com/event/women-in-architecture-aia-fellows/
END:VEVENT
BEGIN:VEVENT
DTSTART;TZID=America/Los_Angeles:20220727T173000
DTEND;TZID=America/Los_Angeles:20220727T193000
DTSTAMP:20260425T072324
CREATED:20220620T181133Z
LAST-MODIFIED:20220620T181133Z
UID:7479-1658943000-1658950200@aiasb.com
SUMMARY:EP Mixer
DESCRIPTION:
URL:https://aiasb.com/event/ep-mixer-5/
LOCATION:Bildsten\, 30 W Figueroa St\, Santa Barbara\, CA\, 93101\, United States
CATEGORIES:Emerging Professionals
END:VEVENT
BEGIN:VEVENT
DTSTART;TZID=America/Los_Angeles:20220726T120000
DTEND;TZID=America/Los_Angeles:20220726T130000
DTSTAMP:20260425T072324
CREATED:20220404T181746Z
LAST-MODIFIED:20220404T181746Z
UID:7251-1658836800-1658840400@aiasb.com
SUMMARY:Sponsorship Committee
DESCRIPTION:
URL:https://aiasb.com/event/sponsorship-committee-4/
END:VEVENT
BEGIN:VEVENT
DTSTART;TZID=America/Los_Angeles:20220721T173000
DTEND;TZID=America/Los_Angeles:20220721T193000
DTSTAMP:20260425T072324
CREATED:20220711T190229Z
LAST-MODIFIED:20220711T190230Z
UID:7542-1658424600-1658431800@aiasb.com
SUMMARY:Women in Architecture Mixer
DESCRIPTION:
URL:https://aiasb.com/event/women-in-architecture-mixer/
END:VEVENT
BEGIN:VEVENT
DTSTART;TZID=America/Los_Angeles:20220721T173000
DTEND;TZID=America/Los_Angeles:20220721T183000
DTSTAMP:20260425T072324
CREATED:20220210T224155Z
LAST-MODIFIED:20220210T224155Z
UID:7112-1658424600-1658428200@aiasb.com
SUMMARY:COTE Meeting
DESCRIPTION:Want to join? Reach out to info@aiasb.com
URL:https://aiasb.com/event/cote-meeting-8/
END:VEVENT
BEGIN:VEVENT
DTSTART;TZID=America/Los_Angeles:20220718T163000
DTEND;TZID=America/Los_Angeles:20220718T173000
DTSTAMP:20260425T072324
CREATED:20220616T182433Z
LAST-MODIFIED:20220616T182433Z
UID:7451-1658161800-1658165400@aiasb.com
SUMMARY:Advocacy Committee
DESCRIPTION:
URL:https://aiasb.com/event/advocacy-committee-2-2/
END:VEVENT
BEGIN:VEVENT
DTSTART;TZID=America/Los_Angeles:20220713T120000
DTEND;TZID=America/Los_Angeles:20220713T130000
DTSTAMP:20260425T072324
CREATED:20220616T202419Z
LAST-MODIFIED:20220616T202419Z
UID:7469-1657713600-1657717200@aiasb.com
SUMMARY:Traditional vs Modern Steel Windows
DESCRIPTION:
URL:https://aiasb.com/event/traditional-vs-modern-steel-windows/
END:VEVENT
BEGIN:VEVENT
DTSTART;TZID=America/Los_Angeles:20220705T120000
DTEND;TZID=America/Los_Angeles:20220705T130000
DTSTAMP:20260425T072324
CREATED:20220328T202219Z
LAST-MODIFIED:20220328T202219Z
UID:7211-1657022400-1657026000@aiasb.com
SUMMARY:Women's Conversation Group (Zoom Meeting)
DESCRIPTION:Join Zoom Meeting\nhttps://us02web.zoom.us/j/86459488150?pwd=MnBvTC9ZUXlkS1A3a3NZTkhNR3hhdz09\n\nMeeting ID: 864 5948 8150\nPasscode: 544947\nOne tap mobile\n+16699009128\,\,86459488150#\,\,\,\,*544947# US (San Jose)\n+12532158782\,\,86459488150#\,\,\,\,*544947# US (Tacoma)\n\nDial by your location\n        +1 669 900 9128 US (San Jose)\n        +1 253 215 8782 US (Tacoma)\n        +1 346 248 7799 US (Houston)\n        +1 646 558 8656 US (New York)\n        +1 301 715 8592 US (Washington DC)\n        +1 312 626 6799 US (Chicago)\nMeeting ID: 864 5948 8150\nPasscode: 544947\nFind your local number: https://us02web.zoom.us/u/kt9prZLsq
URL:https://aiasb.com/event/womens-conversation-group-zoom-meeting-2/
END:VEVENT
BEGIN:VEVENT
DTSTART;TZID=America/Los_Angeles:20220704T163000
DTEND;TZID=America/Los_Angeles:20220704T173000
DTSTAMP:20260425T072324
CREATED:20220616T182306Z
LAST-MODIFIED:20220616T182306Z
UID:7449-1656952200-1656955800@aiasb.com
SUMMARY:Advocacy Committee
DESCRIPTION:
URL:https://aiasb.com/event/advocacy-committee-2/
END:VEVENT
BEGIN:VEVENT
DTSTART;TZID=America/Los_Angeles:20220630T173000
DTEND;TZID=America/Los_Angeles:20220630T193000
DTSTAMP:20260425T072324
CREATED:20220616T202330Z
LAST-MODIFIED:20220616T202330Z
UID:7467-1656610200-1656617400@aiasb.com
SUMMARY:EP Mixer
DESCRIPTION:
URL:https://aiasb.com/event/ep-mixer-4/
END:VEVENT
BEGIN:VEVENT
DTSTART;TZID=America/Los_Angeles:20220630T173000
DTEND;TZID=America/Los_Angeles:20220630T193000
DTSTAMP:20260425T072324
CREATED:20220512T200607Z
LAST-MODIFIED:20220512T200607Z
UID:7388-1656610200-1656617400@aiasb.com
SUMMARY:EP Mixer
DESCRIPTION:EP Mixer \n5:30PM \n420 E Haley St\, Santa Barbara\, CA 93101
URL:https://aiasb.com/event/ep-mixer-3/
CATEGORIES:Emerging Professionals
END:VEVENT
BEGIN:VEVENT
DTSTART;TZID=America/Los_Angeles:20220629T120000
DTEND;TZID=America/Los_Angeles:20220629T130000
DTSTAMP:20260425T072324
CREATED:20220531T182544Z
LAST-MODIFIED:20220531T182604Z
UID:7413-1656504000-1656507600@aiasb.com
SUMMARY:Water and Fire Conscious Design
DESCRIPTION:Virtual Event \nhttps://www.eventbrite.com/e/water-and-fire-conscious-design-tickets-353972329767
URL:https://aiasb.com/event/water-and-fire-conscious-design/
END:VEVENT
BEGIN:VEVENT
DTSTART;TZID=America/Los_Angeles:20220628T120000
DTEND;TZID=America/Los_Angeles:20220628T130000
DTSTAMP:20260425T072324
CREATED:20220404T181716Z
LAST-MODIFIED:20220404T181716Z
UID:7249-1656417600-1656421200@aiasb.com
SUMMARY:Sponsorship Committee
DESCRIPTION:
URL:https://aiasb.com/event/sponsorship-committee-3/
END:VEVENT
BEGIN:VEVENT
DTSTART;VALUE=DATE:20220623
DTEND;VALUE=DATE:20220626
DTSTAMP:20260425T072324
CREATED:20220328T193509Z
LAST-MODIFIED:20220328T193509Z
UID:7203-1655942400-1656201599@aiasb.com
SUMMARY:AIA Conference in Chicago
DESCRIPTION:Learn more
URL:https://aiasb.com/event/aia-conference-in-chicago/
END:VEVENT
BEGIN:VEVENT
DTSTART;TZID=America/Los_Angeles:20220620T163000
DTEND;TZID=America/Los_Angeles:20220620T173000
DTSTAMP:20260425T072324
CREATED:20220616T182213Z
LAST-MODIFIED:20220616T182213Z
UID:7447-1655742600-1655746200@aiasb.com
SUMMARY:Advocacy Committee
DESCRIPTION:
URL:https://aiasb.com/event/advocacy-committee/
END:VEVENT
END:VCALENDAR