BEGIN:VCALENDAR
VERSION:2.0
PRODID:-//AIA Santa Barbara - ECPv6.15.20//NONSGML v1.0//EN
CALSCALE:GREGORIAN
METHOD:PUBLISH
X-WR-CALNAME:AIA Santa Barbara
X-ORIGINAL-URL:https://aiasb.com
X-WR-CALDESC:Events for AIA Santa Barbara
REFRESH-INTERVAL;VALUE=DURATION:PT1H
X-Robots-Tag:noindex
X-PUBLISHED-TTL:PT1H
BEGIN:VTIMEZONE
TZID:America/Los_Angeles
BEGIN:DAYLIGHT
TZOFFSETFROM:-0800
TZOFFSETTO:-0700
TZNAME:PDT
DTSTART:20200308T100000
END:DAYLIGHT
BEGIN:STANDARD
TZOFFSETFROM:-0700
TZOFFSETTO:-0800
TZNAME:PST
DTSTART:20201101T090000
END:STANDARD
BEGIN:DAYLIGHT
TZOFFSETFROM:-0800
TZOFFSETTO:-0700
TZNAME:PDT
DTSTART:20210314T100000
END:DAYLIGHT
BEGIN:STANDARD
TZOFFSETFROM:-0700
TZOFFSETTO:-0800
TZNAME:PST
DTSTART:20211107T090000
END:STANDARD
BEGIN:DAYLIGHT
TZOFFSETFROM:-0800
TZOFFSETTO:-0700
TZNAME:PDT
DTSTART:20220313T100000
END:DAYLIGHT
BEGIN:STANDARD
TZOFFSETFROM:-0700
TZOFFSETTO:-0800
TZNAME:PST
DTSTART:20221106T090000
END:STANDARD
BEGIN:DAYLIGHT
TZOFFSETFROM:-0800
TZOFFSETTO:-0700
TZNAME:PDT
DTSTART:20230312T100000
END:DAYLIGHT
BEGIN:STANDARD
TZOFFSETFROM:-0700
TZOFFSETTO:-0800
TZNAME:PST
DTSTART:20231105T090000
END:STANDARD
END:VTIMEZONE
BEGIN:VEVENT
DTSTART;TZID=America/Los_Angeles:20220316T120000
DTEND;TZID=America/Los_Angeles:20220316T130000
DTSTAMP:20260425T093612
CREATED:20220110T190527Z
LAST-MODIFIED:20220110T190527Z
UID:6976-1647432000-1647435600@aiasb.com
SUMMARY:The 5 Factors of Good Building: Why Changing Product Specification is Necessary to Save the World
DESCRIPTION:The 5 Factors of Good Building is a design and product selection tool developed over decades across thousands of buildings. In this presentation\, attendees will learn why green building has failed to achieve many goals\, why energy efficiency yields perverse results\, and how to change product specifications to maximize health\, comfort\, and durability while minimizing carbon impact and embodied injustice. This presentation will provide immediately useful information attendees will be able to use daily to improve their practice. \nTickets
URL:https://aiasb.com/event/the-5-factors-of-good-building-why-changing-product-specification-is-necessary-to-save-the-world/
END:VEVENT
BEGIN:VEVENT
DTSTART;TZID=America/Los_Angeles:20220314T163000
DTEND;TZID=America/Los_Angeles:20220314T173000
DTSTAMP:20260425T093612
CREATED:20220311T230229Z
LAST-MODIFIED:20220311T230229Z
UID:7147-1647275400-1647279000@aiasb.com
SUMMARY:Advocacy Committee Meeting
DESCRIPTION:
URL:https://aiasb.com/event/advocacy-committee-meeting/
END:VEVENT
BEGIN:VEVENT
DTSTART;TZID=America/Los_Angeles:20220314T120000
DTEND;TZID=America/Los_Angeles:20220314T130000
DTSTAMP:20260425T093612
CREATED:20220311T230405Z
LAST-MODIFIED:20220311T230405Z
UID:7149-1647259200-1647262800@aiasb.com
SUMMARY:Women's Conversation Group
DESCRIPTION:AIA Santa Barbara is inviting you to a scheduled Zoom meeting. \nTopic: Women’s Conversation Group\nTime: Mar 14\, 2022 12:00 PM Pacific Time (US and Canada) \nJoin Zoom Meeting\nhttps://us02web.zoom.us/j/84208175517?pwd=SG9zbnJTaE8xM25EYjZzY0NyVEJCQT09 \nMeeting ID: 842 0817 5517\nPasscode: 180225\nOne tap mobile\n+16699009128\,\,84208175517#\,\,\,\,*180225# US (San Jose)\n+13462487799\,\,84208175517#\,\,\,\,*180225# US (Houston) \nDial by your location\n+1 669 900 9128 US (San Jose)\n+1 346 248 7799 US (Houston)\n+1 253 215 8782 US (Tacoma)\n+1 301 715 8592 US (Washington DC)\n+1 312 626 6799 US (Chicago)\n+1 646 558 8656 US (New York)\nMeeting ID: 842 0817 5517\nPasscode: 180225\nFind your local number: https://us02web.zoom.us/u/kcuGe2ga6J \n 
URL:https://aiasb.com/event/womens-conversation-group-16/
END:VEVENT
BEGIN:VEVENT
DTSTART;TZID=America/Los_Angeles:20220310T173000
DTEND;TZID=America/Los_Angeles:20220310T193000
DTSTAMP:20260425T093612
CREATED:20220225T224803Z
LAST-MODIFIED:20220225T224803Z
UID:7130-1646933400-1646940600@aiasb.com
SUMMARY:Design Awards Exhibition Reception
DESCRIPTION:Location: Faulkner Gallery\, 40 E Anapamu St\, Santa Barbara\, CA 93101 \nTime: 5:30PM-7:00PM
URL:https://aiasb.com/event/design-awards-exhibition-reception/
LOCATION:Faulkner Gallery\, 40 E Anapamu St\, Santa Barbara\, CA\, 93101\, United States
END:VEVENT
BEGIN:VEVENT
DTSTART;TZID=America/Los_Angeles:20220217T173000
DTEND;TZID=America/Los_Angeles:20220217T183000
DTSTAMP:20260425T093612
CREATED:20220210T213452Z
LAST-MODIFIED:20220210T213452Z
UID:7098-1645119000-1645122600@aiasb.com
SUMMARY:COTE Meeting
DESCRIPTION:Want to join? Reach out to info@aiasb.com
URL:https://aiasb.com/event/cote-meeting/
END:VEVENT
BEGIN:VEVENT
DTSTART;TZID=America/Los_Angeles:20220217T120000
DTEND;TZID=America/Los_Angeles:20220217T130000
DTSTAMP:20260425T093612
CREATED:20220210T201254Z
LAST-MODIFIED:20220210T201254Z
UID:7090-1645099200-1645102800@aiasb.com
SUMMARY:Executive Meeting
DESCRIPTION:
URL:https://aiasb.com/event/executive-meeting/
END:VEVENT
BEGIN:VEVENT
DTSTART;TZID=America/Los_Angeles:20220217T053000
DTEND;TZID=America/Los_Angeles:20220217T193000
DTSTAMP:20260425T093612
CREATED:20220216T203146Z
LAST-MODIFIED:20220216T203146Z
UID:7123-1645075800-1645126200@aiasb.com
SUMMARY:EP Mixer
DESCRIPTION:The EPx series focuses on collaborating with AIASB’s many Committees in their diverse efforts and creating learning opportunities for emerging professionals in our local chapter. Come join us for this year’s kick-off to hear about the collective efforts of the Committees and share how the Emerging Professionals’ Committee could best serve the AIASB community! \nThird Window Brewing \n406 E Haley St #3 \nSanta Barbara\, CA 93101
URL:https://aiasb.com/event/ep-mixer/
LOCATION:Third Window Brewing\, 406 E Haley St #3\, Santa Barbara\, CA\, 93101\, United States
END:VEVENT
BEGIN:VEVENT
DTSTART;TZID=America/Los_Angeles:20220216T120000
DTEND;TZID=America/Los_Angeles:20220216T130000
DTSTAMP:20260425T093612
CREATED:20210804T180652Z
LAST-MODIFIED:20220104T191959Z
UID:6459-1645012800-1645016400@aiasb.com
SUMMARY:All-Electric Buildings: Stories from the Field
DESCRIPTION:Register Here
URL:https://aiasb.com/event/all-electric-buildings-stories-from-the-field/
END:VEVENT
BEGIN:VEVENT
DTSTART;TZID=America/Los_Angeles:20220209T120000
DTEND;TZID=America/Los_Angeles:20220209T130000
DTSTAMP:20260425T093612
CREATED:20220111T193328Z
LAST-MODIFIED:20220111T193328Z
UID:6987-1644408000-1644411600@aiasb.com
SUMMARY:Making the Most of Your Membership
DESCRIPTION:This webinar will present an overview of AIA Santa Barbara and what are the benefits of being an AIA member. Attendees will learn about the work of various AIASB committees and how their contribution and participation make a difference to the local building community. We will cover upcoming educational events\, resources available\, such as job board\, post your resume\, writing articles for the local news outlet\, as well as national and state resources. \nTickets
URL:https://aiasb.com/event/making-the-most-of-your-membership-2/
END:VEVENT
BEGIN:VEVENT
DTSTART;TZID=America/Los_Angeles:20220119T120000
DTEND;TZID=America/Los_Angeles:20220119T130000
DTSTAMP:20260425T093612
CREATED:20210804T180153Z
LAST-MODIFIED:20211213T184939Z
UID:6453-1642593600-1642597200@aiasb.com
SUMMARY:Higher-Performance Envelope + Balanced Ventilation
DESCRIPTION:Register here
URL:https://aiasb.com/event/higher-performance-envelope-balanced-ventilation/
END:VEVENT
BEGIN:VEVENT
DTSTART;TZID=America/Los_Angeles:20211220T163000
DTEND;TZID=America/Los_Angeles:20211220T180000
DTSTAMP:20260425T093612
CREATED:20210324T184038Z
LAST-MODIFIED:20210329T195528Z
UID:5860-1640017800-1640023200@aiasb.com
SUMMARY:Advocacy
DESCRIPTION:
URL:https://aiasb.com/event/advocacy-2-2-2-2-2-2-2-2-2-3-2-3-2-2-2-2-2-2-2-2-2-2-2-2-2-2-3-2-2-2-2-2-2/
END:VEVENT
BEGIN:VEVENT
DTSTART;TZID=America/Los_Angeles:20211216T173000
DTEND;TZID=America/Los_Angeles:20211216T190000
DTSTAMP:20260425T093612
CREATED:20210329T194116Z
LAST-MODIFIED:20210329T194116Z
UID:5903-1639675800-1639681200@aiasb.com
SUMMARY:Sustainability Committee
DESCRIPTION:Contact info@aiasb.com if you would like to participate
URL:https://aiasb.com/event/sustainability-committee-2-2-2-2-2-2-2-2/
END:VEVENT
BEGIN:VEVENT
DTSTART;TZID=America/Los_Angeles:20211216T120000
DTEND;TZID=America/Los_Angeles:20211216T130000
DTSTAMP:20260425T093612
CREATED:20210115T234833Z
LAST-MODIFIED:20210115T234833Z
UID:5380-1639656000-1639659600@aiasb.com
SUMMARY:Executive Committee Meeting
DESCRIPTION:
URL:https://aiasb.com/event/executive-committee-meeting-18/
END:VEVENT
BEGIN:VEVENT
DTSTART;TZID=America/Los_Angeles:20211213T163000
DTEND;TZID=America/Los_Angeles:20211213T180000
DTSTAMP:20260425T093612
CREATED:20210324T184016Z
LAST-MODIFIED:20210329T195521Z
UID:5858-1639413000-1639418400@aiasb.com
SUMMARY:Advocacy
DESCRIPTION:
URL:https://aiasb.com/event/advocacy-2-2-2-2-2-2-2-2-2-3-2-3-2-2-2-2-2-2-2-2-2-2-2-2-2-2-3-2-2-2-2-2/
END:VEVENT
BEGIN:VEVENT
DTSTART;TZID=America/Los_Angeles:20211206T163000
DTEND;TZID=America/Los_Angeles:20211206T180000
DTSTAMP:20260425T093612
CREATED:20210324T183854Z
LAST-MODIFIED:20210329T195517Z
UID:5856-1638808200-1638813600@aiasb.com
SUMMARY:Advocacy
DESCRIPTION:
URL:https://aiasb.com/event/advocacy-2-2-2-2-2-2-2-2-2-3-2-3-2-2-2-2-2-2-2-2-2-2-2-2-2-2-3-2-2-2-2/
END:VEVENT
BEGIN:VEVENT
DTSTART;TZID=America/Los_Angeles:20211203T120000
DTEND;TZID=America/Los_Angeles:20211203T130000
DTSTAMP:20260425T093612
CREATED:20210324T174910Z
LAST-MODIFIED:20210610T192520Z
UID:5784-1638532800-1638536400@aiasb.com
SUMMARY:Equity Diversity & Inclusion
DESCRIPTION:Get involved through: Equity\, Diversity & Inclusion Committee – AIA Santa Barbara (aiasb.com)
URL:https://aiasb.com/event/equity-diversity-inclusion-2-2-2-2-2-2-2-2-2-2-2-2-2-2-2-2-2/
END:VEVENT
BEGIN:VEVENT
DTSTART;TZID=America/Los_Angeles:20211202T163000
DTEND;TZID=America/Los_Angeles:20211202T200000
DTSTAMP:20260425T093612
CREATED:20211026T173410Z
LAST-MODIFIED:20211026T173410Z
UID:6653-1638462600-1638475200@aiasb.com
SUMMARY:Design Awards
DESCRIPTION:In Person \nOnline
URL:https://aiasb.com/event/design-awards/
END:VEVENT
BEGIN:VEVENT
DTSTART;TZID=America/Los_Angeles:20211202T163000
DTEND;TZID=America/Los_Angeles:20211202T200000
DTSTAMP:20260425T093612
CREATED:20210115T234755Z
LAST-MODIFIED:20211115T221107Z
UID:5378-1638462600-1638475200@aiasb.com
SUMMARY:Design Award Gala
DESCRIPTION:In person Tickets \n 
URL:https://aiasb.com/event/design-award-gala/
END:VEVENT
BEGIN:VEVENT
DTSTART;TZID=America/Los_Angeles:20211201T113000
DTEND;TZID=America/Los_Angeles:20211201T123000
DTSTAMP:20260425T093612
CREATED:20210115T234714Z
LAST-MODIFIED:20210115T234714Z
UID:5376-1638358200-1638361800@aiasb.com
SUMMARY:Board Meeting
DESCRIPTION:
URL:https://aiasb.com/event/board-meeting-10/
CATEGORIES:Board Meetings
END:VEVENT
BEGIN:VEVENT
DTSTART;TZID=America/Los_Angeles:20211129T163000
DTEND;TZID=America/Los_Angeles:20211129T180000
DTSTAMP:20260425T093612
CREATED:20210324T183826Z
LAST-MODIFIED:20210329T195512Z
UID:5854-1638203400-1638208800@aiasb.com
SUMMARY:Advocacy
DESCRIPTION:
URL:https://aiasb.com/event/advocacy-2-2-2-2-2-2-2-2-2-3-2-3-2-2-2-2-2-2-2-2-2-2-2-2-2-2-3-2-2-2/
END:VEVENT
BEGIN:VEVENT
DTSTART;TZID=America/Los_Angeles:20211122T163000
DTEND;TZID=America/Los_Angeles:20211122T180000
DTSTAMP:20260425T093612
CREATED:20210324T183741Z
LAST-MODIFIED:20210329T195508Z
UID:5852-1637598600-1637604000@aiasb.com
SUMMARY:Advocacy
DESCRIPTION:
URL:https://aiasb.com/event/advocacy-2-2-2-2-2-2-2-2-2-3-2-3-2-2-2-2-2-2-2-2-2-2-2-2-2-2-3-2-2/
END:VEVENT
BEGIN:VEVENT
DTSTART;TZID=America/Los_Angeles:20211119T120000
DTEND;TZID=America/Los_Angeles:20211119T130000
DTSTAMP:20260425T093612
CREATED:20210324T174845Z
LAST-MODIFIED:20210610T192503Z
UID:5782-1637323200-1637326800@aiasb.com
SUMMARY:Equity Diversity & Inclusion
DESCRIPTION:Get involved through: Equity\, Diversity & Inclusion Committee – AIA Santa Barbara (aiasb.com)
URL:https://aiasb.com/event/equity-diversity-inclusion-2-2-2-2-2-2-2-2-2-2-2-2-2-2-2-2/
END:VEVENT
BEGIN:VEVENT
DTSTART;TZID=America/Los_Angeles:20211118T173000
DTEND;TZID=America/Los_Angeles:20211118T190000
DTSTAMP:20260425T093612
CREATED:20210329T194034Z
LAST-MODIFIED:20210329T194034Z
UID:5900-1637256600-1637262000@aiasb.com
SUMMARY:Sustainability Committee
DESCRIPTION:Contact info@aiasb.com if you would like to participate
URL:https://aiasb.com/event/sustainability-committee-2-2-2-2-2-2-2/
END:VEVENT
BEGIN:VEVENT
DTSTART;TZID=America/Los_Angeles:20211118T120000
DTEND;TZID=America/Los_Angeles:20211118T130000
DTSTAMP:20260425T093612
CREATED:20210115T234630Z
LAST-MODIFIED:20210115T234630Z
UID:5374-1637236800-1637240400@aiasb.com
SUMMARY:Executive Committee Meeting
DESCRIPTION:
URL:https://aiasb.com/event/executive-committee-meeting-17/
END:VEVENT
BEGIN:VEVENT
DTSTART;TZID=America/Los_Angeles:20211116T170000
DTEND;TZID=America/Los_Angeles:20211116T180000
DTSTAMP:20260425T093612
CREATED:20210115T234535Z
LAST-MODIFIED:20210115T234535Z
UID:5372-1637082000-1637085600@aiasb.com
SUMMARY:Women's Conversation Group
DESCRIPTION:
URL:https://aiasb.com/event/womens-conversation-group-18/
END:VEVENT
BEGIN:VEVENT
DTSTART;TZID=America/Los_Angeles:20211115T163000
DTEND;TZID=America/Los_Angeles:20211115T180000
DTSTAMP:20260425T093612
CREATED:20210324T183715Z
LAST-MODIFIED:20210329T195459Z
UID:5850-1636993800-1636999200@aiasb.com
SUMMARY:Advocacy
DESCRIPTION:
URL:https://aiasb.com/event/advocacy-2-2-2-2-2-2-2-2-2-3-2-3-2-2-2-2-2-2-2-2-2-2-2-2-2-2-3-2/
END:VEVENT
BEGIN:VEVENT
DTSTART;TZID=America/Los_Angeles:20211109T120000
DTEND;TZID=America/Los_Angeles:20211109T130000
DTSTAMP:20260425T093612
CREATED:20211026T173241Z
LAST-MODIFIED:20211026T173241Z
UID:6651-1636459200-1636462800@aiasb.com
SUMMARY:Updates from the County of Santa Barbara
DESCRIPTION:Click here \n1LU
URL:https://aiasb.com/event/updates-from-the-county-of-santa-barbara/
END:VEVENT
BEGIN:VEVENT
DTSTART;TZID=America/Los_Angeles:20211108T163000
DTEND;TZID=America/Los_Angeles:20211108T180000
DTSTAMP:20260425T093612
CREATED:20210324T183647Z
LAST-MODIFIED:20210329T195454Z
UID:5848-1636389000-1636394400@aiasb.com
SUMMARY:Advocacy
DESCRIPTION:
URL:https://aiasb.com/event/advocacy-2-2-2-2-2-2-2-2-2-3-2-3-2-2-2-2-2-2-2-2-2-2-2-2-2-2-3/
END:VEVENT
BEGIN:VEVENT
DTSTART;TZID=America/Los_Angeles:20211105T120000
DTEND;TZID=America/Los_Angeles:20211105T130000
DTSTAMP:20260425T093612
CREATED:20210324T174824Z
LAST-MODIFIED:20210610T192447Z
UID:5780-1636113600-1636117200@aiasb.com
SUMMARY:Equity Diversity & Inclusion
DESCRIPTION:Get involved through: Equity\, Diversity & Inclusion Committee – AIA Santa Barbara (aiasb.com)
URL:https://aiasb.com/event/equity-diversity-inclusion-2-2-2-2-2-2-2-2-2-2-2-2-2-2-2/
END:VEVENT
BEGIN:VEVENT
DTSTART;TZID=America/Los_Angeles:20211104T120000
DTEND;TZID=America/Los_Angeles:20211104T130000
DTSTAMP:20260425T093612
CREATED:20210804T180549Z
LAST-MODIFIED:20211027T185153Z
UID:6457-1636027200-1636030800@aiasb.com
SUMMARY:Higher-Performance Windows and Glazing
DESCRIPTION:Register Here
URL:https://aiasb.com/event/higher-performance-windows-and-glazing/
END:VEVENT
END:VCALENDAR