BEGIN:VCALENDAR
VERSION:2.0
PRODID:-//AIA Santa Barbara - ECPv6.15.20//NONSGML v1.0//EN
CALSCALE:GREGORIAN
METHOD:PUBLISH
X-WR-CALNAME:AIA Santa Barbara
X-ORIGINAL-URL:https://aiasb.com
X-WR-CALDESC:Events for AIA Santa Barbara
REFRESH-INTERVAL;VALUE=DURATION:PT1H
X-Robots-Tag:noindex
X-PUBLISHED-TTL:PT1H
BEGIN:VTIMEZONE
TZID:America/Los_Angeles
BEGIN:DAYLIGHT
TZOFFSETFROM:-0800
TZOFFSETTO:-0700
TZNAME:PDT
DTSTART:20200308T100000
END:DAYLIGHT
BEGIN:STANDARD
TZOFFSETFROM:-0700
TZOFFSETTO:-0800
TZNAME:PST
DTSTART:20201101T090000
END:STANDARD
BEGIN:DAYLIGHT
TZOFFSETFROM:-0800
TZOFFSETTO:-0700
TZNAME:PDT
DTSTART:20210314T100000
END:DAYLIGHT
BEGIN:STANDARD
TZOFFSETFROM:-0700
TZOFFSETTO:-0800
TZNAME:PST
DTSTART:20211107T090000
END:STANDARD
BEGIN:DAYLIGHT
TZOFFSETFROM:-0800
TZOFFSETTO:-0700
TZNAME:PDT
DTSTART:20220313T100000
END:DAYLIGHT
BEGIN:STANDARD
TZOFFSETFROM:-0700
TZOFFSETTO:-0800
TZNAME:PST
DTSTART:20221106T090000
END:STANDARD
END:VTIMEZONE
BEGIN:VEVENT
DTSTART;TZID=America/Los_Angeles:20211006T113000
DTEND;TZID=America/Los_Angeles:20211006T123000
DTSTAMP:20260425T065345
CREATED:20210115T234112Z
LAST-MODIFIED:20210115T234112Z
UID:5364-1633519800-1633523400@aiasb.com
SUMMARY:Board Meeting
DESCRIPTION:
URL:https://aiasb.com/event/board-meeting-8/
CATEGORIES:Board Meetings
END:VEVENT
BEGIN:VEVENT
DTSTART;VALUE=DATE:20211002
DTEND;VALUE=DATE:20211003
DTSTAMP:20260425T065345
CREATED:20210303T212302Z
LAST-MODIFIED:20210921T193449Z
UID:5691-1633132800-1633219199@aiasb.com
SUMMARY:ArchitecTours
DESCRIPTION:Virtual ArchitecTours 2021 Design Excellence October 2\, 9am – 3.30 pm \nRecordings of each project will be made available after the event for ticket holders to watch. \nArchitecTours 2021 will be virtual this year and will highlight 6 projects that go above and beyond Title 24 Energy compliance; are built in harmony with nature and respond to today’s Climate Challenges; demonstrate live/work spaces that meet the needs of a 21st century workforce; showcase equitable housing solutions; or\, present other exceptional and informative work. \nThe Zoom link will be emailed to you the day before the tour. \nAn online tour brochure outlining each of the projects will be provided along with the Zoom link. If you would also like a printed tour brochure\, please check the box when ordering your ticket. We will print limited numbers\, and you will need to pick up your hardcopy of the tour brochure at the AIASB office the week prior to the event. We will let you know when it is ready. \nThe six projects will be spaced out throughout the day. You will be provided with a schedule so you can watch one or all of the projects.
URL:https://aiasb.com/event/architectours/
END:VEVENT
BEGIN:VEVENT
DTSTART;TZID=America/Los_Angeles:20210927T163000
DTEND;TZID=America/Los_Angeles:20210927T180000
DTSTAMP:20260425T065345
CREATED:20210324T183337Z
LAST-MODIFIED:20210329T195327Z
UID:5836-1632760200-1632765600@aiasb.com
SUMMARY:Advocacy
DESCRIPTION:
URL:https://aiasb.com/event/advocacy-2-2-2-2-2-2-2-2-2-3-2-3-2-2-2-2-2-2-2-2-2-2/
END:VEVENT
BEGIN:VEVENT
DTSTART;TZID=America/Los_Angeles:20210924T120000
DTEND;TZID=America/Los_Angeles:20210924T130000
DTSTAMP:20260425T065345
CREATED:20210324T174712Z
LAST-MODIFIED:20210610T192356Z
UID:5774-1632484800-1632488400@aiasb.com
SUMMARY:Equity Diversity & Inclusion
DESCRIPTION:Get involved through: Equity\, Diversity & Inclusion Committee – AIA Santa Barbara (aiasb.com)
URL:https://aiasb.com/event/equity-diversity-inclusion-2-2-2-2-2-2-2-2-2-2-2-2/
END:VEVENT
BEGIN:VEVENT
DTSTART;TZID=America/Los_Angeles:20210923T120000
DTEND;TZID=America/Los_Angeles:20210923T130000
DTSTAMP:20260425T065345
CREATED:20210831T174835Z
LAST-MODIFIED:20210831T174835Z
UID:6542-1632398400-1632402000@aiasb.com
SUMMARY:Pathogen Reduction for the Modern Age:  UV and Near-UV as Disinfection Aids
DESCRIPTION:Register Here
URL:https://aiasb.com/event/pathogen-reduction-for-the-modern-age-uv-and-near-uv-as-disinfection-aids/
END:VEVENT
BEGIN:VEVENT
DTSTART;TZID=America/Los_Angeles:20210921T170000
DTEND;TZID=America/Los_Angeles:20210921T180000
DTSTAMP:20260425T065345
CREATED:20210120T210625Z
LAST-MODIFIED:20210120T210625Z
UID:5401-1632243600-1632247200@aiasb.com
SUMMARY:Women's Conversation Group
DESCRIPTION:
URL:https://aiasb.com/event/womens-conversation-group-17/
END:VEVENT
BEGIN:VEVENT
DTSTART;TZID=America/Los_Angeles:20210916T173000
DTEND;TZID=America/Los_Angeles:20210916T190000
DTSTAMP:20260425T065345
CREATED:20210329T193929Z
LAST-MODIFIED:20210329T193929Z
UID:5896-1631813400-1631818800@aiasb.com
SUMMARY:Sustainability Committee
DESCRIPTION:Contact info@aiasb.com if you would like to participate
URL:https://aiasb.com/event/sustainability-committee-2-2-2-2-2/
END:VEVENT
BEGIN:VEVENT
DTSTART;TZID=America/Los_Angeles:20210916T120000
DTEND;TZID=America/Los_Angeles:20210916T130000
DTSTAMP:20260425T065345
CREATED:20210120T210541Z
LAST-MODIFIED:20210120T210541Z
UID:5399-1631793600-1631797200@aiasb.com
SUMMARY:Executive Committee Meeting
DESCRIPTION:
URL:https://aiasb.com/event/executive-committee-meeting-20/
END:VEVENT
BEGIN:VEVENT
DTSTART;TZID=America/Los_Angeles:20210915T120000
DTEND;TZID=America/Los_Angeles:20210915T130000
DTSTAMP:20260425T065345
CREATED:20210608T193013Z
LAST-MODIFIED:20210608T193013Z
UID:6249-1631707200-1631710800@aiasb.com
SUMMARY:Structural Mulling for Fenestration
DESCRIPTION:Structural Mulling for Fenestration Tickets\, Wed\, Sep 15\, 2021 at 12:00 PM | Eventbrite
URL:https://aiasb.com/event/structural-mulling-for-fenestration-2/
END:VEVENT
BEGIN:VEVENT
DTSTART;TZID=America/Los_Angeles:20210913T163000
DTEND;TZID=America/Los_Angeles:20210913T180000
DTSTAMP:20260425T065345
CREATED:20210324T183245Z
LAST-MODIFIED:20210329T195242Z
UID:5832-1631550600-1631556000@aiasb.com
SUMMARY:Advocacy
DESCRIPTION:
URL:https://aiasb.com/event/advocacy-2-2-2-2-2-2-2-2-2-3-2-3-2-2-2-2-2-2-2-2/
END:VEVENT
BEGIN:VEVENT
DTSTART;TZID=America/Los_Angeles:20210910T120000
DTEND;TZID=America/Los_Angeles:20210910T130000
DTSTAMP:20260425T065345
CREATED:20210324T174649Z
LAST-MODIFIED:20210610T192338Z
UID:5772-1631275200-1631278800@aiasb.com
SUMMARY:Equity Diversity & Inclusion
DESCRIPTION:Get involved through: Equity\, Diversity & Inclusion Committee – AIA Santa Barbara (aiasb.com)
URL:https://aiasb.com/event/equity-diversity-inclusion-2-2-2-2-2-2-2-2-2-2-2/
END:VEVENT
BEGIN:VEVENT
DTSTART;TZID=America/Los_Angeles:20210909T120000
DTEND;TZID=America/Los_Angeles:20210909T130000
DTSTAMP:20260425T065345
CREATED:20210729T185301Z
LAST-MODIFIED:20210729T185301Z
UID:6404-1631188800-1631192400@aiasb.com
SUMMARY:Equity\, Diversity\, and Inclusion: Walking the Walk
DESCRIPTION:Register here
URL:https://aiasb.com/event/equity-diversity-and-inclusion-walking-the-walk/
CATEGORIES:General Meetings
END:VEVENT
BEGIN:VEVENT
DTSTART;TZID=America/Los_Angeles:20210909T120000
DTEND;TZID=America/Los_Angeles:20210909T130000
DTSTAMP:20260425T065345
CREATED:20210115T233932Z
LAST-MODIFIED:20210115T233932Z
UID:5360-1631188800-1631192400@aiasb.com
SUMMARY:General Meeting
DESCRIPTION:
URL:https://aiasb.com/event/general-meeting-9/
CATEGORIES:General Meetings
END:VEVENT
BEGIN:VEVENT
DTSTART;TZID=America/Los_Angeles:20210901T113000
DTEND;TZID=America/Los_Angeles:20210901T123000
DTSTAMP:20260425T065345
CREATED:20210120T210444Z
LAST-MODIFIED:20210120T210444Z
UID:5397-1630495800-1630499400@aiasb.com
SUMMARY:Board Meeting
DESCRIPTION:
URL:https://aiasb.com/event/board-meeting-12/
CATEGORIES:Board Meetings
END:VEVENT
BEGIN:VEVENT
DTSTART;VALUE=DATE:20210831
DTEND;VALUE=DATE:20210901
DTSTAMP:20260425T065345
CREATED:20210729T194905Z
LAST-MODIFIED:20210729T194905Z
UID:6412-1630368000-1630454399@aiasb.com
SUMMARY:Design Awards Submission deadline
DESCRIPTION:
URL:https://aiasb.com/event/design-awards-submission-deadline/
END:VEVENT
BEGIN:VEVENT
DTSTART;TZID=America/Los_Angeles:20210830T163000
DTEND;TZID=America/Los_Angeles:20210830T180000
DTSTAMP:20260425T065345
CREATED:20210324T183155Z
LAST-MODIFIED:20210329T195231Z
UID:5828-1630341000-1630346400@aiasb.com
SUMMARY:Advocacy
DESCRIPTION:
URL:https://aiasb.com/event/advocacy-2-2-2-2-2-2-2-2-2-3-2-3-2-2-2-2-2-2/
END:VEVENT
BEGIN:VEVENT
DTSTART;VALUE=DATE:20210829
DTEND;VALUE=DATE:20211010
DTSTAMP:20260425T065345
CREATED:20210804T171022Z
LAST-MODIFIED:20210804T171022Z
UID:6447-1630195200-1633823999@aiasb.com
SUMMARY:AIA Flags on State Street
DESCRIPTION:
URL:https://aiasb.com/event/aia-flags-on-state-street/
END:VEVENT
BEGIN:VEVENT
DTSTART;TZID=America/Los_Angeles:20210827T120000
DTEND;TZID=America/Los_Angeles:20210827T130000
DTSTAMP:20260425T065345
CREATED:20210324T174621Z
LAST-MODIFIED:20210610T192322Z
UID:5770-1630065600-1630069200@aiasb.com
SUMMARY:Equity Diversity & Inclusion
DESCRIPTION:Get involved through: Equity\, Diversity & Inclusion Committee – AIA Santa Barbara (aiasb.com)
URL:https://aiasb.com/event/equity-diversity-inclusion-2-2-2-2-2-2-2-2-2-2/
END:VEVENT
BEGIN:VEVENT
DTSTART;TZID=America/Los_Angeles:20210826T173000
DTEND;TZID=America/Los_Angeles:20210826T190000
DTSTAMP:20260425T065345
CREATED:20210329T193849Z
LAST-MODIFIED:20210802T191709Z
UID:5894-1629999000-1630004400@aiasb.com
SUMMARY:Sustainability Committee
DESCRIPTION:Contact info@aiasb.com if you would like to participate
URL:https://aiasb.com/event/sustainability-committee-2-2-2-2/
END:VEVENT
BEGIN:VEVENT
DTSTART;TZID=America/Los_Angeles:20210825T120000
DTEND;TZID=America/Los_Angeles:20210825T130000
DTSTAMP:20260425T065345
CREATED:20210729T194836Z
LAST-MODIFIED:20210729T194836Z
UID:6410-1629892800-1629896400@aiasb.com
SUMMARY:How Architects Can Get Press for their Business
DESCRIPTION:Register here
URL:https://aiasb.com/event/how-architects-can-get-press-for-their-business/
END:VEVENT
BEGIN:VEVENT
DTSTART;TZID=America/Los_Angeles:20210819T120000
DTEND;TZID=America/Los_Angeles:20210819T130000
DTSTAMP:20260425T065345
CREATED:20210115T233837Z
LAST-MODIFIED:20210115T233837Z
UID:5358-1629374400-1629378000@aiasb.com
SUMMARY:Executive Committee Meeting
DESCRIPTION:
URL:https://aiasb.com/event/executive-committee-meeting-15/
END:VEVENT
BEGIN:VEVENT
DTSTART;TZID=America/Los_Angeles:20210819T100000
DTEND;TZID=America/Los_Angeles:20210819T173000
DTSTAMP:20260425T065345
CREATED:20210623T185434Z
LAST-MODIFIED:20210623T185455Z
UID:6313-1629367200-1629394200@aiasb.com
SUMMARY:AIA Conference- Building Efficiencies
DESCRIPTION:AIA Conference on Architecture 2021
URL:https://aiasb.com/event/aia-conference-building-efficiencies/
END:VEVENT
BEGIN:VEVENT
DTSTART;TZID=America/Los_Angeles:20210818T173000
DTEND;TZID=America/Los_Angeles:20210818T183000
DTSTAMP:20260425T065345
CREATED:20210206T025945Z
LAST-MODIFIED:20210206T025945Z
UID:5495-1629307800-1629311400@aiasb.com
SUMMARY:ARE Study Group
DESCRIPTION:
URL:https://aiasb.com/event/are-study-group-2-2-2-2-2-2-2-2-2-2-2-2-2-2/
END:VEVENT
BEGIN:VEVENT
DTSTART;TZID=America/Los_Angeles:20210818T120000
DTEND;TZID=America/Los_Angeles:20210818T130000
DTSTAMP:20260425T065345
CREATED:20210816T194229Z
LAST-MODIFIED:20210816T194229Z
UID:6507-1629288000-1629291600@aiasb.com
SUMMARY:History of Santa Barbara Earthquakes and Building Codes
DESCRIPTION:Register here
URL:https://aiasb.com/event/history-of-santa-barbara-earthquakes-and-building-codes/
END:VEVENT
BEGIN:VEVENT
DTSTART;TZID=America/Los_Angeles:20210816T163000
DTEND;TZID=America/Los_Angeles:20210816T180000
DTSTAMP:20260425T065345
CREATED:20210324T183053Z
LAST-MODIFIED:20210329T195155Z
UID:5824-1629131400-1629136800@aiasb.com
SUMMARY:Advocacy
DESCRIPTION:
URL:https://aiasb.com/event/advocacy-2-2-2-2-2-2-2-2-2-3-2-3-2-2-2-2/
END:VEVENT
BEGIN:VEVENT
DTSTART;TZID=America/Los_Angeles:20210813T120000
DTEND;TZID=America/Los_Angeles:20210813T130000
DTSTAMP:20260425T065345
CREATED:20210324T173838Z
LAST-MODIFIED:20210610T192305Z
UID:5768-1628856000-1628859600@aiasb.com
SUMMARY:Equity Diversity & Inclusion
DESCRIPTION:Get involved through: Equity\, Diversity & Inclusion Committee – AIA Santa Barbara (aiasb.com)
URL:https://aiasb.com/event/equity-diversity-inclusion-2-2-2-2-2-2-2-2-2/
END:VEVENT
BEGIN:VEVENT
DTSTART;TZID=America/Los_Angeles:20210812T120000
DTEND;TZID=America/Los_Angeles:20210812T130000
DTSTAMP:20260425T065345
CREATED:20210729T182852Z
LAST-MODIFIED:20210729T182913Z
UID:6401-1628769600-1628773200@aiasb.com
SUMMARY:Electrification of buildings and decarbonization in Santa Barbara
DESCRIPTION:1 Pending HSW/LU \nRegister here
URL:https://aiasb.com/event/electrification-of-buildings-and-decarbonization-in-santa-barbara/
END:VEVENT
BEGIN:VEVENT
DTSTART;TZID=America/Los_Angeles:20210804T173000
DTEND;TZID=America/Los_Angeles:20210804T183000
DTSTAMP:20260425T065345
CREATED:20210206T025854Z
LAST-MODIFIED:20210206T025854Z
UID:5493-1628098200-1628101800@aiasb.com
SUMMARY:ARE Study Group
DESCRIPTION:
URL:https://aiasb.com/event/are-study-group-2-2-2-2-2-2-2-2-2-2-2-2-2/
END:VEVENT
BEGIN:VEVENT
DTSTART;TZID=America/Los_Angeles:20210804T083000
DTEND;TZID=America/Los_Angeles:20210804T123000
DTSTAMP:20260425T065345
CREATED:20210804T181510Z
LAST-MODIFIED:20210804T181510Z
UID:6461-1628065800-1628080200@aiasb.com
SUMMARY:Selling the Value of High performance
DESCRIPTION:
URL:https://aiasb.com/event/selling-the-value-of-high-performance/
END:VEVENT
BEGIN:VEVENT
DTSTART;TZID=America/Los_Angeles:20210802T163000
DTEND;TZID=America/Los_Angeles:20210802T180000
DTSTAMP:20260425T065345
CREATED:20210324T183006Z
LAST-MODIFIED:20210329T195147Z
UID:5820-1627921800-1627927200@aiasb.com
SUMMARY:Advocacy
DESCRIPTION:
URL:https://aiasb.com/event/advocacy-2-2-2-2-2-2-2-2-2-3-2-3-2-2/
END:VEVENT
END:VCALENDAR