BEGIN:VCALENDAR
VERSION:2.0
PRODID:-//AIA Santa Barbara - ECPv6.15.20//NONSGML v1.0//EN
CALSCALE:GREGORIAN
METHOD:PUBLISH
X-WR-CALNAME:AIA Santa Barbara
X-ORIGINAL-URL:https://aiasb.com
X-WR-CALDESC:Events for AIA Santa Barbara
REFRESH-INTERVAL;VALUE=DURATION:PT1H
X-Robots-Tag:noindex
X-PUBLISHED-TTL:PT1H
BEGIN:VTIMEZONE
TZID:America/Los_Angeles
BEGIN:DAYLIGHT
TZOFFSETFROM:-0800
TZOFFSETTO:-0700
TZNAME:PDT
DTSTART:20200308T100000
END:DAYLIGHT
BEGIN:STANDARD
TZOFFSETFROM:-0700
TZOFFSETTO:-0800
TZNAME:PST
DTSTART:20201101T090000
END:STANDARD
BEGIN:DAYLIGHT
TZOFFSETFROM:-0800
TZOFFSETTO:-0700
TZNAME:PDT
DTSTART:20210314T100000
END:DAYLIGHT
BEGIN:STANDARD
TZOFFSETFROM:-0700
TZOFFSETTO:-0800
TZNAME:PST
DTSTART:20211107T090000
END:STANDARD
BEGIN:DAYLIGHT
TZOFFSETFROM:-0800
TZOFFSETTO:-0700
TZNAME:PDT
DTSTART:20220313T100000
END:DAYLIGHT
BEGIN:STANDARD
TZOFFSETFROM:-0700
TZOFFSETTO:-0800
TZNAME:PST
DTSTART:20221106T090000
END:STANDARD
END:VTIMEZONE
BEGIN:VEVENT
DTSTART;TZID=America/Los_Angeles:20210816T163000
DTEND;TZID=America/Los_Angeles:20210816T180000
DTSTAMP:20260425T080530
CREATED:20210324T183053Z
LAST-MODIFIED:20210329T195155Z
UID:5824-1629131400-1629136800@aiasb.com
SUMMARY:Advocacy
DESCRIPTION:
URL:https://aiasb.com/event/advocacy-2-2-2-2-2-2-2-2-2-3-2-3-2-2-2-2/
END:VEVENT
BEGIN:VEVENT
DTSTART;TZID=America/Los_Angeles:20210813T120000
DTEND;TZID=America/Los_Angeles:20210813T130000
DTSTAMP:20260425T080530
CREATED:20210324T173838Z
LAST-MODIFIED:20210610T192305Z
UID:5768-1628856000-1628859600@aiasb.com
SUMMARY:Equity Diversity & Inclusion
DESCRIPTION:Get involved through: Equity\, Diversity & Inclusion Committee – AIA Santa Barbara (aiasb.com)
URL:https://aiasb.com/event/equity-diversity-inclusion-2-2-2-2-2-2-2-2-2/
END:VEVENT
BEGIN:VEVENT
DTSTART;TZID=America/Los_Angeles:20210812T120000
DTEND;TZID=America/Los_Angeles:20210812T130000
DTSTAMP:20260425T080530
CREATED:20210729T182852Z
LAST-MODIFIED:20210729T182913Z
UID:6401-1628769600-1628773200@aiasb.com
SUMMARY:Electrification of buildings and decarbonization in Santa Barbara
DESCRIPTION:1 Pending HSW/LU \nRegister here
URL:https://aiasb.com/event/electrification-of-buildings-and-decarbonization-in-santa-barbara/
END:VEVENT
BEGIN:VEVENT
DTSTART;TZID=America/Los_Angeles:20210804T173000
DTEND;TZID=America/Los_Angeles:20210804T183000
DTSTAMP:20260425T080530
CREATED:20210206T025854Z
LAST-MODIFIED:20210206T025854Z
UID:5493-1628098200-1628101800@aiasb.com
SUMMARY:ARE Study Group
DESCRIPTION:
URL:https://aiasb.com/event/are-study-group-2-2-2-2-2-2-2-2-2-2-2-2-2/
END:VEVENT
BEGIN:VEVENT
DTSTART;TZID=America/Los_Angeles:20210804T083000
DTEND;TZID=America/Los_Angeles:20210804T123000
DTSTAMP:20260425T080530
CREATED:20210804T181510Z
LAST-MODIFIED:20210804T181510Z
UID:6461-1628065800-1628080200@aiasb.com
SUMMARY:Selling the Value of High performance
DESCRIPTION:
URL:https://aiasb.com/event/selling-the-value-of-high-performance/
END:VEVENT
BEGIN:VEVENT
DTSTART;TZID=America/Los_Angeles:20210802T163000
DTEND;TZID=America/Los_Angeles:20210802T180000
DTSTAMP:20260425T080530
CREATED:20210324T183006Z
LAST-MODIFIED:20210329T195147Z
UID:5820-1627921800-1627927200@aiasb.com
SUMMARY:Advocacy
DESCRIPTION:
URL:https://aiasb.com/event/advocacy-2-2-2-2-2-2-2-2-2-3-2-3-2-2/
END:VEVENT
BEGIN:VEVENT
DTSTART;TZID=America/Los_Angeles:20210729T100000
DTEND;TZID=America/Los_Angeles:20210729T173000
DTSTAMP:20260425T080530
CREATED:20210623T185344Z
LAST-MODIFIED:20210623T185344Z
UID:6311-1627552800-1627579800@aiasb.com
SUMMARY:AIA Conference- Community Engagement
DESCRIPTION:AIA Conference on Architecture 2021
URL:https://aiasb.com/event/aia-conference-community-engagement/
END:VEVENT
BEGIN:VEVENT
DTSTART;TZID=America/Los_Angeles:20210729T080000
DTEND;TZID=America/Los_Angeles:20210729T170000
DTSTAMP:20260425T080530
CREATED:20210729T193053Z
LAST-MODIFIED:20210729T194413Z
UID:6408-1627545600-1627578000@aiasb.com
SUMMARY:History of Santa Barbara Earthquakes\, Building Codes and How it Applies to your Next Renovation Project
DESCRIPTION:Register here
URL:https://aiasb.com/event/history-of-santa-barbara-earthquakes-building-codes-and-how-it-applies-to-your-next-renovation-project/
END:VEVENT
BEGIN:VEVENT
DTSTART;TZID=America/Los_Angeles:20210728T120000
DTEND;TZID=America/Los_Angeles:20210728T130000
DTSTAMP:20260425T080530
CREATED:20210615T185349Z
LAST-MODIFIED:20210615T185349Z
UID:6288-1627473600-1627477200@aiasb.com
SUMMARY:Accessory Dwelling Units A New Approach to California’s Housing Shortage
DESCRIPTION:Representatives from the City and County of Santa Barbara\, plus a representative from the State Housing and Community Development Department will present the latest on ADUs. \nLearn about Accessory Dwelling Units (ADUs) and Junior ADUs and the latest state laws that have streamlined the entitlement process; the general parameters that local jurisdictions have adopted; the requirements for homeowners; and\, the process to design for approval and construction. \nhttps://www.eventbrite.com/e/accessory-dwelling-units-a-new-approach-to-californias-housing-shortage-tickets-159699438319
URL:https://aiasb.com/event/accessory-dwelling-units-a-new-approach-to-californias-housing-shortage/
END:VEVENT
BEGIN:VEVENT
DTSTART;TZID=America/Los_Angeles:20210726T163000
DTEND;TZID=America/Los_Angeles:20210726T180000
DTSTAMP:20260425T080530
CREATED:20210324T182944Z
LAST-MODIFIED:20210329T195139Z
UID:5818-1627317000-1627322400@aiasb.com
SUMMARY:Advocacy
DESCRIPTION:
URL:https://aiasb.com/event/advocacy-2-2-2-2-2-2-2-2-2-3-2-3-2/
END:VEVENT
BEGIN:VEVENT
DTSTART;TZID=America/Los_Angeles:20210722T120000
DTEND;TZID=America/Los_Angeles:20210722T130000
DTSTAMP:20260425T080530
CREATED:20210115T233611Z
LAST-MODIFIED:20210115T233611Z
UID:5354-1626955200-1626958800@aiasb.com
SUMMARY:Executive Committee Meeting
DESCRIPTION:
URL:https://aiasb.com/event/executive-committee-meeting-14/
END:VEVENT
BEGIN:VEVENT
DTSTART;TZID=America/Los_Angeles:20210721T173000
DTEND;TZID=America/Los_Angeles:20210721T183000
DTSTAMP:20260425T080530
CREATED:20210206T025815Z
LAST-MODIFIED:20210206T025815Z
UID:5491-1626888600-1626892200@aiasb.com
SUMMARY:ARE Study Group
DESCRIPTION:
URL:https://aiasb.com/event/are-study-group-2-2-2-2-2-2-2-2-2-2-2-2/
END:VEVENT
BEGIN:VEVENT
DTSTART;TZID=America/Los_Angeles:20210721T120000
DTEND;TZID=America/Los_Angeles:20210721T130000
DTSTAMP:20260425T080530
CREATED:20210614T191556Z
LAST-MODIFIED:20210614T191556Z
UID:6271-1626868800-1626872400@aiasb.com
SUMMARY:Design paired with Solar Energy & Storage
DESCRIPTION:This presentation aims at covering key information about solar energy & storage to local leaders of the architecture field. Fostered by Federal and State policies\, the solar & battery industry is moving fast and constantly launching new products. As constantly evolving and welcoming new actors\, the offering around solar & storage seems difficult to decode for both building owners and professionals of the construction field. During this presentation\, we’ll talk about the current offering as well as upcoming trends and how to best design for solar & storage now\, or for the option in the future. We will present new design solutions for solar & storage that solve the aesthetic issue of traditional solar installations. \n  \nhttps://www.eventbrite.com/e/design-paired-with-solar-energy-storage-tickets-159529604341
URL:https://aiasb.com/event/design-paired-with-solar-energy-storage/
END:VEVENT
BEGIN:VEVENT
DTSTART;TZID=America/Los_Angeles:20210720T170000
DTEND;TZID=America/Los_Angeles:20210720T190000
DTSTAMP:20260425T080530
CREATED:20210623T185606Z
LAST-MODIFIED:20210719T193401Z
UID:6315-1626800400-1626807600@aiasb.com
SUMMARY:Women’s Conversation Group
DESCRIPTION:Location:  https://www.santabarbarawinetherapy.com/
URL:https://aiasb.com/event/womens-conversation-group-19/
LOCATION:wine therapy\, 732 State Street\, Santa Barbara\, 93101
END:VEVENT
BEGIN:VEVENT
DTSTART;TZID=America/Los_Angeles:20210719T163000
DTEND;TZID=America/Los_Angeles:20210719T180000
DTSTAMP:20260425T080530
CREATED:20210324T182913Z
LAST-MODIFIED:20210329T195135Z
UID:5815-1626712200-1626717600@aiasb.com
SUMMARY:Advocacy
DESCRIPTION:
URL:https://aiasb.com/event/advocacy-2-2-2-2-2-2-2-2-2-3-2-3/
END:VEVENT
BEGIN:VEVENT
DTSTART;TZID=America/Los_Angeles:20210716T120000
DTEND;TZID=America/Los_Angeles:20210716T130000
DTSTAMP:20260425T080530
CREATED:20210324T173806Z
LAST-MODIFIED:20210610T192246Z
UID:5766-1626436800-1626440400@aiasb.com
SUMMARY:Equity Diversity & Inclusion
DESCRIPTION:Get involved through: Equity\, Diversity & Inclusion Committee – AIA Santa Barbara (aiasb.com)
URL:https://aiasb.com/event/equity-diversity-inclusion-2-2-2-2-2-2-2-2/
END:VEVENT
BEGIN:VEVENT
DTSTART;TZID=America/Los_Angeles:20210715T173000
DTEND;TZID=America/Los_Angeles:20210715T190000
DTSTAMP:20260425T080530
CREATED:20210329T193819Z
LAST-MODIFIED:20210329T193819Z
UID:5892-1626370200-1626375600@aiasb.com
SUMMARY:Sustainability Committee
DESCRIPTION:Contact info@aiasb.com if you would like to participate
URL:https://aiasb.com/event/sustainability-committee-2-2-2/
END:VEVENT
BEGIN:VEVENT
DTSTART;TZID=America/Los_Angeles:20210714T120000
DTEND;TZID=America/Los_Angeles:20210714T130000
DTSTAMP:20260425T080530
CREATED:20210614T210233Z
LAST-MODIFIED:20210614T210356Z
UID:6275-1626264000-1626267600@aiasb.com
SUMMARY:Path to AIA Fellowship
DESCRIPTION:Do you have Fellowship on your mind? Is becoming an AIA Fellow in your career plan? Are you curious about what makes an AIA Fellow? \nAn AIA Fellowship is the second highest honor that the American Institute of Architects can bestow upon an individual member. The highest honor of course is the Gold Medal. Fellows are recognized for their exceptional work and contributions to the profession of architecture or society. Architects who have made significant contributions and who demonstrate their impact in the profession or to society will be elevated to Fellow; roughly three percent of AIA members are elevated to Fellow. It is a difficult and soul-searching process for many. There are even fewer women and people of color who are elevated. \n  \nhttps://www.eventbrite.com/e/path-to-aia-fellowship-tickets-159540330423
URL:https://aiasb.com/event/path-to-aia-fellowship/
END:VEVENT
BEGIN:VEVENT
DTSTART;TZID=America/Los_Angeles:20210712T163000
DTEND;TZID=America/Los_Angeles:20210712T180000
DTSTAMP:20260425T080530
CREATED:20210324T182847Z
LAST-MODIFIED:20210329T195040Z
UID:5814-1626107400-1626112800@aiasb.com
SUMMARY:Advocacy
DESCRIPTION:
URL:https://aiasb.com/event/advocacy-2-2-2-2-2-2-2-2-2-3-2-2/
END:VEVENT
BEGIN:VEVENT
DTSTART;TZID=America/Los_Angeles:20210709T120000
DTEND;TZID=America/Los_Angeles:20210709T130000
DTSTAMP:20260425T080530
CREATED:20210615T174155Z
LAST-MODIFIED:20210615T174217Z
UID:6283-1625832000-1625835600@aiasb.com
SUMMARY:Making the Most of your Membership
DESCRIPTION:https://www.eventbrite.com/e/making-the-most-of-your-membership-tickets-159690435391 \nThis webinar is for all levels of membership\, and will present an overview of AIA Santa Barbara and what are the benefits of being an AIA member. Attendees will learn about the work of various AIASB committees and how their contribution and participation makes a difference to the local building community.  We will cover upcoming educational events\, resources available\, such as job board\, post your resume\, writing articles for the local news outlet\, as well as national and state resources. Take advantage of this webinar to understand\, what do I get for my membership?  Thinking of becoming a member or already a member?  Encourage others to attend. \nThose who bring a potential member\, will be entered in a raffle to win a bottle of wine.  Email tararizzi@aiasb.com
URL:https://aiasb.com/event/making-the-most-of-your-membership/
END:VEVENT
BEGIN:VEVENT
DTSTART;TZID=America/Los_Angeles:20210708T100000
DTEND;TZID=America/Los_Angeles:20210708T173000
DTSTAMP:20260425T080530
CREATED:20210623T185221Z
LAST-MODIFIED:20210623T185221Z
UID:6309-1625738400-1625765400@aiasb.com
SUMMARY:AIA conference- Sustainable Practice
DESCRIPTION:AIA Conference on Architecture 2021
URL:https://aiasb.com/event/aia-conference-sustainable-practice/
END:VEVENT
BEGIN:VEVENT
DTSTART;TZID=America/Los_Angeles:20210707T173000
DTEND;TZID=America/Los_Angeles:20210707T183000
DTSTAMP:20260425T080530
CREATED:20210206T025658Z
LAST-MODIFIED:20210206T025658Z
UID:5489-1625679000-1625682600@aiasb.com
SUMMARY:ARE Study Group
DESCRIPTION:
URL:https://aiasb.com/event/are-study-group-2-2-2-2-2-2-2-2-2-2-2/
END:VEVENT
BEGIN:VEVENT
DTSTART;TZID=America/Los_Angeles:20210707T113000
DTEND;TZID=America/Los_Angeles:20210707T123000
DTSTAMP:20260425T080530
CREATED:20210115T233421Z
LAST-MODIFIED:20210115T233421Z
UID:5350-1625657400-1625661000@aiasb.com
SUMMARY:Board Meeting
DESCRIPTION:
URL:https://aiasb.com/event/board-meeting-6/
CATEGORIES:Board Meetings
END:VEVENT
BEGIN:VEVENT
DTSTART;TZID=America/Los_Angeles:20210706T120000
DTEND;TZID=America/Los_Angeles:20210706T130000
DTSTAMP:20260425T080530
CREATED:20210326T191509Z
LAST-MODIFIED:20210326T191509Z
UID:5878-1625572800-1625576400@aiasb.com
SUMMARY:ArchitecTours
DESCRIPTION:First Tuesday of the month contact Cash Upton if you are interested in participating
URL:https://aiasb.com/event/architectours-2-2-2-2/
END:VEVENT
BEGIN:VEVENT
DTSTART;TZID=America/Los_Angeles:20210705T163000
DTEND;TZID=America/Los_Angeles:20210705T180000
DTSTAMP:20260425T080530
CREATED:20210324T182747Z
LAST-MODIFIED:20210329T195042Z
UID:5812-1625502600-1625508000@aiasb.com
SUMMARY:Advocacy
DESCRIPTION:
URL:https://aiasb.com/event/advocacy-2-2-2-2-2-2-2-2-2-3-2/
END:VEVENT
BEGIN:VEVENT
DTSTART;TZID=America/Los_Angeles:20210702T120000
DTEND;TZID=America/Los_Angeles:20210702T130000
DTSTAMP:20260425T080530
CREATED:20210324T173739Z
LAST-MODIFIED:20210610T192226Z
UID:5764-1625227200-1625230800@aiasb.com
SUMMARY:Equity Diversity & Inclusion
DESCRIPTION:Get involved through: Equity\, Diversity & Inclusion Committee – AIA Santa Barbara (aiasb.com)
URL:https://aiasb.com/event/equity-diversity-inclusion-2-2-2-2-2-2-2/
END:VEVENT
BEGIN:VEVENT
DTSTART;TZID=America/Los_Angeles:20210630T180000
DTEND;TZID=America/Los_Angeles:20210630T190000
DTSTAMP:20260425T080530
CREATED:20210603T055211Z
LAST-MODIFIED:20210603T055211Z
UID:6243-1625076000-1625079600@aiasb.com
SUMMARY:Green Building Speaker Series: Alternative Building Materials
DESCRIPTION:
URL:https://aiasb.com/event/green-building-speaker-series-alternative-building-materials/
END:VEVENT
BEGIN:VEVENT
DTSTART;TZID=America/Los_Angeles:20210628T163000
DTEND;TZID=America/Los_Angeles:20210628T180000
DTSTAMP:20260425T080530
CREATED:20210324T182709Z
LAST-MODIFIED:20210329T195044Z
UID:5808-1624897800-1624903200@aiasb.com
SUMMARY:Advocacy
DESCRIPTION:
URL:https://aiasb.com/event/advocacy-2-2-2-2-2-2-2-2-2-3/
END:VEVENT
BEGIN:VEVENT
DTSTART;TZID=America/Los_Angeles:20210624T120000
DTEND;TZID=America/Los_Angeles:20210624T130000
DTSTAMP:20260425T080530
CREATED:20210115T233328Z
LAST-MODIFIED:20210115T233328Z
UID:5348-1624536000-1624539600@aiasb.com
SUMMARY:Executive Committee Meeting
DESCRIPTION:
URL:https://aiasb.com/event/executive-committee-meeting-13/
END:VEVENT
BEGIN:VEVENT
DTSTART;TZID=America/Los_Angeles:20210623T173000
DTEND;TZID=America/Los_Angeles:20210623T183000
DTSTAMP:20260425T080530
CREATED:20210206T025541Z
LAST-MODIFIED:20210206T025607Z
UID:5487-1624469400-1624473000@aiasb.com
SUMMARY:ARE Study Group
DESCRIPTION:
URL:https://aiasb.com/event/are-study-group-2-2-2-2-2-2-2-2-2-2/
END:VEVENT
END:VCALENDAR