BEGIN:VCALENDAR
VERSION:2.0
PRODID:-//AIA Santa Barbara - ECPv6.15.20//NONSGML v1.0//EN
CALSCALE:GREGORIAN
METHOD:PUBLISH
X-WR-CALNAME:AIA Santa Barbara
X-ORIGINAL-URL:https://aiasb.com
X-WR-CALDESC:Events for AIA Santa Barbara
REFRESH-INTERVAL;VALUE=DURATION:PT1H
X-Robots-Tag:noindex
X-PUBLISHED-TTL:PT1H
BEGIN:VTIMEZONE
TZID:America/Los_Angeles
BEGIN:DAYLIGHT
TZOFFSETFROM:-0800
TZOFFSETTO:-0700
TZNAME:PDT
DTSTART:20200308T100000
END:DAYLIGHT
BEGIN:STANDARD
TZOFFSETFROM:-0700
TZOFFSETTO:-0800
TZNAME:PST
DTSTART:20201101T090000
END:STANDARD
BEGIN:DAYLIGHT
TZOFFSETFROM:-0800
TZOFFSETTO:-0700
TZNAME:PDT
DTSTART:20210314T100000
END:DAYLIGHT
BEGIN:STANDARD
TZOFFSETFROM:-0700
TZOFFSETTO:-0800
TZNAME:PST
DTSTART:20211107T090000
END:STANDARD
BEGIN:DAYLIGHT
TZOFFSETFROM:-0800
TZOFFSETTO:-0700
TZNAME:PDT
DTSTART:20220313T100000
END:DAYLIGHT
BEGIN:STANDARD
TZOFFSETFROM:-0700
TZOFFSETTO:-0800
TZNAME:PST
DTSTART:20221106T090000
END:STANDARD
END:VTIMEZONE
BEGIN:VEVENT
DTSTART;TZID=America/Los_Angeles:20210630T180000
DTEND;TZID=America/Los_Angeles:20210630T190000
DTSTAMP:20260425T080401
CREATED:20210603T055211Z
LAST-MODIFIED:20210603T055211Z
UID:6243-1625076000-1625079600@aiasb.com
SUMMARY:Green Building Speaker Series: Alternative Building Materials
DESCRIPTION:
URL:https://aiasb.com/event/green-building-speaker-series-alternative-building-materials/
END:VEVENT
BEGIN:VEVENT
DTSTART;TZID=America/Los_Angeles:20210628T163000
DTEND;TZID=America/Los_Angeles:20210628T180000
DTSTAMP:20260425T080401
CREATED:20210324T182709Z
LAST-MODIFIED:20210329T195044Z
UID:5808-1624897800-1624903200@aiasb.com
SUMMARY:Advocacy
DESCRIPTION:
URL:https://aiasb.com/event/advocacy-2-2-2-2-2-2-2-2-2-3/
END:VEVENT
BEGIN:VEVENT
DTSTART;TZID=America/Los_Angeles:20210624T120000
DTEND;TZID=America/Los_Angeles:20210624T130000
DTSTAMP:20260425T080401
CREATED:20210115T233328Z
LAST-MODIFIED:20210115T233328Z
UID:5348-1624536000-1624539600@aiasb.com
SUMMARY:Executive Committee Meeting
DESCRIPTION:
URL:https://aiasb.com/event/executive-committee-meeting-13/
END:VEVENT
BEGIN:VEVENT
DTSTART;TZID=America/Los_Angeles:20210623T173000
DTEND;TZID=America/Los_Angeles:20210623T183000
DTSTAMP:20260425T080401
CREATED:20210206T025541Z
LAST-MODIFIED:20210206T025607Z
UID:5487-1624469400-1624473000@aiasb.com
SUMMARY:ARE Study Group
DESCRIPTION:
URL:https://aiasb.com/event/are-study-group-2-2-2-2-2-2-2-2-2-2/
END:VEVENT
BEGIN:VEVENT
DTSTART;TZID=America/Los_Angeles:20210623T120000
DTEND;TZID=America/Los_Angeles:20210623T130000
DTSTAMP:20260425T080401
CREATED:20210603T055029Z
LAST-MODIFIED:20210603T182400Z
UID:6241-1624449600-1624453200@aiasb.com
SUMMARY:Interior Design that Supports Health & Wellness
DESCRIPTION:
URL:https://aiasb.com/event/interior-design-that-supports-health-wellness/
END:VEVENT
BEGIN:VEVENT
DTSTART;TZID=America/Los_Angeles:20210621T163000
DTEND;TZID=America/Los_Angeles:20210621T180000
DTSTAMP:20260425T080401
CREATED:20210324T182559Z
LAST-MODIFIED:20210329T195046Z
UID:5809-1624293000-1624298400@aiasb.com
SUMMARY:Advocacy
DESCRIPTION:
URL:https://aiasb.com/event/advocacy-2-2-2-2-2-2-2-2-2-2-2/
END:VEVENT
BEGIN:VEVENT
DTSTART;TZID=America/Los_Angeles:20210618T120000
DTEND;TZID=America/Los_Angeles:20210618T130000
DTSTAMP:20260425T080401
CREATED:20210324T173711Z
LAST-MODIFIED:20210610T192152Z
UID:5762-1624017600-1624021200@aiasb.com
SUMMARY:Equity Diversity & Inclusion
DESCRIPTION:Get involved through: Equity\, Diversity & Inclusion Committee – AIA Santa Barbara (aiasb.com)
URL:https://aiasb.com/event/equity-diversity-inclusion-2-2-2-2-2-2/
END:VEVENT
BEGIN:VEVENT
DTSTART;TZID=America/Los_Angeles:20210617T173000
DTEND;TZID=America/Los_Angeles:20210617T190000
DTSTAMP:20260425T080401
CREATED:20210329T193743Z
LAST-MODIFIED:20210329T193743Z
UID:5890-1623951000-1623956400@aiasb.com
SUMMARY:Sustainability Committee
DESCRIPTION:Contact info@aiasb.com if you would like to participate
URL:https://aiasb.com/event/sustainability-committee-2-2/
END:VEVENT
BEGIN:VEVENT
DTSTART;VALUE=DATE:20210616
DTEND;VALUE=DATE:20210619
DTSTAMP:20260425T080401
CREATED:20210115T233237Z
LAST-MODIFIED:20210115T233237Z
UID:5346-1623801600-1624060799@aiasb.com
SUMMARY:AIA Conference on Architecture
DESCRIPTION:
URL:https://aiasb.com/event/aia-conference-on-architecture/
END:VEVENT
BEGIN:VEVENT
DTSTART;TZID=America/Los_Angeles:20210610T120000
DTEND;TZID=America/Los_Angeles:20210610T130000
DTSTAMP:20260425T080401
CREATED:20210521T224923Z
LAST-MODIFIED:20210604T232515Z
UID:6222-1623326400-1623330000@aiasb.com
SUMMARY:Housing Downtown- Making it happen
DESCRIPTION:Realizing Housing\, New Neighborhoods & Economic Vitality in our Downtown \nThis meeting will be hosted by the AIASB Advocacy Committee. Our most recent achievement was organizing and conducting Design Charrette 2020 focused on Santa Barbara’s Central Business District and the State Street corridor. Over 160 people participated in this endeavor\, and we believe the work product that came out of the charrette has been of great benefit and will continue to help guide the city moving forward. \n  \nhttps://www.eventbrite.com/e/housing-downtown-making-it-happen-tickets-156307169953
URL:https://aiasb.com/event/housing-downtown-making-it-happen/
CATEGORIES:General Meetings
END:VEVENT
BEGIN:VEVENT
DTSTART;TZID=America/Los_Angeles:20210610T120000
DTEND;TZID=America/Los_Angeles:20210610T130000
DTSTAMP:20260425T080401
CREATED:20210115T233144Z
LAST-MODIFIED:20210115T233144Z
UID:5344-1623326400-1623330000@aiasb.com
SUMMARY:General Meeting
DESCRIPTION:
URL:https://aiasb.com/event/general-meeting-8/
END:VEVENT
BEGIN:VEVENT
DTSTART;TZID=America/Los_Angeles:20210609T173000
DTEND;TZID=America/Los_Angeles:20210609T183000
DTSTAMP:20260425T080401
CREATED:20210206T025458Z
LAST-MODIFIED:20210206T025458Z
UID:5485-1623259800-1623263400@aiasb.com
SUMMARY:ARE Study Group
DESCRIPTION:
URL:https://aiasb.com/event/are-study-group-2-2-2-2-2-2-2-2-2/
END:VEVENT
BEGIN:VEVENT
DTSTART;TZID=America/Los_Angeles:20210607T163000
DTEND;TZID=America/Los_Angeles:20210607T180000
DTSTAMP:20260425T080401
CREATED:20210324T182333Z
LAST-MODIFIED:20210329T195053Z
UID:5804-1623083400-1623088800@aiasb.com
SUMMARY:Advocacy
DESCRIPTION:
URL:https://aiasb.com/event/advocacy-2-2-2-2-2-2-2-2-2-2/
END:VEVENT
BEGIN:VEVENT
DTSTART;TZID=America/Los_Angeles:20210603T120000
DTEND;TZID=America/Los_Angeles:20210603T130000
DTSTAMP:20260425T080401
CREATED:20210324T173622Z
LAST-MODIFIED:20210324T173622Z
UID:5760-1622721600-1622725200@aiasb.com
SUMMARY:Equity Diversity & Inclusion
DESCRIPTION:Get involved through: Equity\, Diversity & Inclusion Committee – AIA Santa Barbara (aiasb.com)
URL:https://aiasb.com/event/equity-diversity-inclusion-2-2-2-2-2/
END:VEVENT
BEGIN:VEVENT
DTSTART;TZID=America/Los_Angeles:20210602T120000
DTEND;TZID=America/Los_Angeles:20210602T130000
DTSTAMP:20260425T080401
CREATED:20210115T233036Z
LAST-MODIFIED:20210115T233036Z
UID:5342-1622635200-1622638800@aiasb.com
SUMMARY:Board Meeting
DESCRIPTION:
URL:https://aiasb.com/event/board-meeting-5/
CATEGORIES:Board Meetings
END:VEVENT
BEGIN:VEVENT
DTSTART;TZID=America/Los_Angeles:20210601T120000
DTEND;TZID=America/Los_Angeles:20210601T130000
DTSTAMP:20260425T080401
CREATED:20210326T191439Z
LAST-MODIFIED:20210326T191439Z
UID:5876-1622548800-1622552400@aiasb.com
SUMMARY:ArchitecTours
DESCRIPTION:First Tuesday of the month contact Cash Upton if you are interested in participating
URL:https://aiasb.com/event/architectours-2-2-2/
END:VEVENT
BEGIN:VEVENT
DTSTART;TZID=America/Los_Angeles:20210531T163000
DTEND;TZID=America/Los_Angeles:20210531T180000
DTSTAMP:20260425T080401
CREATED:20210324T182502Z
LAST-MODIFIED:20210329T194951Z
UID:5806-1622478600-1622484000@aiasb.com
SUMMARY:Advocacy
DESCRIPTION:
URL:https://aiasb.com/event/advocacy-2-2-2-2-2-2-2-2-2/
END:VEVENT
BEGIN:VEVENT
DTSTART;TZID=America/Los_Angeles:20210526T173000
DTEND;TZID=America/Los_Angeles:20210526T183000
DTSTAMP:20260425T080401
CREATED:20210206T025342Z
LAST-MODIFIED:20210206T025342Z
UID:5483-1622050200-1622053800@aiasb.com
SUMMARY:ARE Study Group
DESCRIPTION:
URL:https://aiasb.com/event/are-study-group-2-2-2-2-2-2-2-2/
END:VEVENT
BEGIN:VEVENT
DTSTART;TZID=America/Los_Angeles:20210526T120000
DTEND;TZID=America/Los_Angeles:20210526T130000
DTSTAMP:20260425T080401
CREATED:20210422T182902Z
LAST-MODIFIED:20210422T182933Z
UID:6101-1622030400-1622034000@aiasb.com
SUMMARY:Design Awards:  Submit Like a Pro
DESCRIPTION:A panel of previous Design Awards Recipients will present best practices for how to submit entries to AIA Santa Barbara 2021 Design Awards.  A 2030 Commitment expert will also talk about highlighting sustainability aspects of the project.
URL:https://aiasb.com/event/design-awards-submit-like-a-pro/
END:VEVENT
BEGIN:VEVENT
DTSTART;TZID=America/Los_Angeles:20210524T163000
DTEND;TZID=America/Los_Angeles:20210524T180000
DTSTAMP:20260425T080401
CREATED:20210324T182247Z
LAST-MODIFIED:20210329T194846Z
UID:5802-1621873800-1621879200@aiasb.com
SUMMARY:Advocacy
DESCRIPTION:
URL:https://aiasb.com/event/advocacy-2-2-2-2-2-2-2-2/
END:VEVENT
BEGIN:VEVENT
DTSTART;TZID=America/Los_Angeles:20210520T173000
DTEND;TZID=America/Los_Angeles:20210520T190000
DTSTAMP:20260425T080401
CREATED:20210326T190229Z
LAST-MODIFIED:20210329T193638Z
UID:5870-1621531800-1621537200@aiasb.com
SUMMARY:Sustainability Committee
DESCRIPTION:Contact info@aiasb.com if you would like to participate
URL:https://aiasb.com/event/sustainability-committee-2/
END:VEVENT
BEGIN:VEVENT
DTSTART;TZID=America/Los_Angeles:20210520T120000
DTEND;TZID=America/Los_Angeles:20210520T130000
DTSTAMP:20260425T080401
CREATED:20210324T173553Z
LAST-MODIFIED:20210324T173553Z
UID:5758-1621512000-1621515600@aiasb.com
SUMMARY:Equity Diversity & Inclusion
DESCRIPTION:Get involved through: Equity\, Diversity & Inclusion Committee – AIA Santa Barbara (aiasb.com)
URL:https://aiasb.com/event/equity-diversity-inclusion-2-2-2-2/
END:VEVENT
BEGIN:VEVENT
DTSTART;TZID=America/Los_Angeles:20210520T120000
DTEND;TZID=America/Los_Angeles:20210520T130000
DTSTAMP:20260425T080401
CREATED:20210115T232913Z
LAST-MODIFIED:20210115T232913Z
UID:5340-1621512000-1621515600@aiasb.com
SUMMARY:Executive Committee Meeting
DESCRIPTION:
URL:https://aiasb.com/event/executive-committee-meeting-12/
END:VEVENT
BEGIN:VEVENT
DTSTART;TZID=America/Los_Angeles:20210519T120000
DTEND;TZID=America/Los_Angeles:20210519T130000
DTSTAMP:20260425T080401
CREATED:20210503T183203Z
LAST-MODIFIED:20210506T183337Z
UID:6174-1621425600-1621429200@aiasb.com
SUMMARY:Supporting Green Lifestyles with Technology Systems
DESCRIPTION:
URL:https://aiasb.com/event/supporting-green-lifestyles-with-technology-systems/
END:VEVENT
BEGIN:VEVENT
DTSTART;TZID=America/Los_Angeles:20210518T170000
DTEND;TZID=America/Los_Angeles:20210518T170000
DTSTAMP:20260425T080401
CREATED:20210115T232829Z
LAST-MODIFIED:20210115T232829Z
UID:5338-1621357200-1621357200@aiasb.com
SUMMARY:Women's Conversation Group
DESCRIPTION:
URL:https://aiasb.com/event/womens-conversation-group-15/
END:VEVENT
BEGIN:VEVENT
DTSTART;TZID=America/Los_Angeles:20210517T163000
DTEND;TZID=America/Los_Angeles:20210517T180000
DTSTAMP:20260425T080401
CREATED:20210324T182216Z
LAST-MODIFIED:20210329T194830Z
UID:5800-1621269000-1621274400@aiasb.com
SUMMARY:Advocacy
DESCRIPTION:
URL:https://aiasb.com/event/advocacy-2-2-2-2-2-2-2/
END:VEVENT
BEGIN:VEVENT
DTSTART;TZID=America/Los_Angeles:20210512T173000
DTEND;TZID=America/Los_Angeles:20210512T183000
DTSTAMP:20260425T080401
CREATED:20210206T025240Z
LAST-MODIFIED:20210206T025240Z
UID:5481-1620840600-1620844200@aiasb.com
SUMMARY:ARE Study Group
DESCRIPTION:
URL:https://aiasb.com/event/are-study-group-2-2-2-2-2-2-2/
END:VEVENT
BEGIN:VEVENT
DTSTART;TZID=America/Los_Angeles:20210512T120000
DTEND;TZID=America/Los_Angeles:20210512T130000
DTSTAMP:20260425T080401
CREATED:20210113T194339Z
LAST-MODIFIED:20210113T194339Z
UID:5311-1620820800-1620824400@aiasb.com
SUMMARY:Integrated Design Process & Commissioning for Non-Residential
DESCRIPTION:We’ll go through the top 10 compliance areas that frequently snag a plan review for nonresidential energy code compliance\, and discuss how to get it right the first time. Whether you’re an applicant or a plan checker\, you’ll want to know what to look for\, how to avoid common mistakes and how to make sure you have accurate compliance forms. Discussion will include building commissioning (Cx)\, a process to ensure that non-residential buildings perform and operate as designed. Rather than seeing Cx as one more burden\, we’ll talk about efficiently meeting the requirements and enjoying the short-term and long-term benefits. \nNote: This course is 2 hours and can be offered in 2 parts or 1 longer session. \nLearning Objectives \no Differentiate which building and construction components are correctly \ndemonstrated or modeled in compliance forms \no Prioritize work flow when time and resources are constrained \no Understand commissioning in Title 24 Energy Code and CAL Green \no Review the Cx Documents and milestone schedule \nPage 3 \no Be able to communicate the benefits of the Cx process\, including stories from the \nfield \n 
URL:https://aiasb.com/event/integrated-design-process-commissioning-for-non-residential/
END:VEVENT
BEGIN:VEVENT
DTSTART;TZID=America/Los_Angeles:20210510T163000
DTEND;TZID=America/Los_Angeles:20210510T180000
DTSTAMP:20260425T080401
CREATED:20210324T182045Z
LAST-MODIFIED:20210329T194817Z
UID:5798-1620664200-1620669600@aiasb.com
SUMMARY:Advocacy
DESCRIPTION:
URL:https://aiasb.com/event/advocacy-2-2-2-2-2-2/
END:VEVENT
BEGIN:VEVENT
DTSTART;TZID=America/Los_Angeles:20210506T120000
DTEND;TZID=America/Los_Angeles:20210506T130000
DTSTAMP:20260425T080401
CREATED:20210324T173526Z
LAST-MODIFIED:20210324T173526Z
UID:5756-1620302400-1620306000@aiasb.com
SUMMARY:Equity Diversity & Inclusion
DESCRIPTION:Get involved through: Equity\, Diversity & Inclusion Committee – AIA Santa Barbara (aiasb.com)
URL:https://aiasb.com/event/equity-diversity-inclusion-2-2-2/
END:VEVENT
END:VCALENDAR