BEGIN:VCALENDAR
VERSION:2.0
PRODID:-//AIA Santa Barbara - ECPv6.15.20//NONSGML v1.0//EN
CALSCALE:GREGORIAN
METHOD:PUBLISH
X-WR-CALNAME:AIA Santa Barbara
X-ORIGINAL-URL:https://aiasb.com
X-WR-CALDESC:Events for AIA Santa Barbara
REFRESH-INTERVAL;VALUE=DURATION:PT1H
X-Robots-Tag:noindex
X-PUBLISHED-TTL:PT1H
BEGIN:VTIMEZONE
TZID:America/Los_Angeles
BEGIN:DAYLIGHT
TZOFFSETFROM:-0800
TZOFFSETTO:-0700
TZNAME:PDT
DTSTART:20190310T100000
END:DAYLIGHT
BEGIN:STANDARD
TZOFFSETFROM:-0700
TZOFFSETTO:-0800
TZNAME:PST
DTSTART:20191103T090000
END:STANDARD
BEGIN:DAYLIGHT
TZOFFSETFROM:-0800
TZOFFSETTO:-0700
TZNAME:PDT
DTSTART:20200308T100000
END:DAYLIGHT
BEGIN:STANDARD
TZOFFSETFROM:-0700
TZOFFSETTO:-0800
TZNAME:PST
DTSTART:20201101T090000
END:STANDARD
BEGIN:DAYLIGHT
TZOFFSETFROM:-0800
TZOFFSETTO:-0700
TZNAME:PDT
DTSTART:20210314T100000
END:DAYLIGHT
BEGIN:STANDARD
TZOFFSETFROM:-0700
TZOFFSETTO:-0800
TZNAME:PST
DTSTART:20211107T090000
END:STANDARD
BEGIN:DAYLIGHT
TZOFFSETFROM:-0800
TZOFFSETTO:-0700
TZNAME:PDT
DTSTART:20220313T100000
END:DAYLIGHT
BEGIN:STANDARD
TZOFFSETFROM:-0700
TZOFFSETTO:-0800
TZNAME:PST
DTSTART:20221106T090000
END:STANDARD
END:VTIMEZONE
BEGIN:VEVENT
DTSTART;TZID=America/Los_Angeles:20210318T120000
DTEND;TZID=America/Los_Angeles:20210318T130000
DTSTAMP:20260425T205358
CREATED:20210115T232503Z
LAST-MODIFIED:20210115T232503Z
UID:5334-1616068800-1616072400@aiasb.com
SUMMARY:Executive Committee Meeting
DESCRIPTION:
URL:https://aiasb.com/event/executive-committee-meeting-11/
END:VEVENT
BEGIN:VEVENT
DTSTART;TZID=America/Los_Angeles:20210317T173000
DTEND;TZID=America/Los_Angeles:20210317T183000
DTSTAMP:20260425T205358
CREATED:20210203T201728Z
LAST-MODIFIED:20210206T024634Z
UID:5462-1616002200-1616005800@aiasb.com
SUMMARY:ARE Study Group
DESCRIPTION:
URL:https://aiasb.com/event/are-study-group-2-2-2/
END:VEVENT
BEGIN:VEVENT
DTSTART;TZID=America/Los_Angeles:20210317T120000
DTEND;TZID=America/Los_Angeles:20210317T130000
DTSTAMP:20260425T205358
CREATED:20210129T221703Z
LAST-MODIFIED:20210129T222521Z
UID:5439-1615982400-1615986000@aiasb.com
SUMMARY:Advancements of Oversized Windows and Skylights
DESCRIPTION:Speaker:   Brian Johnson \nThe technology of the glass industry is evolving rapidly as natural disaster threats increase\, terroristic concerns\ncontinue to be significant\, and the design community continues to push the limits of what is possible. \nThis course will cover the evolution of glass over the past 5 years\, a new generation of specialty windows and\nskylights which offer the ability to passively withstand impact\, fire\, and extreme conditions\, as well as push the limits\nof size as it pertains to oversized applications. \nUpon completion of this course\, the participants will have a thorough understanding of the new applications and\nspecifications for oversized\, impact\, fire rated and specialty window systems and skylights that can be applied today in\nthe rapidly evolving construction industry. \n 
URL:https://aiasb.com/event/advancements-of-oversized-windows-and-skylights/
END:VEVENT
BEGIN:VEVENT
DTSTART;TZID=America/Los_Angeles:20210316T170000
DTEND;TZID=America/Los_Angeles:20210316T180000
DTSTAMP:20260425T205358
CREATED:20210115T232411Z
LAST-MODIFIED:20210310T204243Z
UID:5332-1615914000-1615917600@aiasb.com
SUMMARY:Women's Conversation Group
DESCRIPTION:AIA Santa Barbara is inviting you to a scheduled Zoom meeting. \nTopic: Women’s Conversation Group\nTime: Mar 16\, 2021 05:00 PM Pacific Time (US and Canada) \nJoin Zoom Meeting\nhttps://us02web.zoom.us/j/85008059159?pwd=bVFkekdpRGJIRGZpdkE5OXFxTDMzQT09 \nMeeting ID: 850 0805 9159\nPasscode: 292585\nOne tap mobile\n+16699009128\,\,85008059159#\,\,\,\,*292585# US (San Jose)\n+13462487799\,\,85008059159#\,\,\,\,*292585# US (Houston) \nDial by your location\n+1 669 900 9128 US (San Jose)\n+1 346 248 7799 US (Houston)\n+1 253 215 8782 US (Tacoma)\n+1 312 626 6799 US (Chicago)\n+1 646 558 8656 US (New York)\n+1 301 715 8592 US (Washington DC)\nMeeting ID: 850 0805 9159\nPasscode: 292585\nFind your local number: https://us02web.zoom.us/u/kcKsSvYO7M \n 
URL:https://aiasb.com/event/womens-conversation-group-13/
END:VEVENT
BEGIN:VEVENT
DTSTART;TZID=America/Los_Angeles:20210311T120000
DTEND;TZID=America/Los_Angeles:20210311T130000
DTSTAMP:20260425T205358
CREATED:20210210T185830Z
LAST-MODIFIED:20210301T204648Z
UID:5525-1615464000-1615467600@aiasb.com
SUMMARY:Sustainability: Future Proofing your Business
DESCRIPTION:We are living in unprecedented times where climate change is front and center. With the City Council’s recent nod to prepare an ordinance requiring all-electric construction for new buildings\, now is the time to start future proofing your projects. Stay ahead of the game and hear how the Sustainability Committee can help keep you informed and offer relevant tools for reducing overall emissions while increasing the value of your projects. \nPresenters are the AIASB Sustainability  committee chairs:  Ed de Vicente\, AIA and Dee Carrawan\, AIA \n-Attendees will be introduced to the AIASB sustainability website page to members at-large\, showing the various ways they can be educated\, engaged and updated as well as resources to help their firm be more sustainable \n– Attendees will share best practices on moving towards all electric construction \n– Attendees will review local\, state and national trainings that are available \n– Attendees will hear about current committee advocacy efforts – including all electric reach code \n  \nMembers: $0.00 \nNon-Members: $15.00 \n 
URL:https://aiasb.com/event/sustainability-future-proofing-your-business/
CATEGORIES:General Meetings
END:VEVENT
BEGIN:VEVENT
DTSTART;TZID=America/Los_Angeles:20210304T120000
DTEND;TZID=America/Los_Angeles:20210304T130000
DTSTAMP:20260425T205358
CREATED:20210210T182742Z
LAST-MODIFIED:20210210T183351Z
UID:5519-1614859200-1614862800@aiasb.com
SUMMARY:Design Awards Committee Meeting
DESCRIPTION:
URL:https://aiasb.com/event/design-awards-committee-meeting-2/
END:VEVENT
BEGIN:VEVENT
DTSTART;TZID=America/Los_Angeles:20210303T173000
DTEND;TZID=America/Los_Angeles:20210303T183000
DTSTAMP:20260425T205358
CREATED:20210203T201629Z
LAST-MODIFIED:20210206T024515Z
UID:5460-1614792600-1614796200@aiasb.com
SUMMARY:ARE Study Group
DESCRIPTION:
URL:https://aiasb.com/event/are-study-group-2-2/
END:VEVENT
BEGIN:VEVENT
DTSTART;TZID=America/Los_Angeles:20210303T150000
DTEND;TZID=America/Los_Angeles:20210303T160000
DTSTAMP:20260425T205358
CREATED:20210205T134808Z
LAST-MODIFIED:20210205T134808Z
UID:5466-1614783600-1614787200@aiasb.com
SUMMARY:Women in Construction
DESCRIPTION:
URL:https://aiasb.com/event/women-in-construction/
END:VEVENT
BEGIN:VEVENT
DTSTART;TZID=America/Los_Angeles:20210303T113000
DTEND;TZID=America/Los_Angeles:20210303T123000
DTSTAMP:20260425T205358
CREATED:20210115T232238Z
LAST-MODIFIED:20210115T232238Z
UID:5328-1614771000-1614774600@aiasb.com
SUMMARY:Board Meeting
DESCRIPTION:
URL:https://aiasb.com/event/board-meeting-3/
CATEGORIES:Board Meetings
END:VEVENT
BEGIN:VEVENT
DTSTART;TZID=America/Los_Angeles:20210225T120000
DTEND;TZID=America/Los_Angeles:20210225T130000
DTSTAMP:20260425T205358
CREATED:20210115T232154Z
LAST-MODIFIED:20210115T232154Z
UID:5326-1614254400-1614258000@aiasb.com
SUMMARY:Executive Committee Meeting
DESCRIPTION:
URL:https://aiasb.com/event/executive-committee-meeting-10/
END:VEVENT
BEGIN:VEVENT
DTSTART;TZID=America/Los_Angeles:20210224T120000
DTEND;TZID=America/Los_Angeles:20210224T130000
DTSTAMP:20260425T205358
CREATED:20210129T205239Z
LAST-MODIFIED:20210129T205239Z
UID:5430-1614168000-1614171600@aiasb.com
SUMMARY:2030 Commitment
DESCRIPTION:1LU/HSW \nMembers:  no charge \nNon members:  $15. \nThe presentation will provide insights into the AIA 2030 Commitment and Architectural Practice as well as how to sign up for the 2030 Commitment as a transformative tool by the architect in designing architectural buildings. The workshop provides a hands-on review of the Firms Sustainability Action Plan (SAP) and the AIA COTE’s Framework for Design Excellence and the Common application for Design Excellence. \n\nBest Practices used to document data used for reporting online in California\, i.e.\, the Design Data Exchange (DDx)\, use of Zero Tool\, et al\, and other Lessons Learned during the process to achieve NZ Carbon and or Code compliances. \n\nAll architects have an important role to play in mitigating climate change. This session’s content will apply to all types of architectural work: small to large\, residential and commercial\, interiors and whole building\, new construction and renovation. \n  \nhttps://www.eventbrite.com/e/designing-for-excellence-and-addressing-climate-change-tickets-138687661529
URL:https://aiasb.com/event/2030-commitment/
END:VEVENT
BEGIN:VEVENT
DTSTART;TZID=America/Los_Angeles:20210223T120000
DTEND;TZID=America/Los_Angeles:20210223T130000
DTSTAMP:20260425T205358
CREATED:20210210T172837Z
LAST-MODIFIED:20210210T173719Z
UID:5511-1614081600-1614085200@aiasb.com
SUMMARY:Discussion on issues encountered in application submittal and plan check
DESCRIPTION:The Chief Building Official with the County of Santa Barbara will be presenting helpful tips on how to submit plan check to the County\, common mistakes made and how to overcome challenges. \nArchitects will have the opportunity to ask questions and get their questions answered. \n 
URL:https://aiasb.com/event/discussion-on-issues-encountered-in-application-submittal-and-plan-check/
END:VEVENT
BEGIN:VEVENT
DTSTART;TZID=America/Los_Angeles:20210223T120000
DTEND;TZID=America/Los_Angeles:20210223T130000
DTSTAMP:20260425T205358
CREATED:20210129T204949Z
LAST-MODIFIED:20210129T204949Z
UID:5428-1614081600-1614085200@aiasb.com
SUMMARY:Town Hall Meeting
DESCRIPTION:Town Hall Meeting with Massoud Abolhoda\, Building Official for the City of Santa Barbara \n1LU \nRegister in advance for this meeting:\nhttps://us02web.zoom.us/meeting/register/tZcucOqtqjItH9RJilalgGYe5JA6AhHsVxaI \nAfter registering\, you will receive a confirmation email containing information about joining the meeting.
URL:https://aiasb.com/event/town-hall-meeting/
END:VEVENT
BEGIN:VEVENT
DTSTART;TZID=America/Los_Angeles:20210218T170000
DTEND;TZID=America/Los_Angeles:20210218T180000
DTSTAMP:20260425T205358
CREATED:20210210T182435Z
LAST-MODIFIED:20210210T182435Z
UID:5517-1613667600-1613671200@aiasb.com
SUMMARY:Sponsorship Appreciation Happy Hour
DESCRIPTION:
URL:https://aiasb.com/event/sponsorship-appreciation-happy-hour/
END:VEVENT
BEGIN:VEVENT
DTSTART;TZID=America/Los_Angeles:20210218T120000
DTEND;TZID=America/Los_Angeles:20210218T130000
DTSTAMP:20260425T205358
CREATED:20210210T182350Z
LAST-MODIFIED:20210210T182350Z
UID:5515-1613649600-1613653200@aiasb.com
SUMMARY:Design Awards Committee Meeting
DESCRIPTION:
URL:https://aiasb.com/event/design-awards-committee-meeting/
END:VEVENT
BEGIN:VEVENT
DTSTART;TZID=America/Los_Angeles:20210217T173000
DTEND;TZID=America/Los_Angeles:20210217T183000
DTSTAMP:20260425T205358
CREATED:20210203T201523Z
LAST-MODIFIED:20210206T024440Z
UID:5458-1613583000-1613586600@aiasb.com
SUMMARY:ARE Study Group
DESCRIPTION:
URL:https://aiasb.com/event/are-study-group-2/
END:VEVENT
BEGIN:VEVENT
DTSTART;VALUE=DATE:20210215
DTEND;VALUE=DATE:20210220
DTSTAMP:20260425T205358
CREATED:20210115T232026Z
LAST-MODIFIED:20210115T232026Z
UID:5324-1613347200-1613779199@aiasb.com
SUMMARY:Grassroots
DESCRIPTION:Grassroots 2021 is AIA’s premier leadership and advocacy event for chapter staff and volunteers. Join us virtually for four days of keynotes\, breakout sessions\, workshops\, and networking designed to help you become better chapter and civic leaders. You’ll learn how to stimulate change in your chapter\, firm\, and community and advocate for AIA’s legislative agenda with Members of Congress. Our theme\, “Bring It Home\,” will address critical issues facing the architecture profession\, including COVID-19\, racial injustice\, and climate change. \n  \n5LU
URL:https://aiasb.com/event/grassroots/
END:VEVENT
BEGIN:VEVENT
DTSTART;TZID=America/Los_Angeles:20210211T120000
DTEND;TZID=America/Los_Angeles:20210211T130000
DTSTAMP:20260425T205358
CREATED:20210210T182303Z
LAST-MODIFIED:20210210T182303Z
UID:5513-1613044800-1613048400@aiasb.com
SUMMARY:Sponsorship Committee Meeting
DESCRIPTION:
URL:https://aiasb.com/event/sponsorship-committee-meeting/
END:VEVENT
BEGIN:VEVENT
DTSTART;TZID=America/Los_Angeles:20210210T120000
DTEND;TZID=America/Los_Angeles:20210210T130000
DTSTAMP:20260425T205358
CREATED:20210120T205610Z
LAST-MODIFIED:20210125T213814Z
UID:5390-1612958400-1612962000@aiasb.com
SUMMARY:Lighting Fluency
DESCRIPTION:Members: $0 \nNon-Members:$15 \nBuy Tickets Here
URL:https://aiasb.com/event/lighting-fluency/
CATEGORIES:Workshops and Seminars
END:VEVENT
BEGIN:VEVENT
DTSTART;TZID=America/Los_Angeles:20210203T173000
DTEND;TZID=America/Los_Angeles:20210203T173000
DTSTAMP:20260425T205358
CREATED:20210203T201342Z
LAST-MODIFIED:20210203T201342Z
UID:5456-1612373400-1612373400@aiasb.com
SUMMARY:ARE Study Group
DESCRIPTION:
URL:https://aiasb.com/event/are-study-group/
END:VEVENT
BEGIN:VEVENT
DTSTART;TZID=America/Los_Angeles:20210203T113000
DTEND;TZID=America/Los_Angeles:20210203T123000
DTSTAMP:20260425T205358
CREATED:20210115T231724Z
LAST-MODIFIED:20210115T231724Z
UID:5322-1612351800-1612355400@aiasb.com
SUMMARY:Board Meeting
DESCRIPTION:
URL:https://aiasb.com/event/board-meeting/
CATEGORIES:Board Meetings
END:VEVENT
BEGIN:VEVENT
DTSTART;TZID=America/Los_Angeles:20210127T120000
DTEND;TZID=America/Los_Angeles:20210127T130000
DTSTAMP:20260425T205358
CREATED:20210115T231620Z
LAST-MODIFIED:20210115T231620Z
UID:5320-1611748800-1611752400@aiasb.com
SUMMARY:Executive Committee Meeting
DESCRIPTION:
URL:https://aiasb.com/event/executive-committee-meeting-9/
END:VEVENT
BEGIN:VEVENT
DTSTART;TZID=America/Los_Angeles:20210126T120000
DTEND;TZID=America/Los_Angeles:20210126T130000
DTSTAMP:20260425T205358
CREATED:20210113T193328Z
LAST-MODIFIED:20210113T193328Z
UID:5305-1611662400-1611666000@aiasb.com
SUMMARY:Intro to Higher Performance Building on the Central Coast
DESCRIPTION:Jump into higher performance building with this introductory course addressing easy ways to design and build for safety\, health and cost savings. We will review residential\, multifamily and small commercial construction systems\, emphasizing both design considerations and implementation in the field. Emphasis will be on the Central Coast and similar climates. \nLearning Objectives: \no Understand air tightness\, ventilation\, and performance metrics \no Build awareness of thermal bridging and insulation to improve efficiency \no Be able to differentiate window specifications for daylighting and energy \nperformance \no Learn how to incorporate Zero Net Energy strategies through use of heat pumps \nand other all-electric systems. \n 
URL:https://aiasb.com/event/intro-to-higher-performance-building-on-the-central-coast/
END:VEVENT
BEGIN:VEVENT
DTSTART;TZID=America/Los_Angeles:20210120T120000
DTEND;TZID=America/Los_Angeles:20210120T130000
DTSTAMP:20260425T205358
CREATED:20201221T200125Z
LAST-MODIFIED:20201221T200125Z
UID:5249-1611144000-1611147600@aiasb.com
SUMMARY:Stormwater Management Systems
DESCRIPTION:Learn about designs of some of the most extensive\, reliable\, and versatile lines of channel drains\, grates\, and water management products and solutions in the industry. Presentation for engineers and designers looking for performance-based specifications. \nRegister here
URL:https://aiasb.com/event/stormwater-management-systems/
END:VEVENT
BEGIN:VEVENT
DTSTART;TZID=America/Los_Angeles:20210112T170000
DTEND;TZID=America/Los_Angeles:20210112T180000
DTSTAMP:20260425T205358
CREATED:20210111T205307Z
LAST-MODIFIED:20210111T225956Z
UID:5294-1610470800-1610474400@aiasb.com
SUMMARY:Woman's Group
DESCRIPTION:https://us02web.zoom.us/j/82137713416?pwd=NVpyWHNmdDFHT05QMzFaaFAwOSt0QT09 \nMeeting ID: 821 3771 3416\nPasscode: 174848\nOne tap mobile\n+16699009128\,\,82137713416#\,\,\,\,*174848# US (San Jose)\n+12532158782\,\,82137713416#\,\,\,\,*174848# US (Tacoma) \nDial by your location\n+1 669 900 9128 US (San Jose)\n+1 253 215 8782 US (Tacoma)\n+1 346 248 7799 US (Houston)\n+1 646 558 8656 US (New York)\n+1 301 715 8592 US (Washington D.C)\n+1 312 626 6799 US (Chicago)\nMeeting ID: 821 3771 3416\nPasscode: 174848\nFind your local number: https://us02web.zoom.us/u/kcVjLrKPF6
URL:https://aiasb.com/event/womans-group/
END:VEVENT
BEGIN:VEVENT
DTSTART;TZID=America/Los_Angeles:20201218T120000
DTEND;TZID=America/Los_Angeles:20201218T130000
DTSTAMP:20260425T205358
CREATED:20200121T181136Z
LAST-MODIFIED:20200121T181136Z
UID:4044-1608292800-1608296400@aiasb.com
SUMMARY:Executive Committee Meeting
DESCRIPTION:
URL:https://aiasb.com/event/executive-committee-meeting-9-2-2-2-2-2-2-2-2/
LOCATION:AIA Santa Barbara\, 229 E Victoria St\, Santa Barbara\, CA\, 93101\, United States
END:VEVENT
BEGIN:VEVENT
DTSTART;TZID=America/Los_Angeles:20201216T120000
DTEND;TZID=America/Los_Angeles:20201216T130000
DTSTAMP:20260425T205358
CREATED:20201111T194202Z
LAST-MODIFIED:20201111T194202Z
UID:5119-1608120000-1608123600@aiasb.com
SUMMARY:Building technology – how Modular Building is changing Single Family Residential Construction
DESCRIPTION:Construction costs are increasing\, skilled labor is in decline\, and the permitting process is becoming more stringent and time consuming.  These factors require a paradigm shift in residential construction.  New developments in modular\, factory built homes are a viable solution to the problem.  Join us for a discussion about how factory built homes can accommodate any level of customization while being permitted and built faster than their stick built counterparts.  We’ll cover how you can tap into the state permitting process as well as how modular homes can apply to complete custom designs\, ADU’s and even remodel/additions. \nPresented by Bryan Henson of Bevyhouse \nAfter leading an innovative\, high-end construction company for over 12 years\, Bryan Henson formed Bevyhouse as a solution to the increasing cost\, time and client fatigue associated with custom home building.  Bevyhouse’s mission is to provide high quality\, beautiful homes that are faster and more cost effective than traditional building practices.  Bevyhouse exists to partner with architects and designers to design\, fabricate and install custom homes using a suite of pre-engineered components to deliver custom projects with factory precision and efficiency. \n 
URL:https://aiasb.com/event/building-technology-how-modular-building-is-changing-single-family-residential-construction/
END:VEVENT
BEGIN:VEVENT
DTSTART;TZID=America/Los_Angeles:20201203T170000
DTEND;TZID=America/Los_Angeles:20201203T180000
DTSTAMP:20260425T205358
CREATED:20201111T200239Z
LAST-MODIFIED:20201111T200239Z
UID:5124-1607014800-1607018400@aiasb.com
SUMMARY:AIASB Gala
DESCRIPTION:
URL:https://aiasb.com/event/aiasb-gala/
END:VEVENT
BEGIN:VEVENT
DTSTART;TZID=America/Los_Angeles:20201202T120000
DTEND;TZID=America/Los_Angeles:20201202T130000
DTSTAMP:20260425T205358
CREATED:20200120T191215Z
LAST-MODIFIED:20200120T191215Z
UID:3990-1606910400-1606914000@aiasb.com
SUMMARY:Board Meeting
DESCRIPTION:
URL:https://aiasb.com/event/board-meeting-2-2-2-2-2-3/
LOCATION:AIA Santa Barbara\, 229 E Victoria St\, Santa Barbara\, CA\, 93101\, United States
CATEGORIES:Board Meetings
END:VEVENT
BEGIN:VEVENT
DTSTART;TZID=America/Los_Angeles:20201120T120000
DTEND;TZID=America/Los_Angeles:20201120T130000
DTSTAMP:20260425T205358
CREATED:20200121T180945Z
LAST-MODIFIED:20200121T180945Z
UID:4042-1605873600-1605877200@aiasb.com
SUMMARY:Executive Committee Meeting
DESCRIPTION:
URL:https://aiasb.com/event/executive-committee-meeting-9-2-2-2-2-2-2-2/
LOCATION:AIA Santa Barbara\, 229 E Victoria St\, Santa Barbara\, CA\, 93101\, United States
END:VEVENT
END:VCALENDAR