BEGIN:VCALENDAR
VERSION:2.0
PRODID:-//AIA Santa Barbara - ECPv6.15.20//NONSGML v1.0//EN
CALSCALE:GREGORIAN
METHOD:PUBLISH
X-WR-CALNAME:AIA Santa Barbara
X-ORIGINAL-URL:https://aiasb.com
X-WR-CALDESC:Events for AIA Santa Barbara
REFRESH-INTERVAL;VALUE=DURATION:PT1H
X-Robots-Tag:noindex
X-PUBLISHED-TTL:PT1H
BEGIN:VTIMEZONE
TZID:America/Los_Angeles
BEGIN:DAYLIGHT
TZOFFSETFROM:-0800
TZOFFSETTO:-0700
TZNAME:PDT
DTSTART:20240310T100000
END:DAYLIGHT
BEGIN:STANDARD
TZOFFSETFROM:-0700
TZOFFSETTO:-0800
TZNAME:PST
DTSTART:20241103T090000
END:STANDARD
BEGIN:DAYLIGHT
TZOFFSETFROM:-0800
TZOFFSETTO:-0700
TZNAME:PDT
DTSTART:20250309T100000
END:DAYLIGHT
BEGIN:STANDARD
TZOFFSETFROM:-0700
TZOFFSETTO:-0800
TZNAME:PST
DTSTART:20251102T090000
END:STANDARD
BEGIN:DAYLIGHT
TZOFFSETFROM:-0800
TZOFFSETTO:-0700
TZNAME:PDT
DTSTART:20260308T100000
END:DAYLIGHT
BEGIN:STANDARD
TZOFFSETFROM:-0700
TZOFFSETTO:-0800
TZNAME:PST
DTSTART:20261101T090000
END:STANDARD
END:VTIMEZONE
BEGIN:VEVENT
DTSTART;TZID=America/Los_Angeles:20250610T183000
DTEND;TZID=America/Los_Angeles:20250610T200000
DTSTAMP:20260423T172140
CREATED:20250114T205239Z
LAST-MODIFIED:20250610T223613Z
UID:10357-1749580200-1749585600@aiasb.com
SUMMARY:Emerging Professionals ARE Study Prep
DESCRIPTION:Open to all! \nStudy groups occur every 2 weeks.
URL:https://aiasb.com/event/emerging-professionals-are-study-prep-2-2-2-2-3-2-3-2-2/
LOCATION:AIA Santa Barbara\, 229 E Victoria St\, Santa Barbara\, CA\, 93101\, United States
END:VEVENT
BEGIN:VEVENT
DTSTART;TZID=America/Los_Angeles:20250603T173000
DTEND;TZID=America/Los_Angeles:20250603T184500
DTSTAMP:20260423T172140
CREATED:20250114T201602Z
LAST-MODIFIED:20250508T164803Z
UID:10317-1748971800-1748976300@aiasb.com
SUMMARY:Watercolor Class with Alex Stypa
DESCRIPTION:Tuesday\, June 3rd @ 5:30 PM\nWatercolor Class with Alexis Stypa\nhttps://www.stypastudio.com/ 
URL:https://aiasb.com/event/june-women-in-architecture/
LOCATION:CA
END:VEVENT
BEGIN:VEVENT
DTSTART;TZID=America/Los_Angeles:20250522T160000
DTEND;TZID=America/Los_Angeles:20250522T183000
DTSTAMP:20260423T172140
CREATED:20250513T173129Z
LAST-MODIFIED:20250513T173129Z
UID:10670-1747929600-1747938600@aiasb.com
SUMMARY:Hard Hat Tour: Romero Canyon Residence
DESCRIPTION:Romero Canyon Residence\nNestled into an 11-acre site\, this Hacienda style Spanish Colonia Revival residence\, which was originally built in 1930\, still retains much of the character from its original design. A central courtyard links together a series of 5 bedrooms\, a service hall with kitchen and dining\, and a living room that steps out to a south-facing terrace with spectacular ocean views. While performing much needed repairs and bringing in elements of modern conveniences\, the owners made it clear that they intend to maintain\, and in some cases restore\, those features that embody the character that enticed them in the first place. In the process of renovating this residence\, we were called to embrace the imperfections and subtle details. \nTour will be led by Richard Carney\, Erika Kessler\, and Paul Rubison \n\nArchitect & Landscape Architect: Appleton Partners\, LLP\nContractor: DD Ford\nInterior Designer: Kathryn Ireland
URL:https://aiasb.com/event/romero-canyon-hard-hat-tour/
LOCATION:CA
CATEGORIES:Emerging Professionals
END:VEVENT
BEGIN:VEVENT
DTSTART;TZID=America/Los_Angeles:20250521T120000
DTEND;TZID=America/Los_Angeles:20250521T130000
DTSTAMP:20260423T172140
CREATED:20250422T174733Z
LAST-MODIFIED:20250422T174802Z
UID:10623-1747828800-1747832400@aiasb.com
SUMMARY:Floodproofing Lunch & Learn
DESCRIPTION:Floodplain Design\, Construction\, and Impacts on Flood Insurance\n1 LU/HSW \nLunch Provided! No charge for members \nThis course provides insight into the importance of proper foundation flood vents and dry floodproofing techniques for buildings located in a flood zone. It will identify FEMA Technical Bulletins 1\, 2\, and 3\, the National Flood Insurance Program\, ASCE 24-14\, ICC\, and Building Code regulations and standards as they relate to sustaining foundations and overall business continuity in flood hazard areas. The course will also analyze the role of building compliance in securing lowering flood insurance rates and what mitigationsolutions are available for both residential and non residential structures. After the course\, participants will have a thorough understanding of floodproofing options and the important role they play in designing a sustainable structure. \nLEARNING OBJECTIVES: \nDescribe floods and the potential hazards to buildings. \nExplain the differences between wet and dry floodproofing techniques. \nDefine the differences in engineered and non-engineered flood openings and their ability to ensure resilient structures. \nActive vs. passive floodproofing solutions and the overall impact of ownership.
URL:https://aiasb.com/event/floodproofing/
LOCATION:AIA Santa Barbara\, 229 E Victoria St\, Santa Barbara\, CA\, 93101\, United States
END:VEVENT
BEGIN:VEVENT
DTSTART;TZID=America/Los_Angeles:20250520T181500
DTEND;TZID=America/Los_Angeles:20250520T201500
DTSTAMP:20260423T172140
CREATED:20250114T205215Z
LAST-MODIFIED:20250114T205215Z
UID:10355-1747764900-1747772100@aiasb.com
SUMMARY:Emerging Professionals ARE Study Prep
DESCRIPTION:Open to all! \nStudy groups occur every 2 weeks.
URL:https://aiasb.com/event/emerging-professionals-are-study-prep-2-2-2-2-3-2-3-2/
LOCATION:AIA Santa Barbara\, 229 E Victoria St\, Santa Barbara\, CA\, 93101\, United States
END:VEVENT
BEGIN:VEVENT
DTSTART;TZID=America/Los_Angeles:20250507T160000
DTEND;TZID=America/Los_Angeles:20250507T170000
DTSTAMP:20260423T172140
CREATED:20250410T171839Z
LAST-MODIFIED:20250410T171909Z
UID:10612-1746633600-1746637200@aiasb.com
SUMMARY:Hard Hat Tour with Donaldson Plus
DESCRIPTION:Nine Fold House\nThe Nine Fold House is a residence shaped by the dynamic geology of coastal California\, where the Pacific Plate grinds against the North American Plate\, sculpting a landscape of dramatic beauty and persistent natural forces. Anchored in concrete\, its form responds to the shifting terrain\, with projected volumes framing views and extending lines into the horizon. A rhythmic organization of space encourages an indoor-outdoor experience\, allowing the hillside to flow through its voids and engage with the surrounding orchards. Inspired by abstract screenprints\, its grid carves mass with light and shadow\, reflecting the resilience and adaptability required to build in a landscape shaped by earthquakes\, wildfires\, and time itself. \nTour will be led by Robin Donaldson\, AIA & Matt Beausoleil\, AIA \n\nArchitect: Donaldson and Partners\, Robin Donaldson\, AIA\nConstruction Company: Peter McCoy Construction\nConstruction Manager: Stonemark\nLandscape Architect: GroundStudio\nInterior Designer: Madeline Suart and Associates\nStructural Engineer: Ashley and Vance.
URL:https://aiasb.com/event/donaldsonhardhattour/
LOCATION:CA
CATEGORIES:Emerging Professionals
END:VEVENT
BEGIN:VEVENT
DTSTART;TZID=America/Los_Angeles:20250506T181500
DTEND;TZID=America/Los_Angeles:20250506T201500
DTSTAMP:20260423T172140
CREATED:20250114T205126Z
LAST-MODIFIED:20250114T205153Z
UID:10353-1746555300-1746562500@aiasb.com
SUMMARY:Emerging Professionals ARE Study Prep
DESCRIPTION:Open to all! \nStudy groups occur every 2 weeks.
URL:https://aiasb.com/event/emerging-professionals-are-study-prep-2-2-2-2-3-2-3/
LOCATION:AIA Santa Barbara\, 229 E Victoria St\, Santa Barbara\, CA\, 93101\, United States
END:VEVENT
BEGIN:VEVENT
DTSTART;TZID=America/Los_Angeles:20250506T173000
DTEND;TZID=America/Los_Angeles:20250506T184500
DTSTAMP:20260423T172140
CREATED:20250114T201841Z
LAST-MODIFIED:20250407T184329Z
UID:10320-1746552600-1746557100@aiasb.com
SUMMARY:Women in Architecture
DESCRIPTION:
URL:https://aiasb.com/event/women-in-architecture-6-2-2-3/
LOCATION:CA
END:VEVENT
BEGIN:VEVENT
DTSTART;TZID=America/Los_Angeles:20250422T181500
DTEND;TZID=America/Los_Angeles:20250422T201500
DTSTAMP:20260423T172140
CREATED:20250114T205107Z
LAST-MODIFIED:20250114T205107Z
UID:10351-1745345700-1745352900@aiasb.com
SUMMARY:Emerging Professionals ARE Study Prep
DESCRIPTION:Open to all! \nStudy groups occur every 2 weeks.
URL:https://aiasb.com/event/emerging-professionals-are-study-prep-2-2-2-2-3-2-2/
LOCATION:AIA Santa Barbara\, 229 E Victoria St\, Santa Barbara\, CA\, 93101\, United States
END:VEVENT
BEGIN:VEVENT
DTSTART;TZID=America/Los_Angeles:20250417T173000
DTEND;TZID=America/Los_Angeles:20250417T193000
DTSTAMP:20260423T172140
CREATED:20250204T171634Z
LAST-MODIFIED:20250410T171535Z
UID:10447-1744911000-1744918200@aiasb.com
SUMMARY:Firm Open House at Wade Weismann Architecture
DESCRIPTION:About Wade Weissmann Architecture\nFor nearly three decades we’ve delighted in the relationships we’ve made and the architecture we’ve been privileged to bring to life. \nOur approach is decidedly hands-on and interactive.Throughout the design and construction process\, our team remains dedicated to understanding not only how you want to live but also the emotional impact your project will evoke as you move from space to space. Our purpose and passion reside in creating architectural environments so beautifully imagined you can’t recall how you once lived another way. \nThe cornerstone of our practice is our bespoke architecture work\, spanning homes\, equestrian estates\, cabins\, commercial hospitality design\, and master planning. \nOur firm is headquartered in Milwaukee\, Wisconsin with additional full-service offices in Pittsburgh\, Pennsylvania and Santa Barbara\, California\, servicing our clientele from coast to coast. \nWe work collaboratively together as one team on projects nationwide and worldwide.
URL:https://aiasb.com/event/firm-open-house-at-wwa/
LOCATION:Wade Weismann Architecture\, 1025 Castillo St\, Santa Barbara\, 93101\, United States
CATEGORIES:Emerging Professionals
END:VEVENT
BEGIN:VEVENT
DTSTART;TZID=America/Los_Angeles:20250416T120000
DTEND;TZID=America/Los_Angeles:20250416T130000
DTSTAMP:20260423T172140
CREATED:20250213T022826Z
LAST-MODIFIED:20250313T175415Z
UID:10493-1744804800-1744808400@aiasb.com
SUMMARY:Stego Industries Lunch & Learn
DESCRIPTION:Vapor Barriers – Nuisance or Necessity? \n1 LU/HSW \nLunch Provided! No charge for members \nJoin us for the next AIASB Lunch & Learn presented by Stego Industries. This event provides an in-depth look at below-slab moisture and vapor protection. The program will examine building material failures\, concrete degradation\, property loss\, negative health effects\, and the liability associated with below-slab moisture intrusion. Moreover\, the seminar is designed to update attendees on current standards and recommendations from ASTM\, ACI\, and PCA\, as well as flooring and concrete experts from the industry. Questions about vapor retarders vs. vapor barriers\, the use of poly/Visqueen\, the location of the vapor barrier\, radon gas\, concrete moisture testing\, concrete drying\, and effective installation will all be addressed. \nLEARNING OBJECTIVES: \nAfter attending the session\, attendees will know how to design an overall system to help prevent moisture related problems such as: floor covering failures\, mold issues\, concrete drying concerns\, and much more. \nAttendees will learn about the most recent standards and industry-expert recommendations in the Vapor Barrier industry\, including ASTM standards\, ACI recommendations and contributions to sustainable construction. \nIn addition\, attendees will know and be able to explain the difference between a Vapor Retarder and a Vapor Barrier and know how to specify each.
URL:https://aiasb.com/event/stego-lunch-learn/
LOCATION:AIA Santa Barbara\, 229 E Victoria St\, Santa Barbara\, CA\, 93101\, United States
END:VEVENT
BEGIN:VEVENT
DTSTART;TZID=America/Los_Angeles:20250408T181500
DTEND;TZID=America/Los_Angeles:20250408T201500
DTSTAMP:20260423T172140
CREATED:20250114T205039Z
LAST-MODIFIED:20250114T205039Z
UID:10349-1744136100-1744143300@aiasb.com
SUMMARY:Emerging Professionals ARE Study Prep
DESCRIPTION:Open to all! \nStudy groups occur every 2 weeks.
URL:https://aiasb.com/event/emerging-professionals-are-study-prep-2-2-2-2-3-2/
LOCATION:AIA Santa Barbara\, 229 E Victoria St\, Santa Barbara\, CA\, 93101\, United States
END:VEVENT
BEGIN:VEVENT
DTSTART;TZID=America/Los_Angeles:20250401T173000
DTEND;TZID=America/Los_Angeles:20250401T184500
DTSTAMP:20260423T172140
CREATED:20250114T201757Z
LAST-MODIFIED:20250407T184910Z
UID:10319-1743528600-1743533100@aiasb.com
SUMMARY:Women in Architecture
DESCRIPTION:
URL:https://aiasb.com/event/women-in-architecture-6-2-2-2/
LOCATION:CA
END:VEVENT
BEGIN:VEVENT
DTSTART;TZID=America/Los_Angeles:20250327T173000
DTEND;TZID=America/Los_Angeles:20250327T193000
DTSTAMP:20260423T172140
CREATED:20250213T022624Z
LAST-MODIFIED:20250318T180518Z
UID:10489-1743096600-1743103800@aiasb.com
SUMMARY:March Madness Mixer @ The Brass Bear
DESCRIPTION:
URL:https://aiasb.com/event/march-madness-mixer/
LOCATION:Third Window Brewing\, 406 E Haley St #3\, Santa Barbara\, CA\, 93101\, United States
END:VEVENT
BEGIN:VEVENT
DTSTART;TZID=America/Los_Angeles:20250325T181500
DTEND;TZID=America/Los_Angeles:20250325T201500
DTSTAMP:20260423T172140
CREATED:20250114T205006Z
LAST-MODIFIED:20250114T205006Z
UID:10347-1742926500-1742933700@aiasb.com
SUMMARY:Emerging Professionals ARE Study Prep
DESCRIPTION:Open to all! \nStudy groups occur every 2 weeks.
URL:https://aiasb.com/event/emerging-professionals-are-study-prep-2-2-2-2-3/
LOCATION:AIA Santa Barbara\, 229 E Victoria St\, Santa Barbara\, CA\, 93101\, United States
END:VEVENT
BEGIN:VEVENT
DTSTART;TZID=America/Los_Angeles:20250320T173000
DTEND;TZID=America/Los_Angeles:20250320T193000
DTSTAMP:20260423T172140
CREATED:20250204T171418Z
LAST-MODIFIED:20250225T192329Z
UID:10444-1742491800-1742499000@aiasb.com
SUMMARY:Emerging Professionals: Firm Open House at Giffin and Crane
DESCRIPTION:Learn from one of the impactful construction companies in Santa Barbara County about their collaboration with local architects and the building community.\n-Parking in the Griffin and Crane lot can accommodate 16 cars. Street parking is available in Milpas and the surrounding neighborhood. \n-Refreshments provided by the firm. \n-1 LU Available \nRegister here
URL:https://aiasb.com/event/firm-open-house-at-giffin-and-crane/
LOCATION:Giffin and Crane\, 800 N Milpas St\, Santa Barbara\, CA\, 93103\, United States
CATEGORIES:Emerging Professionals
END:VEVENT
BEGIN:VEVENT
DTSTART;TZID=America/Los_Angeles:20250312T120000
DTEND;TZID=America/Los_Angeles:20250312T130000
DTSTAMP:20260423T172140
CREATED:20250130T174636Z
LAST-MODIFIED:20250212T180646Z
UID:10428-1741780800-1741784400@aiasb.com
SUMMARY:CCAV Lunchtime Learning
DESCRIPTION:Lunchtime Learning: Designing for Residential Sustainability \n1 LU/HSW \nLunch Provided ! No charge for members \nJoin us for the next AIASB Lunchtime Learning\, presented by Central Coast AV\, and discover how light fixtures\, controls and shading can come together for a more sustainable home. This course will explore innovative techniques and technology that offer superior energy efficiency\, environmental benefits\, and design flexibility. \nLearning Objectives: \n-Understand the importance of maximizing energy efficiency and reducing consumption in sustainable design. \n-Learn strategies for minimizing hardware usage to simplify maintenance and operation while reducing resource consumption. \n-Explore the benefits of sourcing materials locally and prioritizing durable\, long-lasting materials in design projects. \n-Discover how future-proof technology and retrofitting capability contribute to adaptability and scalability in sustainable design solutions. \n-Gain insight into the significance of using sustainably-sourced or recycled materials to minimize environmental impact throughout the product lifecycle. \n  \nRegister Here
URL:https://aiasb.com/event/lunchtime-learning-4/
LOCATION:AIA Santa Barbara\, 229 E Victoria St\, Santa Barbara\, CA\, 93101\, United States
END:VEVENT
BEGIN:VEVENT
DTSTART;TZID=America/Los_Angeles:20250311T181500
DTEND;TZID=America/Los_Angeles:20250311T201500
DTSTAMP:20260423T172140
CREATED:20250114T204912Z
LAST-MODIFIED:20250114T204912Z
UID:10343-1741716900-1741724100@aiasb.com
SUMMARY:Emerging Professionals ARE Study Prep
DESCRIPTION:Open to all! \nStudy groups occur every 2 weeks.
URL:https://aiasb.com/event/emerging-professionals-are-study-prep-2-2-2-2/
LOCATION:AIA Santa Barbara\, 229 E Victoria St\, Santa Barbara\, CA\, 93101\, United States
END:VEVENT
BEGIN:VEVENT
DTSTART;TZID=America/Los_Angeles:20250304T171500
DTEND;TZID=America/Los_Angeles:20250304T184500
DTSTAMP:20260423T172140
CREATED:20250114T202455Z
LAST-MODIFIED:20250212T190045Z
UID:10333-1741108500-1741113900@aiasb.com
SUMMARY:Women in Architecture
DESCRIPTION:All welcome! \nJoin us to hear from Lauren Anderson at our March Women in Architecture event \n-Hosted by GOOD COMPANY \n-Refreshments and wine/beer will be served. \n-Street parking only\, arrive early \n-Free event\, no LU available \n-RSVP by March 3rd \n  \nLauren Anderson\nGrowing up in the heart of America\, Lauren earned her Master’s Degree in Architecture from Kansas State University\, with the enriching experience of studying abroad in Castiglion Fiorentino\, Italy. Over the past sixteen years\, she has shaped a dynamic career\, contributing to projects up and down California’s coast. Currently working with A34Studio\, her goal is to craft meaningful\, built environments that resonate with both clients and the broader community. Lauren is actively engaged in the Santa Barbara community\, including outreach programs with local students and Chair for the City’s Architectural Review Board. \n  \nRegister here!
URL:https://aiasb.com/event/women-in-architecture-march/
LOCATION:GOOD COMPANY\, 2613 De La Vina St\, Santa Barbara\, 93105\, United States
END:VEVENT
BEGIN:VEVENT
DTSTART;TZID=America/Los_Angeles:20250225T181500
DTEND;TZID=America/Los_Angeles:20250225T201500
DTSTAMP:20260423T172140
CREATED:20250114T204824Z
LAST-MODIFIED:20250114T204824Z
UID:10341-1740507300-1740514500@aiasb.com
SUMMARY:Emerging Professionals ARE Study Prep
DESCRIPTION:Open to all! \nStudy groups occur every 2 weeks.
URL:https://aiasb.com/event/emerging-professionals-are-study-prep-2-2-2/
LOCATION:AIA Santa Barbara\, 229 E Victoria St\, Santa Barbara\, CA\, 93101\, United States
END:VEVENT
BEGIN:VEVENT
DTSTART;TZID=America/Los_Angeles:20250220T173000
DTEND;TZID=America/Los_Angeles:20250220T190000
DTSTAMP:20260423T172140
CREATED:20250130T040217Z
LAST-MODIFIED:20250130T040217Z
UID:10420-1740072600-1740078000@aiasb.com
SUMMARY:Sponsorship Appreciation Reception
DESCRIPTION:
URL:https://aiasb.com/event/sponsorship-appreciation-reception/
LOCATION:CA
END:VEVENT
BEGIN:VEVENT
DTSTART;TZID=America/Los_Angeles:20250211T181500
DTEND;TZID=America/Los_Angeles:20250211T201500
DTSTAMP:20260423T172140
CREATED:20250114T204750Z
LAST-MODIFIED:20250114T204750Z
UID:10339-1739297700-1739304900@aiasb.com
SUMMARY:Emerging Professionals ARE Study Prep
DESCRIPTION:Open to all! \nStudy groups occur every 2 weeks.
URL:https://aiasb.com/event/emerging-professionals-are-study-prep-2-2/
LOCATION:AIA Santa Barbara\, 229 E Victoria St\, Santa Barbara\, CA\, 93101\, United States
END:VEVENT
BEGIN:VEVENT
DTSTART;TZID=America/Los_Angeles:20250206T170000
DTEND;TZID=America/Los_Angeles:20250206T183000
DTSTAMP:20260423T172140
CREATED:20250114T210629Z
LAST-MODIFIED:20250129T065415Z
UID:10387-1738861200-1738866600@aiasb.com
SUMMARY:Design Awards Exhibition Reception
DESCRIPTION:The Santa Barbara Chapter of the American Institute of Architects (AIA) conducts an annual juried Design Awards Program to honor architectural work. Entries were submitted in the following categories: Commercial Buildings; Single Family Residential; Mixed Use and Multi-Family Residential; Conservation Projects: Historic Preservation\, Restoration\, Rehabilitation or Reconstruction; Santa Barbara Heritage (Residential and Commercial Projects); Small Projects; Commercial Interiors; Residential Interiors; Proposed/Unbuilt Project. A select jury of three distinguished architects from outside Santa Barbara considered 3 levels of recognition for the submitted projects\, Honorable Mention\, Merit Designation and Honor Award. \nSubmissions of the 2024 Design Awards will be exhibited at Channing Peake Gallery\, February 6th through April 29th\, 2025. Reception will be held on February 6th\, 2025 at 5.00pm. \nView award recipients here. \nRegister to attend the reception.
URL:https://aiasb.com/event/design-awards-exhibition-reception-2/
LOCATION:Channing Peake Gallery\, 105 East Anapamu Street\, Santa Barbara\, CA\, 93101\, United States
END:VEVENT
BEGIN:VEVENT
DTSTART;VALUE=DATE:20250206
DTEND;VALUE=DATE:20250430
DTSTAMP:20260423T172140
CREATED:20250220T151901Z
LAST-MODIFIED:20250220T151901Z
UID:10515-1738800000-1745971199@aiasb.com
SUMMARY:Design Awards Exhibition
DESCRIPTION:The Santa Barbara Chapter of the American Institute of Architects (AIA) conducts an annual juried Design Awards Program to honor architectural work. Entries were submitted in the following categories: Commercial Buildings; Single Family Residential; Mixed Use and Multi-Family Residential; Conservation Projects: Historic Preservation\, Restoration\, Rehabilitation or Reconstruction; Santa Barbara Heritage (Residential and Commercial Projects); Small Projects; Commercial Interiors; Residential Interiors; Proposed/Unbuilt Project. A select jury of three distinguished architects from outside Santa Barbara considered 3 levels of recognition for the submitted projects\, Honorable Mention\, Merit Designation and Honor Award. \nSubmissions of the 2024 Design Awards will be exhibited at Channing Peake Gallery\, February 6th through April 29th\, 2025.  \nThe gallery is open Monday – Friday\, 8AM – 5 PM \nView award recipients here. \n 
URL:https://aiasb.com/event/design-awards-exhibition-reception-2-2/
LOCATION:Channing Peake Gallery\, 105 East Anapamu Street\, Santa Barbara\, CA\, 93101\, United States
END:VEVENT
BEGIN:VEVENT
DTSTART;TZID=America/Los_Angeles:20250204T171500
DTEND;TZID=America/Los_Angeles:20250204T184500
DTSTAMP:20260423T172140
CREATED:20250114T201313Z
LAST-MODIFIED:20250114T201659Z
UID:10314-1738689300-1738694700@aiasb.com
SUMMARY:Women in Architecture
DESCRIPTION:“Coexistence: Rethinking Architecture in the Era of Climate Crises” \nJoin us to hear from Ilaria Mazzoleni at our February Women in Architecture event \nRefreshments and wine/beer will be served. \nIlaria will share her experience as an architect\, an educator\, starting her practice\, and NAHR. She will also talk about how her professional life is this intertwined across her two homes: Italy and California.
URL:https://aiasb.com/event/women-in-architecture-6-2/
LOCATION:AIA Santa Barbara\, 229 E Victoria St\, Santa Barbara\, CA\, 93101\, United States
END:VEVENT
BEGIN:VEVENT
DTSTART;TZID=America/Los_Angeles:20250121T181500
DTEND;TZID=America/Los_Angeles:20250121T201500
DTSTAMP:20260423T172140
CREATED:20250114T204708Z
LAST-MODIFIED:20250114T204708Z
UID:10337-1737483300-1737490500@aiasb.com
SUMMARY:Emerging Professionals ARE Study Prep
DESCRIPTION:Open to all! \nStudy groups occur every 2 weeks.
URL:https://aiasb.com/event/emerging-professionals-are-study-prep-2/
LOCATION:AIA Santa Barbara\, 229 E Victoria St\, Santa Barbara\, CA\, 93101\, United States
END:VEVENT
BEGIN:VEVENT
DTSTART;TZID=America/Los_Angeles:20250115T120000
DTEND;TZID=America/Los_Angeles:20250115T130000
DTSTAMP:20260423T172140
CREATED:20241217T211336Z
LAST-MODIFIED:20250114T210930Z
UID:10188-1736942400-1736946000@aiasb.com
SUMMARY:Infratech Lunchtime Learning
DESCRIPTION:Electric Infrared Heating Systems: Creating Long-Term Sustainability \nRegister here. \n1 LU\nLunch included! No charge for members\nPresented by Infratech \nJoin us for an illuminating session on electric infrared heating systems and their critical role in creating long-term sustainability. This comprehensive course will explore innovative heating technologies that offer superior energy efficiency\, environmental benefits\, and design flexibility for both residential and commercial spaces. \nKey Learning Objectives:\n1. Discover the environmental advantages of electric infrared heaters\n2. Compare different outdoor heating options and their sustainability profiles\n3. Understand the technical features and design possibilities of infrared heating systems\n4. Learn about energy-efficient controls and mounting solutions \nParticipants will gain insights into:\n– Energy efficiency (over 90% efficient)\n– Zero emissions and eco-friendly heating solutions\n– Cost-effective installation and operation\n– Versatile design options for architects and designers
URL:https://aiasb.com/event/electric-infrared-heating-systems/
LOCATION:AIA Santa Barbara\, 229 E Victoria St\, Santa Barbara\, CA\, 93101\, United States
CATEGORIES:Lunchtime Learning
END:VEVENT
BEGIN:VEVENT
DTSTART;TZID=America/Los_Angeles:20250111T100000
DTEND;TZID=America/Los_Angeles:20250111T140000
DTSTAMP:20260423T172140
CREATED:20241222T012729Z
LAST-MODIFIED:20241222T012729Z
UID:10198-1736589600-1736604000@aiasb.com
SUMMARY:AIASB Board Retreat
DESCRIPTION:
URL:https://aiasb.com/event/board-retreat-2/
LOCATION:CA
END:VEVENT
BEGIN:VEVENT
DTSTART;TZID=America/Los_Angeles:20250107T181500
DTEND;TZID=America/Los_Angeles:20250107T201500
DTSTAMP:20260423T172140
CREATED:20250114T204544Z
LAST-MODIFIED:20250114T204544Z
UID:10335-1736273700-1736280900@aiasb.com
SUMMARY:Emerging Professionals ARE Study Prep
DESCRIPTION:Open to all! \nStudy groups occur every 2 weeks.
URL:https://aiasb.com/event/emerging-professionals-are-study-prep/
LOCATION:AIA Santa Barbara\, 229 E Victoria St\, Santa Barbara\, CA\, 93101\, United States
END:VEVENT
BEGIN:VEVENT
DTSTART;TZID=America/Los_Angeles:20250107T171500
DTEND;TZID=America/Los_Angeles:20250107T184500
DTSTAMP:20260423T172140
CREATED:20241210T214159Z
LAST-MODIFIED:20241217T211439Z
UID:10181-1736270100-1736275500@aiasb.com
SUMMARY:Women in Architecture
DESCRIPTION:Join us to hear from Lorie Dewhirst Porter at our first Women in Architecture event of the year in honor of Ann Kale. \nRefreshments and wine/beer will be served. \nLorie Dewhirst Porter will present a brief overview of some of the homes in her book\, Montecito Style. She will also discuss the importance of architecture in her life\, which began with growing up in a Mid-Century home in Los Angeles designed by architect Daniel N. Salerno.
URL:https://aiasb.com/event/women-in-architecture-6/
LOCATION:University Club of Santa Barbara\, 1332 Santa Barbara St\, Santa Barbara\, 93101\, United States
END:VEVENT
END:VCALENDAR