BEGIN:VCALENDAR
VERSION:2.0
PRODID:-//AIA Santa Barbara - ECPv6.15.20//NONSGML v1.0//EN
CALSCALE:GREGORIAN
METHOD:PUBLISH
X-WR-CALNAME:AIA Santa Barbara
X-ORIGINAL-URL:https://aiasb.com
X-WR-CALDESC:Events for AIA Santa Barbara
REFRESH-INTERVAL;VALUE=DURATION:PT1H
X-Robots-Tag:noindex
X-PUBLISHED-TTL:PT1H
BEGIN:VTIMEZONE
TZID:America/Los_Angeles
BEGIN:DAYLIGHT
TZOFFSETFROM:-0800
TZOFFSETTO:-0700
TZNAME:PDT
DTSTART:20230312T100000
END:DAYLIGHT
BEGIN:STANDARD
TZOFFSETFROM:-0700
TZOFFSETTO:-0800
TZNAME:PST
DTSTART:20231105T090000
END:STANDARD
BEGIN:DAYLIGHT
TZOFFSETFROM:-0800
TZOFFSETTO:-0700
TZNAME:PDT
DTSTART:20240310T100000
END:DAYLIGHT
BEGIN:STANDARD
TZOFFSETFROM:-0700
TZOFFSETTO:-0800
TZNAME:PST
DTSTART:20241103T090000
END:STANDARD
BEGIN:DAYLIGHT
TZOFFSETFROM:-0800
TZOFFSETTO:-0700
TZNAME:PDT
DTSTART:20250309T100000
END:DAYLIGHT
BEGIN:STANDARD
TZOFFSETFROM:-0700
TZOFFSETTO:-0800
TZNAME:PST
DTSTART:20251102T090000
END:STANDARD
END:VTIMEZONE
BEGIN:VEVENT
DTSTART;TZID=America/Los_Angeles:20240627T083000
DTEND;TZID=America/Los_Angeles:20240627T163000
DTSTAMP:20260424T072552
CREATED:20240531T171341Z
LAST-MODIFIED:20240531T171357Z
UID:9593-1719477000-1719505800@aiasb.com
SUMMARY:Disabled Access & Code Changes Forum
DESCRIPTION:On Thursday\, June 27\, 2024\, the City will host workshops presented by John Caprarelli\, P.E.\, CASp\, on accessibility requirements and regulations for businesses. Discussion topics will include: \nWhat accessibility laws apply to businesses?\nWhat elements of a business must be accessible to the disabled?\nWhat is the potential liability if a business does not comply?\nWhat about accessibility for outdoor dining in the right of way?\nWhat are the most common violations alleged in accessibility lawsuits?\nHow can I get my business evaluated?\nWhat are the changes in 2024 to the California Building Code regarding disabled access and how will they affect my business?\nA Question and Answer period will be included.\nWho Should Attend: Geared toward business operators and owners\, the workshops would also benefit architects\, designers\, contractors\, and those interested in accessibility laws. \nSessions: (Same info presented in each)\nMorning: 8:30am-12:00pm\nAfternoon: 1:00pm- 4:30pm\nThis is a free event open to the public. Seating is limited. Please visit the event site to register. \nEvent Questions: Please email AccessibilityTraining2024@SantaBarbaraCA.gov
URL:https://aiasb.com/event/disabled-access-code-changes-forum/
LOCATION:David Gebhard Meeting Room\, 630 Garden Street\, Santa Barbara\, CA\, 93101
END:VEVENT
BEGIN:VEVENT
DTSTART;VALUE=DATE:20240627
DTEND;VALUE=DATE:20240628
DTSTAMP:20260424T072552
CREATED:20240506T185806Z
LAST-MODIFIED:20240506T185806Z
UID:9538-1719446400-1719532799@aiasb.com
SUMMARY:General Meeting
DESCRIPTION:
URL:https://aiasb.com/event/general-meeting-14/
LOCATION:Fox Wine Co.\, 120 Santa Barbara St\, Santa Barbara\, CA\, 93101\, United States
CATEGORIES:General Meetings
END:VEVENT
BEGIN:VEVENT
DTSTART;TZID=America/Los_Angeles:20240618T171500
DTEND;TZID=America/Los_Angeles:20240618T184500
DTSTAMP:20260424T072552
CREATED:20240222T210859Z
LAST-MODIFIED:20240222T210859Z
UID:9365-1718730900-1718736300@aiasb.com
SUMMARY:ARE Study Group
DESCRIPTION:
URL:https://aiasb.com/event/are-study-group-5-2-2-2-2-2-2-3/
LOCATION:AIA Santa Barbara\, 229 E Victoria St\, Santa Barbara\, CA\, 93101\, United States
END:VEVENT
BEGIN:VEVENT
DTSTART;VALUE=DATE:20240605
DTEND;VALUE=DATE:20240609
DTSTAMP:20260424T072552
CREATED:20240506T180515Z
LAST-MODIFIED:20240506T180515Z
UID:9533-1717545600-1717891199@aiasb.com
SUMMARY:AIA Conference\, Washington DC
DESCRIPTION:
URL:https://aiasb.com/event/aia-conference-washington-dc/
CATEGORIES:Major Events
END:VEVENT
BEGIN:VEVENT
DTSTART;TZID=America/Los_Angeles:20240604T173000
DTEND;TZID=America/Los_Angeles:20240604T190000
DTSTAMP:20260424T072552
CREATED:20240117T185056Z
LAST-MODIFIED:20240313T191351Z
UID:9226-1717522200-1717527600@aiasb.com
SUMMARY:Women in Architecture
DESCRIPTION:
URL:https://aiasb.com/event/women-in-architecture-3/
CATEGORIES:Women in Architecture
END:VEVENT
BEGIN:VEVENT
DTSTART;TZID=America/Los_Angeles:20240604T171500
DTEND;TZID=America/Los_Angeles:20240604T184500
DTSTAMP:20260424T072552
CREATED:20240222T210840Z
LAST-MODIFIED:20240222T210840Z
UID:9363-1717521300-1717526700@aiasb.com
SUMMARY:ARE Study Group
DESCRIPTION:
URL:https://aiasb.com/event/are-study-group-5-2-2-2-2-2-2-2/
LOCATION:AIA Santa Barbara\, 229 E Victoria St\, Santa Barbara\, CA\, 93101\, United States
END:VEVENT
BEGIN:VEVENT
DTSTART;TZID=America/Los_Angeles:20240531T094500
DTEND;TZID=America/Los_Angeles:20240531T104500
DTSTAMP:20260424T072552
CREATED:20240320T201008Z
LAST-MODIFIED:20240320T201008Z
UID:9423-1717148700-1717152300@aiasb.com
SUMMARY:Higher Performance Residential Remodel
DESCRIPTION:
URL:https://aiasb.com/event/higher-performance-residential-remodel/
LOCATION:AIA Santa Barbara\, 229 E Victoria St\, Santa Barbara\, CA\, 93101\, United States
END:VEVENT
BEGIN:VEVENT
DTSTART;TZID=America/Los_Angeles:20240531T083000
DTEND;TZID=America/Los_Angeles:20240531T093000
DTSTAMP:20260424T072552
CREATED:20240320T200921Z
LAST-MODIFIED:20240320T200921Z
UID:9421-1717144200-1717147800@aiasb.com
SUMMARY:Practical Ways to Reduce Embodied Carbon
DESCRIPTION:
URL:https://aiasb.com/event/practical-ways-to-reduce-embodied-carbon/
LOCATION:AIA Santa Barbara\, 229 E Victoria St\, Santa Barbara\, CA\, 93101\, United States
END:VEVENT
BEGIN:VEVENT
DTSTART;TZID=America/Los_Angeles:20240529T170000
DTEND;TZID=America/Los_Angeles:20240529T170000
DTSTAMP:20260424T072552
CREATED:20240506T180401Z
LAST-MODIFIED:20240506T180401Z
UID:9531-1717002000-1717002000@aiasb.com
SUMMARY:ArchitecTours 2024 Submissions Due
DESCRIPTION:ArchitecTours 2024 submissions due at 5PM. 
URL:https://aiasb.com/event/architectours-2024-submissions-due/
END:VEVENT
BEGIN:VEVENT
DTSTART;TZID=America/Los_Angeles:20240522T170000
DTEND;TZID=America/Los_Angeles:20240522T213000
DTSTAMP:20260424T072552
CREATED:20240424T194629Z
LAST-MODIFIED:20240424T194629Z
UID:9496-1716397200-1716413400@aiasb.com
SUMMARY:Introduction to the Classical Orders: The Ionic Order
DESCRIPTION:Domiane Forte\, Instructor\n4 LU     $40\nThis fast-paced class provides an introduction to understanding and laying out classical architecture through a study of the Ionic Order. Students of all abilities will learn the proportions\, details and essential parts of classical architecture by laying out a column\, entablature\, and pediment. The class will end with a sketch problem combining these elements to create a classical door aedicula and a typical façade. Most importantly\, you will learn why the study of the classical orders is an essential foundation in study and practice of architecture whether traditional or contemporary.
URL:https://aiasb.com/event/introduction-to-the-classical-orders-the-ionic-order/
LOCATION:AIA Santa Barbara\, 229 E Victoria St\, Santa Barbara\, CA\, 93101\, United States
END:VEVENT
BEGIN:VEVENT
DTSTART;TZID=America/Los_Angeles:20240521T171500
DTEND;TZID=America/Los_Angeles:20240521T184500
DTSTAMP:20260424T072552
CREATED:20240222T210736Z
LAST-MODIFIED:20240222T210754Z
UID:9361-1716311700-1716317100@aiasb.com
SUMMARY:ARE Study Group
DESCRIPTION:
URL:https://aiasb.com/event/are-study-group-5-2-2-2-2-2-2/
LOCATION:AIA Santa Barbara\, 229 E Victoria St\, Santa Barbara\, CA\, 93101\, United States
END:VEVENT
BEGIN:VEVENT
DTSTART;TZID=America/Los_Angeles:20240515T120000
DTEND;TZID=America/Los_Angeles:20240515T130000
DTSTAMP:20260424T072552
CREATED:20240117T184853Z
LAST-MODIFIED:20240411T182933Z
UID:9220-1715774400-1715778000@aiasb.com
SUMMARY:Engineered Wood Products: A Carbon Solution
DESCRIPTION:1 LU/HSW\nThis course will cover how engineered wood can be instrumental in driving down embodied\ncarbon reducing the global warming potential for new construction. Attendees will gain an\nunderstanding of:\n+ The increasing importance of embodied carbon\n+ Timber’s role in building the carbon neutral future\n+ Engineered wood products and solutions\n+ Taking environmental benefit further with engineered wood
URL:https://aiasb.com/event/lunchtime-learning-redbuilt/
LOCATION:AIA Santa Barbara\, 229 E Victoria St\, Santa Barbara\, CA\, 93101\, United States
CATEGORIES:Lunchtime Learning
END:VEVENT
BEGIN:VEVENT
DTSTART;TZID=America/Los_Angeles:20240507T173000
DTEND;TZID=America/Los_Angeles:20240507T190000
DTSTAMP:20260424T072552
CREATED:20240117T185151Z
LAST-MODIFIED:20240410T173559Z
UID:9228-1715103000-1715108400@aiasb.com
SUMMARY:Women in Architecture: Tour of Santa Barbara Courthouse
DESCRIPTION:All welcome!\n1 LU/HSW\nMeet at 5:15PM under the great arch. \nJoin Serena Ettelson\, AIA\, Architect and Studio Director at Harrison Design\, on a tour of Santa Barbara’s iconic Courthouse. Learn about the courthouse’s history\, construction strategy\, and surprising secrets. Discuss how the courthouse addresses the city’s urban fabric\, and plays an influential role in Santa Barbara’s architectural dialogue. Serena is a docent at the Santa Barbara Courthouse and serves on the Courthouse Legacy Foundation. \n 
URL:https://aiasb.com/event/women-in-architecture-4/
LOCATION:Santa Barbara Courthouse\, 1100 Anacapa St.\, Santa Barbara\, United States
CATEGORIES:Women in Architecture
END:VEVENT
BEGIN:VEVENT
DTSTART;TZID=America/Los_Angeles:20240507T171500
DTEND;TZID=America/Los_Angeles:20240507T184500
DTSTAMP:20260424T072552
CREATED:20240222T210721Z
LAST-MODIFIED:20240222T210818Z
UID:9359-1715102100-1715107500@aiasb.com
SUMMARY:ARE Study Group
DESCRIPTION:
URL:https://aiasb.com/event/are-study-group-5-2-2-2-2-2/
LOCATION:AIA Santa Barbara\, 229 E Victoria St\, Santa Barbara\, CA\, 93101\, United States
END:VEVENT
BEGIN:VEVENT
DTSTART;TZID=America/Los_Angeles:20240503T094500
DTEND;TZID=America/Los_Angeles:20240503T104500
DTSTAMP:20260424T072552
CREATED:20240320T200835Z
LAST-MODIFIED:20240320T200835Z
UID:9419-1714729500-1714733100@aiasb.com
SUMMARY:Detailing for High Performance Roofs and Walls
DESCRIPTION:
URL:https://aiasb.com/event/detailing-for-high-performance-roofs-and-walls/
LOCATION:AIA Santa Barbara\, 229 E Victoria St\, Santa Barbara\, CA\, 93101\, United States
END:VEVENT
BEGIN:VEVENT
DTSTART;TZID=America/Los_Angeles:20240503T083000
DTEND;TZID=America/Los_Angeles:20240503T093000
DTSTAMP:20260424T072552
CREATED:20240320T200727Z
LAST-MODIFIED:20240320T201039Z
UID:9417-1714725000-1714728600@aiasb.com
SUMMARY:Higher Performance Envelope + Balanced Ventilation
DESCRIPTION:
URL:https://aiasb.com/event/higher-performance-envelope-balanced-ventilation-2/
LOCATION:AIA Santa Barbara\, 229 E Victoria St\, Santa Barbara\, CA\, 93101\, United States
END:VEVENT
BEGIN:VEVENT
DTSTART;TZID=America/Los_Angeles:20240424T120000
DTEND;TZID=America/Los_Angeles:20240424T130000
DTSTAMP:20260424T072552
CREATED:20240402T192653Z
LAST-MODIFIED:20240412T164555Z
UID:9444-1713960000-1713963600@aiasb.com
SUMMARY:Building with Hemp\, a general overview: Plant to Structure
DESCRIPTION:1 LU/HSW Pending\nLunch provided\nPresented by Amanda Martin-Behrendtsen\nLearn about hemp’s resilience\, energy efficiency\, and disaster mitigation in building practices in a concise overview.
URL:https://aiasb.com/event/building-with-hemp-a-general-overview-plant-to-structure/
LOCATION:AIA Santa Barbara\, 229 E Victoria St\, Santa Barbara\, CA\, 93101\, United States
CATEGORIES:Lunchtime Learning
END:VEVENT
BEGIN:VEVENT
DTSTART;TZID=America/Los_Angeles:20240423T171500
DTEND;TZID=America/Los_Angeles:20240423T184500
DTSTAMP:20260424T072552
CREATED:20240222T210658Z
LAST-MODIFIED:20240222T211122Z
UID:9357-1713892500-1713897900@aiasb.com
SUMMARY:ARE Study Group
DESCRIPTION:
URL:https://aiasb.com/event/are-study-group-5-2-2-2-2/
LOCATION:AIA Santa Barbara\, 229 E Victoria St\, Santa Barbara\, CA\, 93101\, United States
END:VEVENT
BEGIN:VEVENT
DTSTART;TZID=America/Los_Angeles:20240419T120000
DTEND;TZID=America/Los_Angeles:20240419T130000
DTSTAMP:20260424T072552
CREATED:20240408T172924Z
LAST-MODIFIED:20240410T173238Z
UID:9455-1713528000-1713531600@aiasb.com
SUMMARY:Lunchtime Learning: City of Santa Barbara Objective Design and Development
DESCRIPTION:1 LU\nPresented by Rosie Dyste\, Project Planner \nThe City of Santa Barbara’s draft ODDS (objective design and development standards) is in response to the CA state mandate to define ODS (objective design standards) intended to streamline multi-family housing project approvals. \nThe ODDS approach by the City goes beyond ODS by including development standards in addition to design standards. The draft is a multi layered form based code that prescribes detailed standards for multi-family housing development. It also includes an Architectural styles map which delineates where Mediterranean\, Craftsman and Contemporary styles would be allowed. \nCity planning staff including Rosie Dyste will provide an overview of the proposed ordinance for AIASB chapter members. The purpose is to educate about the ODDS initiative\, provide an opportunity for questions to be answered\, as well as provide input and feedback to City staff. Once adopted\, these standards may be more broadly utilized in response to changing State laws\, warranting AIASB’s careful attention.
URL:https://aiasb.com/event/lunchtime-learning-odds/
CATEGORIES:Lunchtime Learning
END:VEVENT
BEGIN:VEVENT
DTSTART;TZID=America/Los_Angeles:20240417T120000
DTEND;TZID=America/Los_Angeles:20240417T130000
DTSTAMP:20260424T072552
CREATED:20240117T184818Z
LAST-MODIFIED:20240412T161957Z
UID:9218-1713355200-1713358800@aiasb.com
SUMMARY:Lunchtime Learning: Floodplains
DESCRIPTION:Presented by Floodproofing.com\nLunch Provided\n1 LU/HSW\nIn this 1-hour course\, we’ll identify FEMA\, NFIP\, ASCE\, ICC and Building Code Standards that\npertain to flood hazard areas. The goal is to review the potential risk associated with building\nin the floodplain and the mitigation steps you can take to protect structures and maintain\nbusiness continuity. After the training\, attendees should have a thorough understanding of the\nfloodproofing options available as well as the recent updates and changes in the world of\nfloodplain design.
URL:https://aiasb.com/event/lunchtime-learning-smart-vent/
LOCATION:AIA Santa Barbara\, 229 E Victoria St\, Santa Barbara\, CA\, 93101\, United States
CATEGORIES:Lunchtime Learning
END:VEVENT
BEGIN:VEVENT
DTSTART;TZID=America/Los_Angeles:20240412T090000
DTEND;TZID=America/Los_Angeles:20240412T160000
DTSTAMP:20260424T072552
CREATED:20240320T194830Z
LAST-MODIFIED:20240320T194842Z
UID:9413-1712912400-1712937600@aiasb.com
SUMMARY:Deconstruction Workshop
DESCRIPTION:
URL:https://aiasb.com/event/deconstruction-workshop/
LOCATION:Mackenzie Center\, 3111 State Street\, Santa Barbara\, CA\, 93105\, United States
END:VEVENT
BEGIN:VEVENT
DTSTART;TZID=America/Los_Angeles:20240409T171500
DTEND;TZID=America/Los_Angeles:20240409T184500
DTSTAMP:20260424T072552
CREATED:20240222T210637Z
LAST-MODIFIED:20240222T210637Z
UID:9355-1712682900-1712688300@aiasb.com
SUMMARY:ARE Study Group
DESCRIPTION:
URL:https://aiasb.com/event/are-study-group-5-2-2-2/
LOCATION:AIA Santa Barbara\, 229 E Victoria St\, Santa Barbara\, CA\, 93101\, United States
END:VEVENT
BEGIN:VEVENT
DTSTART;TZID=America/Los_Angeles:20240404T173000
DTEND;TZID=America/Los_Angeles:20240404T193000
DTSTAMP:20260424T072552
CREATED:20240117T184706Z
LAST-MODIFIED:20240306T191626Z
UID:9215-1712251800-1712259000@aiasb.com
SUMMARY:AIASB General Meeting: Collaboration in the Age of AI
DESCRIPTION:
URL:https://aiasb.com/event/aiasb-general-meeting-at-soho/
LOCATION:Soho Restauraunt & Music Club\, 1221 State St STE 205\, Santa Barbara\, CA\, 93101\, United States
CATEGORIES:General Meetings
END:VEVENT
BEGIN:VEVENT
DTSTART;TZID=America/Los_Angeles:20240402T173000
DTEND;TZID=America/Los_Angeles:20240402T190000
DTSTAMP:20260424T072552
CREATED:20240117T185026Z
LAST-MODIFIED:20240320T194919Z
UID:9224-1712079000-1712084400@aiasb.com
SUMMARY:Women in Architecture: San Benito Student Housing Project at UCSB
DESCRIPTION:
URL:https://aiasb.com/event/women-in-architecture-2/
LOCATION:Mission Audio Video\, 1910 De La Vina St\, Santa Barbara\, CA\, 93101\, United States
CATEGORIES:Women in Architecture
END:VEVENT
BEGIN:VEVENT
DTSTART;TZID=America/Los_Angeles:20240328T173000
DTEND;TZID=America/Los_Angeles:20240328T193000
DTSTAMP:20260424T072552
CREATED:20240220T200537Z
LAST-MODIFIED:20240220T200537Z
UID:9331-1711647000-1711654200@aiasb.com
SUMMARY:Design Crawl with The Cearnal Collective LLP
DESCRIPTION:
URL:https://aiasb.com/event/design-crawl-with-cearnal-collective-3/
LOCATION:The Cearnal Collective LLP\, 521 1/2 State St\, Santa Barbara\, CA\, 93101\, United States
CATEGORIES:Emerging Professionals
END:VEVENT
BEGIN:VEVENT
DTSTART;TZID=America/Los_Angeles:20240326T171500
DTEND;TZID=America/Los_Angeles:20240326T184500
DTSTAMP:20260424T072552
CREATED:20240222T210509Z
LAST-MODIFIED:20240222T210519Z
UID:9353-1711473300-1711478700@aiasb.com
SUMMARY:ARE Study Group
DESCRIPTION:
URL:https://aiasb.com/event/are-study-group-5-2-2/
LOCATION:AIA Santa Barbara\, 229 E Victoria St\, Santa Barbara\, CA\, 93101\, United States
END:VEVENT
BEGIN:VEVENT
DTSTART;TZID=America/Los_Angeles:20240320T120000
DTEND;TZID=America/Los_Angeles:20240320T130000
DTSTAMP:20260424T072552
CREATED:20240117T184409Z
LAST-MODIFIED:20240117T184409Z
UID:9213-1710936000-1710939600@aiasb.com
SUMMARY:Lunchtime Learning at Mission Audio Video
DESCRIPTION:
URL:https://aiasb.com/event/lunchtime-learning-at-mission-audio-video/
LOCATION:Mission Audio Video\, 1910 De La Vina St\, Santa Barbara\, CA\, 93101\, United States
CATEGORIES:Lunchtime Learning
END:VEVENT
BEGIN:VEVENT
DTSTART;TZID=America/Los_Angeles:20240312T171500
DTEND;TZID=America/Los_Angeles:20240312T184500
DTSTAMP:20260424T072552
CREATED:20240222T210434Z
LAST-MODIFIED:20240222T210543Z
UID:9351-1710263700-1710269100@aiasb.com
SUMMARY:ARE Study Group
DESCRIPTION:
URL:https://aiasb.com/event/are-study-group-5-2/
LOCATION:AIA Santa Barbara\, 229 E Victoria St\, Santa Barbara\, CA\, 93101\, United States
END:VEVENT
BEGIN:VEVENT
DTSTART;TZID=America/Los_Angeles:20240305T171500
DTEND;TZID=America/Los_Angeles:20240305T184500
DTSTAMP:20260424T072552
CREATED:20240117T184951Z
LAST-MODIFIED:20240206T181339Z
UID:9222-1709658900-1709664300@aiasb.com
SUMMARY:Women in Architecture at AIASB
DESCRIPTION:Guest Speaker: Lois Phillips\, Author of 9 Fast & Flawless Presentations for Women Speakers \nMore details to follow.
URL:https://aiasb.com/event/women-in-architecture/
LOCATION:AIA Santa Barbara\, 229 E Victoria St\, Santa Barbara\, CA\, 93101\, United States
CATEGORIES:Women in Architecture
END:VEVENT
BEGIN:VEVENT
DTSTART;TZID=America/Los_Angeles:20240305T120000
DTEND;TZID=America/Los_Angeles:20240305T133000
DTSTAMP:20260424T072552
CREATED:20240222T205919Z
LAST-MODIFIED:20240222T205919Z
UID:9342-1709640000-1709645400@aiasb.com
SUMMARY:County of Santa Barbara Process Improvement Overviews & Updates
DESCRIPTION:The County of Santa Barbara Planning & Development\, including representatives from Planning and Building & Safety to share updates in the Accela transition\, plan check review\, and inter-agency review and coordination. There will be a Q&A segment at the end of the session.
URL:https://aiasb.com/event/county-of-santa-barbara-process-improvement-overviews-updates/
LOCATION:Planning Commission Hearing Room\, 123 East Anapamu St\, Santa Barbara\, CA\, 93101\, United States
END:VEVENT
END:VCALENDAR