BEGIN:VCALENDAR
VERSION:2.0
PRODID:-//AIA Santa Barbara - ECPv6.15.20//NONSGML v1.0//EN
CALSCALE:GREGORIAN
METHOD:PUBLISH
X-WR-CALNAME:AIA Santa Barbara
X-ORIGINAL-URL:https://aiasb.com
X-WR-CALDESC:Events for AIA Santa Barbara
REFRESH-INTERVAL;VALUE=DURATION:PT1H
X-Robots-Tag:noindex
X-PUBLISHED-TTL:PT1H
BEGIN:VTIMEZONE
TZID:America/Los_Angeles
BEGIN:DAYLIGHT
TZOFFSETFROM:-0800
TZOFFSETTO:-0700
TZNAME:PDT
DTSTART:20240310T100000
END:DAYLIGHT
BEGIN:STANDARD
TZOFFSETFROM:-0700
TZOFFSETTO:-0800
TZNAME:PST
DTSTART:20241103T090000
END:STANDARD
BEGIN:DAYLIGHT
TZOFFSETFROM:-0800
TZOFFSETTO:-0700
TZNAME:PDT
DTSTART:20250309T100000
END:DAYLIGHT
BEGIN:STANDARD
TZOFFSETFROM:-0700
TZOFFSETTO:-0800
TZNAME:PST
DTSTART:20251102T090000
END:STANDARD
BEGIN:DAYLIGHT
TZOFFSETFROM:-0800
TZOFFSETTO:-0700
TZNAME:PDT
DTSTART:20260308T100000
END:DAYLIGHT
BEGIN:STANDARD
TZOFFSETFROM:-0700
TZOFFSETTO:-0800
TZNAME:PST
DTSTART:20261101T090000
END:STANDARD
END:VTIMEZONE
BEGIN:VEVENT
DTSTART;TZID=America/Los_Angeles:20250603T173000
DTEND;TZID=America/Los_Angeles:20250603T184500
DTSTAMP:20260423T204440
CREATED:20250114T201602Z
LAST-MODIFIED:20250508T164803Z
UID:10317-1748971800-1748976300@aiasb.com
SUMMARY:Watercolor Class with Alex Stypa
DESCRIPTION:Tuesday\, June 3rd @ 5:30 PM\nWatercolor Class with Alexis Stypa\nhttps://www.stypastudio.com/ 
URL:https://aiasb.com/event/june-women-in-architecture/
LOCATION:CA
END:VEVENT
BEGIN:VEVENT
DTSTART;TZID=America/Los_Angeles:20250610T183000
DTEND;TZID=America/Los_Angeles:20250610T200000
DTSTAMP:20260423T204440
CREATED:20250114T205239Z
LAST-MODIFIED:20250610T223613Z
UID:10357-1749580200-1749585600@aiasb.com
SUMMARY:Emerging Professionals ARE Study Prep
DESCRIPTION:Open to all! \nStudy groups occur every 2 weeks.
URL:https://aiasb.com/event/emerging-professionals-are-study-prep-2-2-2-2-3-2-3-2-2/
LOCATION:AIA Santa Barbara\, 229 E Victoria St\, Santa Barbara\, CA\, 93101\, United States
END:VEVENT
BEGIN:VEVENT
DTSTART;TZID=America/Los_Angeles:20250612T173000
DTEND;TZID=America/Los_Angeles:20250612T193000
DTSTAMP:20260423T204440
CREATED:20250515T163656Z
LAST-MODIFIED:20250515T163656Z
UID:10673-1749749400-1749756600@aiasb.com
SUMMARY:Firm Open House at Ashley & Vance Engineering
DESCRIPTION:About Ashley & Vance Engineering\nSince 2005\, Ashley & Vance Engineering (AV) has helped turn creative ideas into buildable projects by combining real-world construction knowledge with practical engineering. Our project teams are known for delivering cost-effective\, on-time designs shaped by the hands-on experience of our principals. We’re good listeners who put ourselves in our clients’ shoes to find the best path forward—together. \nWith skilled people and the latest tools\, we offer the resources of a larger firm with the efficiency of a smaller one. Our strong local presence in each of our office locations helps us build lasting relationships and deliver thoughtful solutions. We provide civil and structural engineering services from entitlements to construction documents\, with experience across a wide range of project types\, including housing\, multifamily\, RCFE\, hotels\, wineries\, resorts\, public works\, infrastructure\, industrial\, education\, OSHPD\, DSA\, and aerospace.
URL:https://aiasb.com/event/firm-open-house-at-av/
LOCATION:Ashley and Vance\, 210 E Cota St\, Santa Barbara\, 93101\, United States
CATEGORIES:Emerging Professionals
END:VEVENT
BEGIN:VEVENT
DTSTART;TZID=America/Los_Angeles:20250618T120000
DTEND;TZID=America/Los_Angeles:20250618T130000
DTSTAMP:20260423T204440
CREATED:20250422T183931Z
LAST-MODIFIED:20250422T183931Z
UID:10626-1750248000-1750251600@aiasb.com
SUMMARY:KBKG Lunch & Learn
DESCRIPTION:Energy Policy Act (EPACT) and Architecture\n1 LU \nLunch Provided! No charge for members \nJoin us for a discussion of the section 179D Deduction and how it can benefit architectural firms. We will be discussing the background of this powerful green building deduction as well as the recent changes created by the Inflation Reduction Act of 2022. This will include details about both the expansion and the increased impact of 179D going forward. We will also discuss the alternative qualification path known as the Retrofit Program and what this new path means for Architects\, building owners\, and other designers of buildings. Attendees will also learn who is eligible to receive these benefits\, what is required as part of the qualification calculations\, and which green energy strategies are eligible. \nLEARNING OBJECTIVES: \n\n\n-Overview of the 179D Deduction \n-Overview of the Retrofit Program for 179D \n-The expansion and the increased impact of 179D in future years \n-What the Inflation Reduction Act means for building owners and designers of buildings \n-How to qualify for the bonus rate (up to $5.00 per square foot) vs. the base rate (up to $1.00 per square foot)
URL:https://aiasb.com/event/kbkg/
LOCATION:AIA Santa Barbara\, 229 E Victoria St\, Santa Barbara\, CA\, 93101\, United States
END:VEVENT
BEGIN:VEVENT
DTSTART;TZID=America/Los_Angeles:20250619T173000
DTEND;TZID=America/Los_Angeles:20250619T200000
DTSTAMP:20260423T204440
CREATED:20250605T171323Z
LAST-MODIFIED:20250605T171323Z
UID:10704-1750354200-1750363200@aiasb.com
SUMMARY:AIASB General Meeting
DESCRIPTION:June 19th \n5.30PM-8.30PM \nAppetizers Provided \nJoin us for an exciting and relaxed evening at our upcoming general meeting\, hosted by Fox Wine Co! Whether you’re a long-time member or new to the chapter\, this is a great opportunity to meet and connect with fellow architecture and design professionals.
URL:https://aiasb.com/event/june-general-meeting/
LOCATION:Fox Wine Co.\, 120 Santa Barbara St\, Santa Barbara\, CA\, 93101\, United States
END:VEVENT
BEGIN:VEVENT
DTSTART;TZID=America/Los_Angeles:20250624T183000
DTEND;TZID=America/Los_Angeles:20250624T200000
DTSTAMP:20260423T204440
CREATED:20250114T205315Z
LAST-MODIFIED:20250610T223653Z
UID:10361-1750789800-1750795200@aiasb.com
SUMMARY:Emerging Professionals ARE Study Prep
DESCRIPTION:Open to all! \nStudy groups occur every 2 weeks.
URL:https://aiasb.com/event/emerging-professionals-are-study-prep-2-2-2-2-3-2-3-2-2-2-2/
LOCATION:AIA Santa Barbara\, 229 E Victoria St\, Santa Barbara\, CA\, 93101\, United States
END:VEVENT
BEGIN:VEVENT
DTSTART;TZID=America/Los_Angeles:20250629T170000
DTEND;TZID=America/Los_Angeles:20250629T200000
DTSTAMP:20260423T204440
CREATED:20250425T203358Z
LAST-MODIFIED:20250425T203358Z
UID:10634-1751216400-1751227200@aiasb.com
SUMMARY:1925 Earthquake Symposium
DESCRIPTION:
URL:https://aiasb.com/event/1925-earthquake-symposium/
LOCATION:CA
END:VEVENT
END:VCALENDAR