BEGIN:VCALENDAR
VERSION:2.0
PRODID:-//AIA Santa Barbara - ECPv6.15.20//NONSGML v1.0//EN
CALSCALE:GREGORIAN
METHOD:PUBLISH
X-ORIGINAL-URL:https://aiasb.com
X-WR-CALDESC:Events for AIA Santa Barbara
REFRESH-INTERVAL;VALUE=DURATION:PT1H
X-Robots-Tag:noindex
X-PUBLISHED-TTL:PT1H
BEGIN:VTIMEZONE
TZID:America/Los_Angeles
BEGIN:DAYLIGHT
TZOFFSETFROM:-0800
TZOFFSETTO:-0700
TZNAME:PDT
DTSTART:20240310T100000
END:DAYLIGHT
BEGIN:STANDARD
TZOFFSETFROM:-0700
TZOFFSETTO:-0800
TZNAME:PST
DTSTART:20241103T090000
END:STANDARD
BEGIN:DAYLIGHT
TZOFFSETFROM:-0800
TZOFFSETTO:-0700
TZNAME:PDT
DTSTART:20250309T100000
END:DAYLIGHT
BEGIN:STANDARD
TZOFFSETFROM:-0700
TZOFFSETTO:-0800
TZNAME:PST
DTSTART:20251102T090000
END:STANDARD
BEGIN:DAYLIGHT
TZOFFSETFROM:-0800
TZOFFSETTO:-0700
TZNAME:PDT
DTSTART:20260308T100000
END:DAYLIGHT
BEGIN:STANDARD
TZOFFSETFROM:-0700
TZOFFSETTO:-0800
TZNAME:PST
DTSTART:20261101T090000
END:STANDARD
END:VTIMEZONE
BEGIN:VEVENT
DTSTART;TZID=America/Los_Angeles:20250805T173000
DTEND;TZID=America/Los_Angeles:20250805T190000
DTSTAMP:20260423T181203
CREATED:20250114T202050Z
LAST-MODIFIED:20250820T164952Z
UID:10321-1754415000-1754420400@aiasb.com
SUMMARY:Women in Architecture
DESCRIPTION:Join us for a watercolor class at the Sunken Gardens at the Santa Barbara Courthouse for our August WIA gathering with Alexis Stypa\, architectural designer at Harrison Design and founder of Stypa Studio. Alexis is experienced in architectural and landscape watercolors and has led workshops across the world. We will meet at the Sunken Gardens at 5:30pm. We will have extra blankets and supplies but encourage you to bring any personal painting supplies and folding chair to be comfortable. In case of inclement weather\, we will email the registrants with an alternate interior location.
URL:https://aiasb.com/event/women-in-architecture-alexis-stypa/
LOCATION:Santa Barbara Courthouse\, 1100 Anacapa St.\, Santa Barbara\, United States
END:VEVENT
BEGIN:VEVENT
DTSTART;TZID=America/Los_Angeles:20250805T181500
DTEND;TZID=America/Los_Angeles:20250805T201500
DTSTAMP:20260423T181203
CREATED:20250114T205639Z
LAST-MODIFIED:20250612T171439Z
UID:10365-1754417700-1754424900@aiasb.com
SUMMARY:Emerging Professionals ARE Study Prep
DESCRIPTION:Open to all! \nStudy groups occur every 2 weeks.
URL:https://aiasb.com/event/emerging-professionals-are-study-prep-2-2-2-2-2-2/
LOCATION:AIA Santa Barbara\, 229 E Victoria St\, Santa Barbara\, CA\, 93101\, United States
END:VEVENT
BEGIN:VEVENT
DTSTART;TZID=America/Los_Angeles:20250813T180000
DTEND;TZID=America/Los_Angeles:20250813T193000
DTSTAMP:20260423T181203
CREATED:20250820T165305Z
LAST-MODIFIED:20250820T165305Z
UID:10752-1755108000-1755113400@aiasb.com
SUMMARY:Global Design Series: Singapore's Progressive Urban Planning
DESCRIPTION:Join us for a compelling presentation where Emerging Professionals share their perspectives on architectural trends shaping the U.S. and the world. Each session features a presentation by one of our Emerging Professionals\, followed by an open discussion exploring the architectural trend through the lens of Santa Barbara\, California. This is an opportunity to foster dialogue between young voices and the broader architectural community on the global influences that shape our built environment. Our goal is to get everyone involved and participating in the conversation.\n \n\nPlease\, join us on August 13th as Sreypich Ly dives into Singapore’s architectural history and its progressive urban planning\, with a focus on the innovative public housing\, HDB model. We invite you to share your ideas\, insights\, and input on how Singapore’s creative policies\, mixed-use planning\, and transit-oriented development can inspire a more inclusive and vibrant future for Santa Barbara. Come connect\, discuss\, and help shape our community’s vision!
URL:https://aiasb.com/event/global-design-series-2/
LOCATION:Mission Audio Video\, 1910 De La Vina St\, Santa Barbara\, CA\, 93101\, United States
CATEGORIES:Emerging Professionals
END:VEVENT
BEGIN:VEVENT
DTSTART;TZID=America/Los_Angeles:20250819T181500
DTEND;TZID=America/Los_Angeles:20250819T201500
DTSTAMP:20260423T181203
CREATED:20250114T205734Z
LAST-MODIFIED:20250612T171451Z
UID:10369-1755627300-1755634500@aiasb.com
SUMMARY:Emerging Professionals ARE Study Prep
DESCRIPTION:Open to all! \nStudy groups occur every 2 weeks.
URL:https://aiasb.com/event/emerging-professionals-are-study-prep-2-2-2-2-2-2-2/
LOCATION:AIA Santa Barbara\, 229 E Victoria St\, Santa Barbara\, CA\, 93101\, United States
END:VEVENT
BEGIN:VEVENT
DTSTART;TZID=America/Los_Angeles:20250820T120000
DTEND;TZID=America/Los_Angeles:20250820T130000
DTSTAMP:20260423T181203
CREATED:20250820T165805Z
LAST-MODIFIED:20250820T165933Z
UID:10754-1755691200-1755694800@aiasb.com
SUMMARY:Lunch & Learn: Designed to Disappear
DESCRIPTION:Designed to Disappear\nPresented by Sonance\nThis course will introduce the builder\, designer\, or architect to the benefits of hiding technology into the design and architecture of a project. The course will begin by defining the luxury experience in residential design. It will then dive deeper into audio and lighting as elements that influence the luxury experience. Finally\, the course will present solutions for hiding these and other technologies into design and architecture. \nLearning Objectives\n-To define the luxury experience in the residential space. \n-To draw parallels between lighting and audio design. \n-To establish audio as a benefit to the way people experience their homes. \n-To explore solutions and ways to hide technology into architecture and interior design. \n 
URL:https://aiasb.com/event/lunch-learn-ccav/
LOCATION:AIA Santa Barbara\, 229 E Victoria St\, Santa Barbara\, CA\, 93101\, United States
END:VEVENT
BEGIN:VEVENT
DTSTART;TZID=America/Los_Angeles:20250821T173000
DTEND;TZID=America/Los_Angeles:20250821T193000
DTSTAMP:20260423T181203
CREATED:20250820T170321Z
LAST-MODIFIED:20250820T172150Z
UID:10756-1755797400-1755804600@aiasb.com
SUMMARY:Emerging Professionals Firm Open House with Studio 7
DESCRIPTION:About Studio 7\nStudio 7 was established to provide a collaborative design environment with a focus on local residential projects . Architectural solutions are enriched through experiences in allied arts including furniture\, hardware and lighting. A technical and artistic compliment to each project is assembled from established  partnerships. We maintain a small staff of balanced and complimentary skills. The single team model allows us to provide intimate personal service to carefully selected projects. \n 
URL:https://aiasb.com/event/ep-open-house-studio-7/
LOCATION:Studio 7 Architecture & Allied Arts\, 112 East De La Guerra Street\, Santa Barbara\, CA\, 93101\, United States
CATEGORIES:Emerging Professionals
END:VEVENT
BEGIN:VEVENT
DTSTART;TZID=America/Los_Angeles:20250827T170000
DTEND;TZID=America/Los_Angeles:20250827T180000
DTSTAMP:20260423T181203
CREATED:20250820T180625Z
LAST-MODIFIED:20250820T180625Z
UID:10764-1756314000-1756317600@aiasb.com
SUMMARY:Hard Hat Tour: Park Hill Lane
DESCRIPTION:Park Hill Lane \nExperience an exclusive behind-the-walls tour of a hillside custom residence by Studio William Hefner. Featuring 18’ retaining walls\, butterfly roof framing\, extensive structural steel\, solar power\, a backup generator\, and a ¼-mile driveway\, this project offers a masterclass in modern hillside construction. Attendees will gain firsthand insight into advanced MEP installations\, review detailed framing inspections\, and explore the strategic positioning of a home on challenging terrain. \n  \nEric Johnson with Allen Construction and Karl Kraus with SWH \n\nArchitect: Studio William Hefner\, Karl Kraus\, AIA\nConstruction Company: Allen Contruction
URL:https://aiasb.com/event/hard-hat-tour-park-hill/
LOCATION:CA
CATEGORIES:Emerging Professionals
END:VEVENT
END:VCALENDAR